{"text_format":"1","workbook":"xlsx","n_sheets":7,"sheets":["Üldine info","Tootmine","Vormiosakond","Peterburi tee","KOKKU","Artikli kirjeldus","Lao määramine"],"not_rendered":{"charts":1,"images":0,"macros":1,"external_links":0,"defined_names":0,"comments":1,"pivot_tables":0},"unopened":[],"bounds":{"document_bytes":16777216,"sheet_cells":100000,"rows_first":2000,"rows_last":500,"rows_between":2000,"halvings":0,"cell_chars":16384,"cell_head_chars":4096},"cells_cut":0,"cells_raw":0,"read":"whole","date_system":"1900"}

{"sheet":"Üldine info","index":0,"n_rows":13,"n_cols":5,"rows_kept":13,"cut":false,"hidden":false,"merged":[[5,3,5,4],[6,3,6,4],[0,1,0,12],[4,3,4,4],[3,3,3,4],[2,1,2,4]]}
[null,"LADUDE HALDUS ver. 5"]
[]
[null,"Kauba leidmine laost"]
[null,null,"Artikkel","Kirjeldus"]
[null,"Sisesta artikkel mida otsid","033-085R-U1",{"$f":"'Artikli kirjeldus'!D1395","v":"Valamu SK 2329L-83, U1"}]
[null,"Alus asub alusekohas",{"$f":"IF(KOKKU!K307=\"\",\"EI OLE\",KOKKU!K307)","v":"4A024"},{"$f":"'Lao määramine'!D10","v":"Peterburi ladu"}]
[null,"Teise alusekoha nimi",{"$f":"IF(KOKKU!K308=\"\",\"Ühel kohal\",KOKKU!K308)","v":"4A023"},{"$f":"IF(C7=\"Ühel kohal\",\"\",D6)","v":"Peterburi ladu"}]
[]
[]
[null,"Kirjeldus","Tootmine","Vorm.","Peterbur."]
[null,"laos on alusekohti",{"$f":"Tootmine!B101","v":98},{"$f":"Vormiosakond!B23","v":20},1400]
[null,"Laos on vorme kokku",{"$f":"Tootmine!C101","v":34},{"$f":"Vormiosakond!C23","v":16},{"$f":"'Peterburi tee'!C188","v":1196}]
[null,"Lao täituvus",{"$f":"C12/C11","v":0.34693877551020408},{"$f":"D12/D11","v":0.8},{"$f":"E12/E11","v":0.85428571428571431}]

{"sheet":"Tootmine","index":1,"n_rows":101,"n_cols":3,"rows_kept":101,"cut":false,"hidden":false,"merged":[]}
[]
[null,"Koht","Vorm"]
[null,"1XXXX","038-634/3-U1"]
[null,"1XXXX","038E-072C-U1"]
[null,"1XXXX","038E-132C-U1"]
[null,"1XXXX","038-GB128C-U1"]
[null,"1XXXX","038-GB128L-U1"]
[null,"1XXXX"]
[null,"1XXXX","038-P612/1-U1"]
[null,"1XXXX","038-P618/1-U1"]
[null,"1XXXX"]
[null,"1XXXX","038-P626/1-U1"]
[null,"1XXXX"]
[null,"1XXXX","038-P626/3-U1"]
[null,"1XXXX","038-P634/1-U1"]
[null,"1XXXX"]
[null,"1XXXX"]
[null,"1XXXX"]
[null,"1XXXX"]
[null,"1XXXX"]
[null,"1XXXX","038-T634-U1"]
[null,"1XXXX","039-060C-U1"]
[null,"1XXXX","040-100L-U1"]
[null,"1XXXX","040-100R-U1"]
[null,"1XXXX","050-185L-U1"]
[null,"1XXXX","050-185R-U1"]
[null,"1XXXX","050-215L-U1"]
[null,"1XXXX","050-215R-U1"]
[null,"1XXXX","06999-U1"]
[null,"1XXXX","090-291-U1"]
[null,"1XXXX","1005-053C2-U1"]
[null,"1XXXX","1005-053C-U1"]
[null,"1XXXX","1005-060C-U1"]
[null,"1XXXX","1005-080C-U1"]
[null,"1XXXX","1005-090L-U1"]
[null,"1XXXX","1005-090R-U1"]
[null,"1XXXX"]
[null,"1XXXX","038-GB128R-U1"]
[null,"1XXXX"]
[null,"1XXXX","038-P626/2-U1"]
[null,"1XXXX"]
[null,"1XXXX","038-P618/2-U1"]
[null,"1XXXX"]
[null,"1XXXX"]
[null,"1XXXX","038-P634/2-U1"]
[null,"1XXXX","038-P634/3-U1"]
[null,"1XXXX","038-P634/4-U1"]
[null,"1XXXX","038-P634/5-U1"]
[null,"1XXXX","038-T600-U1"]
[null,"1XXXX"]
[null,"1XXXX"]
[null,"1XXXX"]
[null,"1XXXX"]
[null,"1XXXX"]
[null,"1XXXX"]
[null,"1XXXX"]
[null,"1XXXX"]
[null,"1XXXX"]
[null,"1XXXX"]
[null,"1XXXX"]
[null,"1XXXX"]
[null,"1XXXX"]
[null,"1XXXX"]
[null,"1XXXX"]
[null,"1XXXX"]
[null,"1XXXX"]
[null,"1XXXX"]
[null,"1XXXX"]
[null,"1XXXX"]
[null,"1XXXX"]
[null,"1XXXX"]
[null,"1XXXX"]
[null,"1XXXX"]
[null,"1XXXX"]
[null,"1XXXX"]
[null,"1XXXX"]
[null,"1XXXX"]
[null,"1XXXX"]
[null,"1XXXX"]
[null,"1XXXX"]
[null,"1XXXX"]
[null,"1XXXX"]
[null,"1XXXX"]
[null,"1XXXX"]
[null,"1XXXX"]
[null,"1XXXX"]
[null,"1XXXX"]
[null,"1XXXX"]
[null,"1XXXX"]
[null,"1XXXX"]
[null,"1XXXX"]
[null,"1XXXX"]
[null,"1XXXX"]
[null,"1XXXX"]
[null,"1XXXX"]
[null,"1XXXX"]
[null,"1XXXX"]
[null,"1XXXX"]
[null,"1XXXX"]
[null,"1XXXX"]
["KOKKU",{"$f":"COUNTA(B3:B100)","v":98},{"$f":"COUNTA(C3:C100)","v":34}]

{"sheet":"Vormiosakond","index":2,"n_rows":23,"n_cols":3,"rows_kept":23,"cut":false,"hidden":false,"merged":[]}
[]
[null,"Koht","Vorm"]
[null,"3XXXX","1038-626/2-U1"]
[null,"3XXXX","1038-626/3-U1"]
[null,"3XXXX"]
[null,"3XXXX","1038-630/2-U1"]
[null,"3XXXX"]
[null,"3XXXX","1038-634/1-U1"]
[null,"3XXXX","1038-634/2-U1"]
[null,"3XXXX","1038-634/3-U1"]
[null,"3XXXX","1038-GB128L-U1"]
[null,"3XXXX","1038-GB128R-U1"]
[null,"3XXXX","1038-P612/1-U1"]
[null,"3XXXX","1038-P618/1-U1"]
[null,"3XXXX","1038-P618/2-U1"]
[null,"3XXXX"]
[null,"3XXXX","1038-P626/2-U1"]
[null,"3XXXX","1038-P626/3-U1"]
[null,"3XXXX"]
[null,"3XXXX","1038-P634/2-U1"]
[null,"3XXXX","1038-P634/3-U1"]
[null,"3XXXX","1038-P634/4-U1"]
["KOKKU",{"$f":"COUNTA(B3:B22)","v":20},{"$f":"COUNTA(C3:C22)","v":16}]

{"sheet":"Peterburi tee","index":3,"n_rows":188,"n_cols":10,"rows_kept":188,"cut":false,"hidden":false,"merged":[[187,2,187,9]]}
[]
[null,"Riiul","Vorm 1","Vorm 2","Vorm 3","Vorm 4","Vorm 5","Vorm 6","Vorm 7","Vorm 8"]
[null,"4A011","005-053C2-U1","022-132R2-U1","032-SN070-U1","038-512/1-U1","1025-T060-U1","1036-140/2-U1","2024-150C-U1","2036-098RS-U1"]
[null,"4A012","005-053C-U1","022-132R3-U1","032-SN080-U1","038-51440C-U1","1025-V100L-U1","1036-142L-U1","2024-A040-U1","2036-099L-U1"]
[null,"4A013","005-060C-U1","022-150L0-U1","032-SN100-U1","038-51440CX-U1","1025-V100R-U1","1036-142R-U1","2024-A080-U1","2036-099R-U1"]
[null,"4A014","005-080C-U1","022-150L1-U1","032-SN120-U1","038-524/1-U1","1026-059C-U1","1036-143A-U1","2024-T060C-U1","2036-109LS-U1"]
[null,"4A021","005-090L-U1","022-150L2-U1","033-082L-U1","038-524/2-U1","1026-060C-U1","1036-180/3-U1","2024-T080C-U1","2036-109L-U1"]
[null,"4A022","005-090R-U1","022-150L3-U1","033-082R-U1","038-524/3-U1","1026-E060-U1","1036-210/3-U1","2024-T100L-U1","2036-109RS-U1"]
[null,"4A023","005-100L-U1","022-150L4-U1","033-085R-U1","038-541600CE-U1","1026-E080-U1","1036-495L-U1","2024-T100R-U1","2036-109R-U1"]
[null,"4A024",null,"022-150L6-U1","033-085R-U1","038-541600C-U1","1026-F200-U1","1036-T090-U1","2024-T120C/2-U1","2036-120/2.1.-U1"]
[null,"4A031","005-120C-U1",null,"034-010C-U1","038-612/1-U1","1026-S060-U1","1036-T120-U1","2024-T120C-U1","2036-120/2-U1"]
[null,"4A032","005-120L-U1","022-150L8-U1",null,"038-61400C-U1","1026-S080-U1","1036-W120/2-U1","2024-T120L-U1","2036-120L-U1"]
[null,"4A033","005-120R-U1","022-150L9-U1","034-062C-U1",null,"1026-SS060-U1","1037-070C-U1","2024-T120R-U1","2036-120R-U1"]
[null,"4A034","005-140C-U1","022-150LE4-U1","034-092L-U1",null,"1026-XS060-U1","1037-090L-U1","2024-T160L-U1","2036-124L-U1"]
[null,"4A041","005-150D-U1",null,null,null,"1026-XS080-U1","1037-090R-U1","2024-T160R-U1","2036-124R-U1"]
[null,"4A042","005-180C-U1",null,"034-114L-U1","038-624/2-U1","1027-090C-U1","1037-110C-U1","2025-040C-U1","2036-140/2-U1"]
[null,"4A043","005-180L-U1",null,"034-114R-U1","038-626/1-U1","1027-120C-U1","1037-120L-U1","2025-C70C-U1","2036-142L-U1"]
[null,"4A044","005-180R-U1",null,"034-124L-U1","038-626/2-U1","1027-150/2-U1","1037-120R-U1","2025-T030-U1","2036-142R-U1"]
[null,"4A051","005E-053C-U1","022-150PL6-U1","034-124R-U1","038-626/3-U1","1027-M090C-U1","1037-150/2-U1","2025-T060-U1","2036-143A-U1"]
[null,"4A052",null,"022-150PL7-U1","034-A082L-U1","038-630/1-U1","1027-M120C-U1","1037-240/3-U1","2025-V100L-U1","2036-180/3-U1"]
[null,"4A053",null,"022-150PL8-U1","034-A082R-U1","038-630/2-U1","1027-M150/2-U1","1038-050C-U1","2025-V100R-U1","2036-210/3-U1"]
[null,"4A054","005E-090L-U1","022-150PL9-U1","034-A105L-U1","038-630/3-U1","1028-033C-U1","1038-070C-U1","2026-059C-U1","2036-495L-U1"]
[null,"4A061",null,"022-150PLE6-U1","034-A105R-U1","038-634/1-U1","1028-037SL-U1","1038-072C-U1","2026-060C-U1","2036-T090-U1"]
[null,"4A062",null,"022-150PR0-U1","034-A124L-U1","038-634/2-U1","1028-037SR-U1","1038-088C-U1","2026-E060-U1","2036-T120-U1"]
[null,"4A063","005E-100R-U1",null,null,null,"1028-044C-U1",null,"2026-E080-U1","2036-W120/2-U1"]
[null,"4A064","005E-120C-U1","022-150PR2-U1","034-HR025S-U1",null,"1028-050L-U1",null,null,"2037-070C-U1"]
[null,"4A071","005E-120L-U1","022-150PR3-U1","034-HR035S-U1",null,"1028-050R-U1","1038-100C-U1","2026-S060-U1"]
[null,"4A072","005E-120R-U1","022-150PR4-U1","034-HR050S-U1",null,"1028-078C-U1","1038-104C-U1","2026-S080-U1","2037-090R-U1"]
[null,"4A073","005E-140C-U1","022-150PR6-U1","034-HR060S-U1",null,"1028-078SL-U1","1038-106C-U1","2026-SS060-U1","2037-110C-U1"]
[null,"4A074","005E-180C-U1","022-150PR7-U1","034-HR070S-U1",null,null,"1038-120C-U1","2026-XS060-U1","2037-120L-U1"]
[null,"4A081","005E-180L-U1","022-150PR8-U1","034-HR143L-U1",null,null,null,"2026-XS080-U1","2037-120R-U1"]
[null,"4A082","005E-180R-U1","022-150PR9-U1","034-HR143R-U1",null,"1028-090L-U1","1038-128L-U1",null,"2037-150/2-U1"]
[null,"4A083",null,"022-150PRE6-U1","034-HR185L-U1",null,"1028-090R-U1","1038-128R/2-U1",null,"2037-240/3-U1"]
[null,"4A084","007-150C-U1","022-150R0-U1","034-HR192L-U1",null,"1028-100L/0-U1","1038-128R-U1",null,"2038-050C-U1"]
[null,"4A091","007-170C-U1","022-150R1-U1","034-HR192R-U1",null,"1028-100L-U1","1038-130C-U1","2027-M090C-U1","2038-070C-U1"]
[null,"4A092","008-060C-U1",null,"034-HR220L-U1",null,"1028-100R/0-U1","1038-132C-U1","2027-M120C-U1","2038-072C-U1"]
[null,"4A093","008-080C-U1","022-150R3-U1","034-HR220R-U1",null,null,"1038-170C-U1","2027-M150/2-U1","2038-088C-U1"]
[null,"4A094","008-090L-U1","022-150R4-U1","034-S187-U1",null,"1028-128R-U1","1038-412/1-U1","2028-033C-U1","2038-095L-U1"]
[null,"4A101","008-090R-U1","022-150R6-U1","034-SA105-U1",null,"1029-080C-U1","1038-418/1-U1",null,"2038-095R-U1"]
[null,"4A102","008-120C-U1","022-150R7-U1","034-SL40-U1",null,"1029-120C-U1","1038-418/2-U1","2028-037SR-U1","2038-100C-U1"]
[null,"4A103","008-120D-U1","022-150R8-U1","034-SM105-U1",null,"1029-A070C-U1","1038-426/1-U1","2028-044C-U1","2038-104C-U1"]
[null,"4A104","008E-060C-U1","022-150R9-U1","034-SS80-U1",null,"1029-AB070C-U1","1038-426/2-U1","2028-050L-U1","2038-106C-U1"]
[null,"4A111","008E-080C-U1","022-150RE4-U1","034-T187L-U1",null,"1030-120C-U1","1038-426/3-U1",null,"2038-120C-U1"]
[null,"4A112","008E-090L-U1","023-060C-U1","034-T187R-U1",null,"1030-180L-U1","1038-434/1-U1","2028-078C-U1","2038-128L/2-U1"]
[null,"4A113","008E-090R-U1",null,null,null,"1030-180R-U1","1038-434/2-U1","2028-078SL-U1","2038-128L-U1"]
[null,"4A114",null,"023-080C-U1","035-040C-U1",null,"1031-080CP-U1","1038-434/3-U1","2028-078SR-U1","2038-128R/2-U1"]
[null,"4A121","008E-120D-U1","023-080F-U1","035-045L-U1",null,null,"1038-512/1-U1",null,"2038-128R-U1"]
[null,"4A122","009-060C-U1","023-120C-U1","035-045R-U1",null,"1031-120CP-U1","1038-51440CX-U1","2028-090L-U1","2038-130C-U1"]
[null,"4A123","009-080C-U1","023-120D-U1","035-051L-U1",null,"1031-120C-U1","1038-524/1-U1","2028-090R-U1","2038-132C-U1"]
[null,"4A124",null,"023-120F-U1","035-051R-U1",null,"1031-120LP-U1","1038-524/2-U1","2028-100L/0-U1","2038-170C-U1"]
[null,"4A131",null,"023-A200-U1","035-058C-U1",null,"1031-120RP-U1","1038-541600C-U1","2028-100R/0-U1","2038-412/1-U1"]
[null,"4A132","014-060C-U1","023-AM200-U1","035-060C-U1",null,"1031-160C-U1","1038-612/1-U1","2029-080C-U1","2038-418/1-U1"]
[null,"4A133","014-100L-U1","023-C200-U1","035-063C-U1",null,"1031-180C-U1","1038-618/1-U1","2029-120C-U1","2038-418/2-U1"]
[null,"4A134","014-100R-U1","023-CXS20-U1","035-068L-U1",null,null,"1038-618/2-U1","2029-A070C-U1","2038-426/1-U1"]
[null,"4A141","014-120L-U1","023-D200-U1",null,null,"1031-180R-U1","1038-624/1-U1","2029-AB070C-U1","2038-426/2-U1"]
[null,"4A142","014-120R-U1","023-DC200-U1","035-068SL-U1",null,"1031-240D-U1","1038-624/2-U1","2030-120C-U1","2038-426/3-U1"]
[null,"4A143","014E-060C-U1","023E-060C-U1","035-068SR-U1",null,"1031-320/3-U1","1038-626/1-U1","2030-180L-U1"]
[null,"4A144","014E-100L-U1","023E-120D-U1","035-081L-U1",null,"1032-120C-U1",null,"2030-180R-U1","2038-434/2-U1"]
[null,"4A151","014E-120L-U1","023E-A200-U1","035-081R-U1","1005-100L-U1","1032-200C-U1",null,"2031-080CP-U1","2038-434/3-U1"]
[null,"4A152","014E-120R-U1",null,null,"1005-100R-U1","1032-220C-U1",null,"2031-100CP-U1","2038-512/1-U1"]
[null,"4A153","015-060C-U1","023E-CXS20-U1","035-082R-U1","1005-120C-U1","1032-240C/2-U1",null,"2031-120CP-U1","2038-51440CX-U1"]
[null,"4A154","015-080C-U1","023E-DC200-U1","035-084L-U1","1005-120L-U1","1032-240C/3-U1",null,null,"2038-524/1-U1"]
[null,"4A161","015-120C-U1","023E-F200-U1","035-084R-U1","1005-120R-U1","1032-240C-U1"]
[null,"4A162","015-140F-U1","023E-FC200-U1","035-084SL-U1","1005-140C-U1","1032-240L/2-U1",null,"2031-120RP-U1","2038-541600C-U1"]
[null,"4A163","015E-060C-U1","023-F200-U1","035-084SR-U1","1005-150D-U1","1032-240L-U1",null,"2031-160C-U1","2038-612/1-U1"]
[null,"4A164","015E-120C-U1","023-FC200-U1",null,null,"1032-240R/2-U1",null,"2031-180C-U1","2038-618/1-U1"]
[null,"4B011","015E-140F-U1","023-FCM200-U1","035-089R-U1","1005-180L-U1",null,null,"2031-180L-U1","2038-618/2-U1"]
[null,"4B012",null,"023-FM200-U1","035-089SL-U1","1005-180R-U1","1032-SD080-U1",null,"2031-180R-U1","2038-624/1-U1"]
[null,"4B013","017-061C-U1","023S-120F-U1","035-089SR-U1","1006-140C-U1","1032-SM060-U1",null,"2031-240D-U1","2038-624/2-U1"]
[null,"4B014","017-061CY-U1","024-050C-U1","035-090L-U1","1007-150C-U1","1032-SN070-U1",null,"2031-320/3-U1","2038-626/1-U1"]
[null,"4B021","017-078C-U1","024-075C-U1","035-090R-U1","1007-170C-U1","1032-SN080-U1",null,"2032-120C-U1"]
[null,"4B022","017-080C-U1","024-090C-U1","035-091L-U1","1008-060C-U1","1032-SN100-U1",null,"2032-200C-U1"]
[null,"4B023","017-110L-U1",null,"035-091R-U1","1008-080C-U1","1032-SN120-U1",null,"2032-220C-U1","2038-630/1-U1"]
[null,"4B024","017-110R-U1",null,"035-095L-U1","1008-090L-U1","1033-082L-U1",null,"2032-240C/2-U1","2038-630/2-U1"]
[null,"4B031","017-120C-U1","024-120L-U1","035-095R-U1",null,null,null,"2032-240C/3-U1","2038-630/3-U1"]
[null,"4B032","017-120CY-U1","024-120R-U1","035-095SL-U1","1008-120C-U1",null,null,"2032-240C-U1","2038-634/1-U1"]
[null,"4B033","017-140C-U1","024-150C-U1","035-095SR-U1","1008-120D-U1","1034-010C-U1",null,"2032-240L/2-U1","2038-634/2-U1"]
[null,"4B034","017-141C-U1","024-A040-U1","035-119L-U1","1009-060C-U1","1034-040C-U1",null,"2032-240L-U1","2038-634/3-U1"]
[null,"4B041","017E-080C-U1","024-A080-U1",null,"1009-080C-U1","1034-062C-U1","1039-060C-U1","2032-240R/2-U1","2038-GB128L-U1"]
[null,"4B042","017E-110L-U1","024-T060C-U1","035-120L-U1","1014-060C-U1","1034-092L-U1","1040-100L-U1","2032-240R-U1","2038-GB128R-U1"]
[null,"4B043","017E-110R-U1","024-T080C-U1","035-120R-U1","1014-100L-U1","1034-092R-U1",null,"2032-SD080-U1"]
[null,"4B044","017E-140C-U1","024-T100L-U1","035-120SL-U1","1014-100R-U1","1034-114L-U1",null,"2032-SN070-U1","2038-P618/1-U1"]
[null,"4B051","017P-061C-U1","024-T100R-U1","035-120SR-U1","1014-120L-U1","1034-114R-U1","1NAIDIS-U1","2032-SN080-U1","2038-P618/2-U1"]
[null,"4B052","017P-080C-U1","024-T120C/2-U1","035-124L-U1","1014-120R-U1","1034-124L-U1","2005-053C2-U1","2032-SN100-U1","2038-P626/1-U1"]
[null,"4B053","017P-090C-U1","024-T120C-U1","035-124R-U1","1015-060C-U1","1034-124R-U1","2005-053C-U1","2032-SN120-U1","2038-P626/2-U1"]
[null,"4B054","017P-090CY-U1","024-T120L-U1","035-128L-U1","1015-080C-U1","1034-A082L-U1","2005-060C-U1","2033-082L-U1","2038-P626/3-U1"]
[null,"4B061","017P-110L-U1","024-T120R-U1","035-128R-U1","1015-120C-U1","1034-A082R-U1","2005-080C-U1","2033-082R-U1","2038-P634/1-U1"]
[null,"4B062",null,"024-T160L-U1","035-137L-U1","1015-140F-U1","1034-A105L-U1","2005-090L-U1","2033-A088C-U1","2038-P634/2-U1"]
[null,"4B063",null,"024-T160R-U1","035-137R-U1","1015-X-U1","1034-A105R-U1","2005-090R-U1","2034-010C-U1","2038-P634/3-U1"]
[null,"4B064","017P-120/2Y-U1","025-040C-U1","035-150L-U1","1017-061C-U1","1034-A124L-U1","2005-100L-U1","2034-010-U1","2038-P634/4-U1"]
[null,"4B071","017P-120C-U1","025-C70C-U1","035-150R-U1",null,null,"2005-100R-U1","2034-040C-U1","2038-P634/5-U1"]
[null,"4B072","017P-140C-U1","025E-T030-U1","035-151L-U1","1017-080C-U1","1034-HR025S-U1",null,"2034-062C-U1","2039-060C-U1"]
[null,"4B073","017P-141C-U1","025E-V100L-U1","035-AH081L-U1","1017-090C-U1","1034-HR035S-U1",null,"2034-092L-U1","2040-100L-U1"]
[null,"4B074","018-060C-U1","025E-V100R-U1","035-AH081R-U1","1017-110L-U1","1034-HR050S-U1",null,"2034-092R-U1","2040-100R-U1"]
[null,"4B081","018-090L-U1","025-T030-U1","035-AH081SL-U1","1017-110R-U1","1034-HR060S-U1",null,"2034-114L-U1","2050-185L-U1"]
[null,"4B082","018-090R-U1","025-T060-U1","035-AH081SR-U1","1017-120/2-U1","1034-HR070S-U1",null,"2034-114R-U1","2050-185R-U1"]
[null,"4B083",null,"025-V100L-U1","036-026C-U1","1017-120C-U1","1034-HR143L-U1","2005-180C-U1","2034-124L-U1","2050-215L-U1"]
[null,"4B084",null,"025-V100R-U1",null,"1017-140C-U1","1034-HR143R-U1","2005-180L-U1","2034-124R-U1","2050-215R-U1"]
[null,"4B091",null,"025-V150L-U1",null,"1017-141C-U1","1034-HR185L-U1","2005-180R-U1",null,"2090-291-U1"]
[null,"4B092","019-090L-U1","025-V150R-U1",null,"1018-060C-U1","1034-HR192L-U1","2006-040C-U1",null,"26999-U1"]
[null,"4B093","019-090R-U1","026-059C-U1","036-084L-U1","1018-090L-U1","1034-HR192R-U1","2006-045C-U1","2034-A105L-U1","2NAIDIS-U1"]
[null,"4B094","019-120C-U1","026-060C-U1","036-084R-U1","1018-090R-U1","1034-HR220L-U1","2006-050C-U1","2034-A105R-U1","3290100L-U1"]
[null,"4B101","019E-060C-U1","026E-060C-U1","036-091L-U1","1018-120C-U1","1034-HR220R-U1","2006-140C-U1",null,"3290100R-U1"]
[null,"4B102","019E-120C-U1",null,null,"1019-060C-U1","1034-S187-U1","2007-150C-U1",null,"439-060C-U1"]
[null,"4B103","021-107L-U1","026-E080-U1","036-096L-U1","1019-090L-U1","1034-SA105-U1","2007-170C-U1",null,"NAIDIS-U1"]
[null,"4B104","021-120L-U1","026E-F200-U1","036-096R-U1","1019-090R-U1","1034-SL40-U1","2008-060C-U1",null,"PR-10X10-U1"]
[null,"4B111","021-120LX-U1","026E-S060-U1","036-098LS-U1","1019-120C-U1","1034-SM105-U1","2008-080C-U1","2034-HR050S-U1"]
[null,"4B112","021-120R-U1","026E-S080-U1","036-098RS-U1","1021-107L-U1","1034-SS80-U1","2008-090L-U1","2034-HR060S-U1"]
[null,"4B113","021-120RX-U1","026E-SS060-U1","036-099L-U1","1021-120L-U1","1034-T187-U1","2008-090R-U1","2034-HR070S-U1"]
[null,"4B114","022-018C-U1","026E-XS060-U1","036-099R-U1","1021-120R-U1","1035-037C-U1","2008-120C-U1","2034-HR143L-U1"]
[null,"4B121","022-020C-U1","026E-XS080-U1","036-109LS-U1","1022-018C-U1","1035-040C-U1","2008-120D-U1","2034-HR143R-U1"]
[null,"4B122","022-039CL-U1","026-F200-U1","036-109L-U1","1022-020C-U1","1035-045L-U1","2009-060C-U1","2034-HR185L-U1"]
[null,"4B123","022-039CR-U1","026-S060-U1","036-109RS-U1","1022-039C-U1","1035-045R-U1","2009-080C-U1","2034-HR192L-U1"]
[null,"4B124","022-055C0-U1","026-S080-U1","036-109R-U1","1022-055C0-U1","1035-051L-U1","2014-060C-U1","2034-HR192R-U1"]
[null,"4C011","022-060C0-U1","026-SS060-U1","036-117R-U1","1022-060C0-U1","1035-051R-U1","2014-100L-U1","2034-HR220L-U1"]
[null,"4C012","022-060C1-U1",null,null,"1022-060C1-U1","1035-058C-U1","2014-100R-U1","2034-HR220R-U1"]
[null,"4C013","022-060C2-U1",null,null,"1022-060C4-U1","1035-060C-U1","2014-120L-U1","2034-S187-U1"]
[null,"4C014","022-060C3-U1","027-090C-U1","036-120/2-U1","1022-073C0-U1","1035-063C-U1","2014-120R-U1","2034-SA105-U1"]
[null,"4C021","022-060C4-U1","027-120C-U1","036-120L-U1","1022-080L0-U1","1035-068L-U1","2015-060C-U1","2034-SL40-U1"]
[null,"4C022",null,null,"036-120R-U1","1022-080L1-U1","1035-068R-U1",null,"2034-SM105-U1"]
[null,"4C023",null,null,"036-124L-U1","1022-080L2-U1","1035-068SL-U1",null,"2034-SS80-U1"]
[null,"4C024",null,null,"036-124R-U1","1022-080L3-U1","1035-068SR-U1","2015-140F-U1","2034-T187-U1"]
[null,"4C031","022-073C8-U1","027E-M150/2-U1","036-140/2-U1",null,"1035-081L-U1","2015-X-U1","2035-037C-U1"]
[null,"4C032","022-073C9-U1",null,null,null,"1035-081R-U1","2017-061C-U1"]
[null,"4C033","022-073CE7-U1",null,null,null,"1035-082L-U1","2017-078C-U1"]
[null,"4C034","022-073CE8-U1","027-M150/2-U1","036-143A-U1","1022-080R2-U1","1035-082R-U1","2017-080C-U1"]
[null,"4C041","022-073CE9-U1","027N-120C-U1","036-180/3-U1","1022-080R3-U1","1035-084L-U1","2017-090C-U1","2035-051L-U1"]
[null,"4C042","022-080L0-U1","028-033C-U1","036-210/3-U1","1022-090L0-U1","1035-084R-U1","2017-110L-U1","2035-051R-U1"]
[null,"4C043","022-080L1-U1","028-037SL-U1","036-495L-U1","1022-090L1-U1",null,"2017-110R-U1","2035-058C-U1"]
[null,"4C044","022-080L2-U1","028-037SR-U1","036-495R-U1","1022-090L4-U1","1035-084SR-U1","2017-120/2-U1","2035-060C-U1"]
[null,"4C051","022-080L3-U1","028-044C-U1","036-T090-U1","1022-090R0-U1","1035-089L-U1","2017-120C-U1","2035-063C-U1"]
[null,"4C052","022-080L4-U1","028-050L-U1","036-T120-U1","1022-090R1-U1","1035-089R-U1","2017-140C-U1","2035-068L-U1"]
[null,"4C053","022-080R0-U1","028-050R-U1","036-W120/2-U1","1022-100L0-U1",null,"2017-141C-U1","2035-068R-U1"]
[null,"4C054","022-080R1-U1","028-078C-U1","037-070C-U1","1022-100L2-U1",null,"2018-060C-U1","2035-068SL-U1"]
[null,"4C061","022-080R2-U1","028-078SL-U1","037-090L-U1","1022-100R0-U1",null,"2018-090L-U1","2035-068SR-U1"]
[null,"4C062","022-080R3-U1",null,null,"1022-100R2-U1",null,"2018-090R-U1","2035-081L-U1"]
[null,"4C063","022-080R4-U1",null,null,"1022-120C0-U1","1035-091L-U1","2018-120C-U1","2035-081R-U1"]
[null,"4C064","022-090L0-U1",null,null,"1022-120C1-U1","1035-091R-U1","2019-060C-U1","2035-082L-U1"]
[null,"4C071","022-090L1-U1","028-090R-U1","037-120R-U1","1022-132C-U1","1035-095L-U1","2019-090L-U1","2035-082R-U1"]
[null,"4C072",null,"028-100L/0-U1","037-150/2-U1","1022-150L0-U1","1035-095R-U1","2019-090R-U1","2035-084L-U1"]
[null,"4C073",null,"028-100L-U1","037-240/3-U1","1022-150L1-U1","1035-095SL-U1","2019-120C-U1","2035-084R-U1"]
[null,"4C074",null,"028-100R/0-U1","037E-070C-U1","1022-150PL0-U1","1035-095SR-U1","2021-107L-U1","2035-084SL-U1"]
[null,"4C081","022-090L5-U1","028-100R-U1","037E-090L-U1",null,"1035-119L-U1","2021-120L-U1","2035-084SR-U1"]
[null,"4C082","022-090R0-U1","028E-078C-U1","037E-090R-U1","1022-150PR0-U1","1035-119R-U1","2021-120R-U1","2035-089L-U1"]
[null,"4C083","022-090R1-U1","029-080C-U1","037E-110C-U1","1022-150R0-U1","1035-120L-U1","2022-018C-U1","2035-089R-U1"]
[null,"4C084","022-090R2-U1","029-120C-U1","037E-120L-U1","1022-150R1-U1","1035-120R-U1","2022-020C-U1","2035-089SL-U1"]
[null,"4C091","022-090R3-U1","029-A070C-U1","037E-120R-U1","1023-060C-U1","1035-120SL-U1","2022-039C-U1","2035-089SR-U1"]
[null,"4C092","022-090R4-U1","029-AB070C-U1","037E-150/2-U1","1023-060F-U1","1035-120SR-U1","2022-055C0-U1","2035-090L-U1"]
[null,"4C093","022-090R5-U1","029E-080C-U1","037E-240/3-U1","1023-080C-U1","1035-124L-U1","2022-060C0-U1","2035-090R-U1"]
[null,"4C094","022-100L0-U1","029E-120C-U1","037K-070C5-U1","1023-080F-U1","1035-124R-U1","2022-073C0-U1","2035-091L-U1"]
[null,"4C101","022-100L11-U1","029E-A070C-U1",null,"1023-120C-U1","1035-128L-U1","2022-080L0-U1","2035-091R-U1"]
[null,"4C102","022-100L1-U1","030-120C-U1","037K-070L5-U1","1023-120D-U1",null,"2022-080R0-U1","2035-095L-U1"]
[null,"4C103","022-100L21-U1","030-180L-U1","037K-070L6-U1","1023-120F-U1",null,"2022-090L0-U1","2035-095R-U1"]
[null,"4C104","022-100L2-U1","030-180R-U1","037K-070R5-U1","1023-A200-U1","1035-137R-U1","2022-090R0-U1"]
[null,"4D111","022-100L31-U1",null,"037K-070R6-U1","1023-AM200-U1","1035-150L-U1","2022-100L0-U1","2035-095SR-U1"]
[null,"4D112","022-100L3-U1","031-100CP-U1","037K-090L5-U1","1023-C200-U1","1035-150R-U1","2022-100R0-U1","2035-119L-U1"]
[null,"4D113","022-100L41-U1","031-120CP-U1","037K-090L6-U1","1023-CXS20-U1","1035-151L-U1","2022-120C0-U1","2035-119R-U1"]
[null,"4D114","022-100L4-U1","031-120C-U1","037K-090R5-U1",null,"1035-AH081L-U1",null,"2035-120L-U1"]
[null,"4D121","022-100L5-U1","031-120LP-U1","037K-090R6-U1","1023-DC200-U1","1035-AH081R-U1","2022-150L0-U1","2035-120R-U1"]
[null,"4D122","022-100L6-U1","031-120RP-U1","038-050C-U1","1023-F200-U1","1035-AH081SL-U1","2022-150PL0-U1","2035-120SL-U1"]
[null,"4D123","022-100L7-U1","031-160C-U1",null,null,"1035-AH081SR-U1","2022-150PR0-U1","2035-120SR-U1"]
[null,"4D124","022-100L8-U1","031-180C-U1","038-072C-U1","1023-FCM200-U1","1036-026C-U1","2022-150R0-U1","2035-124L-U1"]
[null,"4D031","022-100L9-U1","031-180L-U1","038-088C-U1","1023-FM200-U1","1036-069C-U1","2023-060C-U1","2035-124R-U1"]
[null,"4D032","022-100LE3-U1","031-180R-U1","038-095L-U1","1024-050C-U1","1036-070C-U1","2023-060F-U1","2035-128L-U1"]
[null,"4D033","022-100R0-U1","031-240D-U1","038-095R-U1","1024-075C-U1","1036-080C-U1","2023-080C-U1","2035-128R-U1"]
[null,"4D034","022-100R11-U1","031-320/3-U1","038-100C-U1","1024-090C-U1","1036-084L-U1","2023-080F-U1","2035-137L-U1"]
[null,"4D041","022-100R1-U1","031E-080CP-U1","038-104C-U1","1024-091C-U1","1036-084R-U1","2023-120C-U1","2035-137R-U1"]
[null,"4D042","022-100R21-U1","031E-240D-U1","038-106C-U1","1024-100C-U1","1036-091L-U1","2023-120D-U1","2035-150L-U1"]
[null,"4D043","022-100R2-U1","032-120C-U1","038-120C-U1","1024-120L-U1","1036-091R-U1","2023-120F-U1","2035-150R-U1"]
[null,"4D044","022-100R31-U1","032-200C-U1","038-128L/2-U1","1024-120R-U1","1036-095R-U1","2023-A200-U1","2035-151L-U1"]
[null,"4D051","022-100R3-U1","032-220C-U1","038-128L-U1","1024-150C-U1","1036-096L-U1","2023-AM200-U1","2035-AH081L-U1"]
[null,"4D052","022-100R41-U1","032-240C/2-U1","038-128R/2-U1","1024-A040-U1","1036-096R-U1","2023-C200-U1","2035-AH081R-U1"]
[null,"4D053",null,null,"038-128R-U1","1024-A080-U1","1036-098LS-U1",null,"2035-AH081SL-U1"]
[null,"4D054",null,null,null,"1024-T060C-U1","1036-098RS-U1","2023-D200-U1","2035-AH081SR-U1"]
[null,"4D061","022-100R6-U1",null,"038-132C-U1","1024-T080C-U1","1036-099L-U1","2023-DC200-U1","2036-026C-U1"]
[null,"4D062","022-100R7-U1","032-240L-U1","038-170C-U1","1024-T100L-U1","1036-099R-U1","2023-F200-U1","2036-069C-U1"]
[null,"4D063","022-100R8-U1","032-240R/2-U1","038-412/1-U1","1024-T100R-U1","1036-109LS-U1","2023-FC200-U1","2036-070C-U1"]
[null,"4D064","022-100R9-U1","032-240R-U1","038-418/1-U1","1024-T120C/2-U1","1036-109L-U1","2023-FCM200-U1","2036-080C-U1"]
[null,"4D071","022-100RE3-U1","032E-120C-U1","038-418/2-U1","1024-T120C-U1","1036-109RS-U1","2023-FM200-U1","2036-084L-U1"]
[null,"4D072","022-100RE4-U1","032E-200C-U1","038-426/1-U1","1024-T120L-U1","1036-109R-U1","2024-050C-U1","2036-084R-U1"]
[null,"4D073","022-120C0-U1","032E-240C-U1","038-426/2-U1","1024-T120R-U1","1036-120/2.1.-U1","2024-075C-U1","2036-091L-U1"]
[null,"4D074","022-120C1-U1",null,null,"1024-T160L-U1","1036-120/2-U1","2024-090C-U1","2036-091R-U1"]
[null,"4D081","022-120C2-U1","032E-240R/2-U1","038-434/1-U1","1024-T160R-U1","1036-120L-U1","2024-091C-U1","2036-095R-U1"]
[null,"4D082","022-120C3-U1","032E-240R-U1","038-434/2-U1","1025-040C-U1","1036-120R-U1","2024-100C-U1","2036-096L-U1"]
[null,"4D083","022-120C4-U1","032-SD080-U1","038-434/3-U1","1025-C70C-U1","1036-124L-U1","2024-120L-U1","2036-096R-U1"]
[null,"4D084","022-120C5-U1","032-SM060-U1","038-50990C-U1",null,"1036-124R-U1","2024-120R-U1","2036-098LS-U1"]
["Kokku",{"$f":"COUNTA(B3:B186)","v":184},{"$f":"COUNTA(C3:C186)","v":161},{"$f":"COUNTA(D3:D186)","v":157},161,137,168,149,165,98]
[null,"KOKKU",{"$f":"SUM(C187:J187)","v":1196}]

{"sheet":"KOKKU","index":4,"n_rows":308,"n_cols":19,"rows_kept":308,"cut":false,"hidden":false,"merged":[[0,10,0,17],[305,10,305,17],[306,10,306,17],[307,10,307,17]]}
[null,null,null,null,null,null,null,null,null,null,"Kauba otsimiseks laos"]
[null,"Riiul","Vorm 1","Vorm 2","Vorm 3","Vorm 4","Vorm 5","Vorm 6","Vorm 7","Vorm 8","Vorm 1","Vorm 2","Vorm 3","Vorm 4","Vorm 5","Vorm 6","Vorm 7","Vorm 8"]
[null,"4A011",{"$f":"'Peterburi tee'!C3","v":"005-053C2-U1"},{"$f":"'Peterburi tee'!D3","v":"022-132R2-U1"},{"$f":"'Peterburi tee'!E3","v":"032-SN070-U1"},{"$f":"'Peterburi tee'!F3","v":"038-512/1-U1"},{"$f":"'Peterburi tee'!G3","v":"1025-T060-U1"},{"$f":"'Peterburi tee'!H3","v":"1036-140/2-U1"},{"$f":"'Peterburi tee'!I3","v":"2024-150C-U1"},{"$f":"'Peterburi tee'!J3","v":"2036-098RS-U1"},{"$f":"IF(C3='Üldine info'!$C$5,$B3,\"\")","v":""},{"$f":"IF(D3='Üldine info'!$C$5,$B3,\"\")","v":""},{"$f":"IF(E3='Üldine info'!$C$5,$B3,\"\")","v":""},{"$f":"IF(F3='Üldine info'!$C$5,$B3,\"\")","v":""},{"$f":"IF(G3='Üldine info'!$C$5,$B3,\"\")","v":""},{"$f":"IF(H3='Üldine info'!$C$5,$B3,\"\")","v":""},{"$f":"IF(I3='Üldine info'!$C$5,$B3,\"\")","v":""},{"$f":"IF(J3='Üldine info'!$C$5,$B3,\"\")","v":""}]
[null,"4A012",{"$f":"'Peterburi tee'!C4","v":"005-053C-U1"},{"$f":"'Peterburi tee'!D4","v":"022-132R3-U1"},{"$f":"'Peterburi tee'!E4","v":"032-SN080-U1"},{"$f":"'Peterburi tee'!F4","v":"038-51440C-U1"},{"$f":"'Peterburi tee'!G4","v":"1025-V100L-U1"},{"$f":"'Peterburi tee'!H4","v":"1036-142L-U1"},{"$f":"'Peterburi tee'!I4","v":"2024-A040-U1"},{"$f":"'Peterburi tee'!J4","v":"2036-099L-U1"},{"$f":"IF(C4='Üldine info'!$C$5,$B4,\"\")","v":""},{"$f":"IF(D4='Üldine info'!$C$5,$B4,\"\")","v":""},{"$f":"IF(E4='Üldine info'!$C$5,$B4,\"\")","v":""},{"$f":"IF(F4='Üldine info'!$C$5,$B4,\"\")","v":""},{"$f":"IF(G4='Üldine info'!$C$5,$B4,\"\")","v":""},{"$f":"IF(H4='Üldine info'!$C$5,$B4,\"\")","v":""},{"$f":"IF(I4='Üldine info'!$C$5,$B4,\"\")","v":""},{"$f":"IF(J4='Üldine info'!$C$5,$B4,\"\")","v":""}]
[null,"4A013",{"$f":"'Peterburi tee'!C5","v":"005-060C-U1"},{"$f":"'Peterburi tee'!D5","v":"022-150L0-U1"},{"$f":"'Peterburi tee'!E5","v":"032-SN100-U1"},{"$f":"'Peterburi tee'!F5","v":"038-51440CX-U1"},{"$f":"'Peterburi tee'!G5","v":"1025-V100R-U1"},{"$f":"'Peterburi tee'!H5","v":"1036-142R-U1"},{"$f":"'Peterburi tee'!I5","v":"2024-A080-U1"},{"$f":"'Peterburi tee'!J5","v":"2036-099R-U1"},{"$f":"IF(C5='Üldine info'!$C$5,$B5,\"\")","v":""},{"$f":"IF(D5='Üldine info'!$C$5,$B5,\"\")","v":""},{"$f":"IF(E5='Üldine info'!$C$5,$B5,\"\")","v":""},{"$f":"IF(F5='Üldine info'!$C$5,$B5,\"\")","v":""},{"$f":"IF(G5='Üldine info'!$C$5,$B5,\"\")","v":""},{"$f":"IF(H5='Üldine info'!$C$5,$B5,\"\")","v":""},{"$f":"IF(I5='Üldine info'!$C$5,$B5,\"\")","v":""},{"$f":"IF(J5='Üldine info'!$C$5,$B5,\"\")","v":""}]
[null,"4A014",{"$f":"'Peterburi tee'!C6","v":"005-080C-U1"},{"$f":"'Peterburi tee'!D6","v":"022-150L1-U1"},{"$f":"'Peterburi tee'!E6","v":"032-SN120-U1"},{"$f":"'Peterburi tee'!F6","v":"038-524/1-U1"},{"$f":"'Peterburi tee'!G6","v":"1026-059C-U1"},{"$f":"'Peterburi tee'!H6","v":"1036-143A-U1"},{"$f":"'Peterburi tee'!I6","v":"2024-T060C-U1"},{"$f":"'Peterburi tee'!J6","v":"2036-109LS-U1"},{"$f":"IF(C6='Üldine info'!$C$5,$B6,\"\")","v":""},{"$f":"IF(D6='Üldine info'!$C$5,$B6,\"\")","v":""},{"$f":"IF(E6='Üldine info'!$C$5,$B6,\"\")","v":""},{"$f":"IF(F6='Üldine info'!$C$5,$B6,\"\")","v":""},{"$f":"IF(G6='Üldine info'!$C$5,$B6,\"\")","v":""},{"$f":"IF(H6='Üldine info'!$C$5,$B6,\"\")","v":""},{"$f":"IF(I6='Üldine info'!$C$5,$B6,\"\")","v":""},{"$f":"IF(J6='Üldine info'!$C$5,$B6,\"\")","v":""}]
[null,"4A021",{"$f":"'Peterburi tee'!C7","v":"005-090L-U1"},{"$f":"'Peterburi tee'!D7","v":"022-150L2-U1"},{"$f":"'Peterburi tee'!E7","v":"033-082L-U1"},{"$f":"'Peterburi tee'!F7","v":"038-524/2-U1"},{"$f":"'Peterburi tee'!G7","v":"1026-060C-U1"},{"$f":"'Peterburi tee'!H7","v":"1036-180/3-U1"},{"$f":"'Peterburi tee'!I7","v":"2024-T080C-U1"},{"$f":"'Peterburi tee'!J7","v":"2036-109L-U1"},{"$f":"IF(C7='Üldine info'!$C$5,$B7,\"\")","v":""},{"$f":"IF(D7='Üldine info'!$C$5,$B7,\"\")","v":""},{"$f":"IF(E7='Üldine info'!$C$5,$B7,\"\")","v":""},{"$f":"IF(F7='Üldine info'!$C$5,$B7,\"\")","v":""},{"$f":"IF(G7='Üldine info'!$C$5,$B7,\"\")","v":""},{"$f":"IF(H7='Üldine info'!$C$5,$B7,\"\")","v":""},{"$f":"IF(I7='Üldine info'!$C$5,$B7,\"\")","v":""},{"$f":"IF(J7='Üldine info'!$C$5,$B7,\"\")","v":""}]
[null,"4A022",{"$f":"'Peterburi tee'!C8","v":"005-090R-U1"},{"$f":"'Peterburi tee'!D8","v":"022-150L3-U1"},{"$f":"'Peterburi tee'!E8","v":"033-082R-U1"},{"$f":"'Peterburi tee'!F8","v":"038-524/3-U1"},{"$f":"'Peterburi tee'!G8","v":"1026-E060-U1"},{"$f":"'Peterburi tee'!H8","v":"1036-210/3-U1"},{"$f":"'Peterburi tee'!I8","v":"2024-T100L-U1"},{"$f":"'Peterburi tee'!J8","v":"2036-109RS-U1"},{"$f":"IF(C8='Üldine info'!$C$5,$B8,\"\")","v":""},{"$f":"IF(D8='Üldine info'!$C$5,$B8,\"\")","v":""},{"$f":"IF(E8='Üldine info'!$C$5,$B8,\"\")","v":""},{"$f":"IF(F8='Üldine info'!$C$5,$B8,\"\")","v":""},{"$f":"IF(G8='Üldine info'!$C$5,$B8,\"\")","v":""},{"$f":"IF(H8='Üldine info'!$C$5,$B8,\"\")","v":""},{"$f":"IF(I8='Üldine info'!$C$5,$B8,\"\")","v":""},{"$f":"IF(J8='Üldine info'!$C$5,$B8,\"\")","v":""}]
[null,"4A023",{"$f":"'Peterburi tee'!C9","v":"005-100L-U1"},{"$f":"'Peterburi tee'!D9","v":"022-150L4-U1"},{"$f":"'Peterburi tee'!E9","v":"033-085R-U1"},{"$f":"'Peterburi tee'!F9","v":"038-541600CE-U1"},{"$f":"'Peterburi tee'!G9","v":"1026-E080-U1"},{"$f":"'Peterburi tee'!H9","v":"1036-495L-U1"},{"$f":"'Peterburi tee'!I9","v":"2024-T100R-U1"},{"$f":"'Peterburi tee'!J9","v":"2036-109R-U1"},{"$f":"IF(C9='Üldine info'!$C$5,$B9,\"\")","v":""},{"$f":"IF(D9='Üldine info'!$C$5,$B9,\"\")","v":""},{"$f":"IF(E9='Üldine info'!$C$5,$B9,\"\")","v":"4A023"},{"$f":"IF(F9='Üldine info'!$C$5,$B9,\"\")","v":""},{"$f":"IF(G9='Üldine info'!$C$5,$B9,\"\")","v":""},{"$f":"IF(H9='Üldine info'!$C$5,$B9,\"\")","v":""},{"$f":"IF(I9='Üldine info'!$C$5,$B9,\"\")","v":""},{"$f":"IF(J9='Üldine info'!$C$5,$B9,\"\")","v":""}]
[null,"4A024",{"$f":"'Peterburi tee'!C10","v":0},{"$f":"'Peterburi tee'!D10","v":"022-150L6-U1"},{"$f":"'Peterburi tee'!E10","v":"033-085R-U1"},{"$f":"'Peterburi tee'!F10","v":"038-541600C-U1"},{"$f":"'Peterburi tee'!G10","v":"1026-F200-U1"},{"$f":"'Peterburi tee'!H10","v":"1036-T090-U1"},{"$f":"'Peterburi tee'!I10","v":"2024-T120C/2-U1"},{"$f":"'Peterburi tee'!J10","v":"2036-120/2.1.-U1"},{"$f":"IF(C10='Üldine info'!$C$5,$B10,\"\")","v":""},{"$f":"IF(D10='Üldine info'!$C$5,$B10,\"\")","v":""},{"$f":"IF(E10='Üldine info'!$C$5,$B10,\"\")","v":"4A024"},{"$f":"IF(F10='Üldine info'!$C$5,$B10,\"\")","v":""},{"$f":"IF(G10='Üldine info'!$C$5,$B10,\"\")","v":""},{"$f":"IF(H10='Üldine info'!$C$5,$B10,\"\")","v":""},{"$f":"IF(I10='Üldine info'!$C$5,$B10,\"\")","v":""},{"$f":"IF(J10='Üldine info'!$C$5,$B10,\"\")","v":""}]
[null,"4A031",{"$f":"'Peterburi tee'!C11","v":"005-120C-U1"},{"$f":"'Peterburi tee'!D11","v":0},{"$f":"'Peterburi tee'!E11","v":"034-010C-U1"},{"$f":"'Peterburi tee'!F11","v":"038-612/1-U1"},{"$f":"'Peterburi tee'!G11","v":"1026-S060-U1"},{"$f":"'Peterburi tee'!H11","v":"1036-T120-U1"},{"$f":"'Peterburi tee'!I11","v":"2024-T120C-U1"},{"$f":"'Peterburi tee'!J11","v":"2036-120/2-U1"},{"$f":"IF(C11='Üldine info'!$C$5,$B11,\"\")","v":""},{"$f":"IF(D11='Üldine info'!$C$5,$B11,\"\")","v":""},{"$f":"IF(E11='Üldine info'!$C$5,$B11,\"\")","v":""},{"$f":"IF(F11='Üldine info'!$C$5,$B11,\"\")","v":""},{"$f":"IF(G11='Üldine info'!$C$5,$B11,\"\")","v":""},{"$f":"IF(H11='Üldine info'!$C$5,$B11,\"\")","v":""},{"$f":"IF(I11='Üldine info'!$C$5,$B11,\"\")","v":""},{"$f":"IF(J11='Üldine info'!$C$5,$B11,\"\")","v":""}]
[null,"4A032",{"$f":"'Peterburi tee'!C12","v":"005-120L-U1"},{"$f":"'Peterburi tee'!D12","v":"022-150L8-U1"},{"$f":"'Peterburi tee'!E12","v":0},{"$f":"'Peterburi tee'!F12","v":"038-61400C-U1"},{"$f":"'Peterburi tee'!G12","v":"1026-S080-U1"},{"$f":"'Peterburi tee'!H12","v":"1036-W120/2-U1"},{"$f":"'Peterburi tee'!I12","v":"2024-T120L-U1"},{"$f":"'Peterburi tee'!J12","v":"2036-120L-U1"},{"$f":"IF(C12='Üldine info'!$C$5,$B12,\"\")","v":""},{"$f":"IF(D12='Üldine info'!$C$5,$B12,\"\")","v":""},{"$f":"IF(E12='Üldine info'!$C$5,$B12,\"\")","v":""},{"$f":"IF(F12='Üldine info'!$C$5,$B12,\"\")","v":""},{"$f":"IF(G12='Üldine info'!$C$5,$B12,\"\")","v":""},{"$f":"IF(H12='Üldine info'!$C$5,$B12,\"\")","v":""},{"$f":"IF(I12='Üldine info'!$C$5,$B12,\"\")","v":""},{"$f":"IF(J12='Üldine info'!$C$5,$B12,\"\")","v":""}]
[null,"4A033",{"$f":"'Peterburi tee'!C13","v":"005-120R-U1"},{"$f":"'Peterburi tee'!D13","v":"022-150L9-U1"},{"$f":"'Peterburi tee'!E13","v":"034-062C-U1"},{"$f":"'Peterburi tee'!F13","v":0},{"$f":"'Peterburi tee'!G13","v":"1026-SS060-U1"},{"$f":"'Peterburi tee'!H13","v":"1037-070C-U1"},{"$f":"'Peterburi tee'!I13","v":"2024-T120R-U1"},{"$f":"'Peterburi tee'!J13","v":"2036-120R-U1"},{"$f":"IF(C13='Üldine info'!$C$5,$B13,\"\")","v":""},{"$f":"IF(D13='Üldine info'!$C$5,$B13,\"\")","v":""},{"$f":"IF(E13='Üldine info'!$C$5,$B13,\"\")","v":""},{"$f":"IF(F13='Üldine info'!$C$5,$B13,\"\")","v":""},{"$f":"IF(G13='Üldine info'!$C$5,$B13,\"\")","v":""},{"$f":"IF(H13='Üldine info'!$C$5,$B13,\"\")","v":""},{"$f":"IF(I13='Üldine info'!$C$5,$B13,\"\")","v":""},{"$f":"IF(J13='Üldine info'!$C$5,$B13,\"\")","v":""}]
[null,"4A034",{"$f":"'Peterburi tee'!C14","v":"005-140C-U1"},{"$f":"'Peterburi tee'!D14","v":"022-150LE4-U1"},{"$f":"'Peterburi tee'!E14","v":"034-092L-U1"},{"$f":"'Peterburi tee'!F14","v":0},{"$f":"'Peterburi tee'!G14","v":"1026-XS060-U1"},{"$f":"'Peterburi tee'!H14","v":"1037-090L-U1"},{"$f":"'Peterburi tee'!I14","v":"2024-T160L-U1"},{"$f":"'Peterburi tee'!J14","v":"2036-124L-U1"},{"$f":"IF(C14='Üldine info'!$C$5,$B14,\"\")","v":""},{"$f":"IF(D14='Üldine info'!$C$5,$B14,\"\")","v":""},{"$f":"IF(E14='Üldine info'!$C$5,$B14,\"\")","v":""},{"$f":"IF(F14='Üldine info'!$C$5,$B14,\"\")","v":""},{"$f":"IF(G14='Üldine info'!$C$5,$B14,\"\")","v":""},{"$f":"IF(H14='Üldine info'!$C$5,$B14,\"\")","v":""},{"$f":"IF(I14='Üldine info'!$C$5,$B14,\"\")","v":""},{"$f":"IF(J14='Üldine info'!$C$5,$B14,\"\")","v":""}]
[null,"4A041",{"$f":"'Peterburi tee'!C15","v":"005-150D-U1"},{"$f":"'Peterburi tee'!D15","v":0},{"$f":"'Peterburi tee'!E15","v":0},{"$f":"'Peterburi tee'!F15","v":0},{"$f":"'Peterburi tee'!G15","v":"1026-XS080-U1"},{"$f":"'Peterburi tee'!H15","v":"1037-090R-U1"},{"$f":"'Peterburi tee'!I15","v":"2024-T160R-U1"},{"$f":"'Peterburi tee'!J15","v":"2036-124R-U1"},{"$f":"IF(C15='Üldine info'!$C$5,$B15,\"\")","v":""},{"$f":"IF(D15='Üldine info'!$C$5,$B15,\"\")","v":""},{"$f":"IF(E15='Üldine info'!$C$5,$B15,\"\")","v":""},{"$f":"IF(F15='Üldine info'!$C$5,$B15,\"\")","v":""},{"$f":"IF(G15='Üldine info'!$C$5,$B15,\"\")","v":""},{"$f":"IF(H15='Üldine info'!$C$5,$B15,\"\")","v":""},{"$f":"IF(I15='Üldine info'!$C$5,$B15,\"\")","v":""},{"$f":"IF(J15='Üldine info'!$C$5,$B15,\"\")","v":""}]
[null,"4A042",{"$f":"'Peterburi tee'!C16","v":"005-180C-U1"},{"$f":"'Peterburi tee'!D16","v":0},{"$f":"'Peterburi tee'!E16","v":"034-114L-U1"},{"$f":"'Peterburi tee'!F16","v":"038-624/2-U1"},{"$f":"'Peterburi tee'!G16","v":"1027-090C-U1"},{"$f":"'Peterburi tee'!H16","v":"1037-110C-U1"},{"$f":"'Peterburi tee'!I16","v":"2025-040C-U1"},{"$f":"'Peterburi tee'!J16","v":"2036-140/2-U1"},{"$f":"IF(C16='Üldine info'!$C$5,$B16,\"\")","v":""},{"$f":"IF(D16='Üldine info'!$C$5,$B16,\"\")","v":""},{"$f":"IF(E16='Üldine info'!$C$5,$B16,\"\")","v":""},{"$f":"IF(F16='Üldine info'!$C$5,$B16,\"\")","v":""},{"$f":"IF(G16='Üldine info'!$C$5,$B16,\"\")","v":""},{"$f":"IF(H16='Üldine info'!$C$5,$B16,\"\")","v":""},{"$f":"IF(I16='Üldine info'!$C$5,$B16,\"\")","v":""},{"$f":"IF(J16='Üldine info'!$C$5,$B16,\"\")","v":""}]
[null,"4A043",{"$f":"'Peterburi tee'!C17","v":"005-180L-U1"},{"$f":"'Peterburi tee'!D17","v":0},{"$f":"'Peterburi tee'!E17","v":"034-114R-U1"},{"$f":"'Peterburi tee'!F17","v":"038-626/1-U1"},{"$f":"'Peterburi tee'!G17","v":"1027-120C-U1"},{"$f":"'Peterburi tee'!H17","v":"1037-120L-U1"},{"$f":"'Peterburi tee'!I17","v":"2025-C70C-U1"},{"$f":"'Peterburi tee'!J17","v":"2036-142L-U1"},{"$f":"IF(C17='Üldine info'!$C$5,$B17,\"\")","v":""},{"$f":"IF(D17='Üldine info'!$C$5,$B17,\"\")","v":""},{"$f":"IF(E17='Üldine info'!$C$5,$B17,\"\")","v":""},{"$f":"IF(F17='Üldine info'!$C$5,$B17,\"\")","v":""},{"$f":"IF(G17='Üldine info'!$C$5,$B17,\"\")","v":""},{"$f":"IF(H17='Üldine info'!$C$5,$B17,\"\")","v":""},{"$f":"IF(I17='Üldine info'!$C$5,$B17,\"\")","v":""},{"$f":"IF(J17='Üldine info'!$C$5,$B17,\"\")","v":""}]
[null,"4A044",{"$f":"'Peterburi tee'!C18","v":"005-180R-U1"},{"$f":"'Peterburi tee'!D18","v":0},{"$f":"'Peterburi tee'!E18","v":"034-124L-U1"},{"$f":"'Peterburi tee'!F18","v":"038-626/2-U1"},{"$f":"'Peterburi tee'!G18","v":"1027-150/2-U1"},{"$f":"'Peterburi tee'!H18","v":"1037-120R-U1"},{"$f":"'Peterburi tee'!I18","v":"2025-T030-U1"},{"$f":"'Peterburi tee'!J18","v":"2036-142R-U1"},{"$f":"IF(C18='Üldine info'!$C$5,$B18,\"\")","v":""},{"$f":"IF(D18='Üldine info'!$C$5,$B18,\"\")","v":""},{"$f":"IF(E18='Üldine info'!$C$5,$B18,\"\")","v":""},{"$f":"IF(F18='Üldine info'!$C$5,$B18,\"\")","v":""},{"$f":"IF(G18='Üldine info'!$C$5,$B18,\"\")","v":""},{"$f":"IF(H18='Üldine info'!$C$5,$B18,\"\")","v":""},{"$f":"IF(I18='Üldine info'!$C$5,$B18,\"\")","v":""},{"$f":"IF(J18='Üldine info'!$C$5,$B18,\"\")","v":""}]
[null,"4A051",{"$f":"'Peterburi tee'!C19","v":"005E-053C-U1"},{"$f":"'Peterburi tee'!D19","v":"022-150PL6-U1"},{"$f":"'Peterburi tee'!E19","v":"034-124R-U1"},{"$f":"'Peterburi tee'!F19","v":"038-626/3-U1"},{"$f":"'Peterburi tee'!G19","v":"1027-M090C-U1"},{"$f":"'Peterburi tee'!H19","v":"1037-150/2-U1"},{"$f":"'Peterburi tee'!I19","v":"2025-T060-U1"},{"$f":"'Peterburi tee'!J19","v":"2036-143A-U1"},{"$f":"IF(C19='Üldine info'!$C$5,$B19,\"\")","v":""},{"$f":"IF(D19='Üldine info'!$C$5,$B19,\"\")","v":""},{"$f":"IF(E19='Üldine info'!$C$5,$B19,\"\")","v":""},{"$f":"IF(F19='Üldine info'!$C$5,$B19,\"\")","v":""},{"$f":"IF(G19='Üldine info'!$C$5,$B19,\"\")","v":""},{"$f":"IF(H19='Üldine info'!$C$5,$B19,\"\")","v":""},{"$f":"IF(I19='Üldine info'!$C$5,$B19,\"\")","v":""},{"$f":"IF(J19='Üldine info'!$C$5,$B19,\"\")","v":""}]
[null,"4A052",{"$f":"'Peterburi tee'!C20","v":0},{"$f":"'Peterburi tee'!D20","v":"022-150PL7-U1"},{"$f":"'Peterburi tee'!E20","v":"034-A082L-U1"},{"$f":"'Peterburi tee'!F20","v":"038-630/1-U1"},{"$f":"'Peterburi tee'!G20","v":"1027-M120C-U1"},{"$f":"'Peterburi tee'!H20","v":"1037-240/3-U1"},{"$f":"'Peterburi tee'!I20","v":"2025-V100L-U1"},{"$f":"'Peterburi tee'!J20","v":"2036-180/3-U1"},{"$f":"IF(C20='Üldine info'!$C$5,$B20,\"\")","v":""},{"$f":"IF(D20='Üldine info'!$C$5,$B20,\"\")","v":""},{"$f":"IF(E20='Üldine info'!$C$5,$B20,\"\")","v":""},{"$f":"IF(F20='Üldine info'!$C$5,$B20,\"\")","v":""},{"$f":"IF(G20='Üldine info'!$C$5,$B20,\"\")","v":""},{"$f":"IF(H20='Üldine info'!$C$5,$B20,\"\")","v":""},{"$f":"IF(I20='Üldine info'!$C$5,$B20,\"\")","v":""},{"$f":"IF(J20='Üldine info'!$C$5,$B20,\"\")","v":""}]
[null,"4A053",{"$f":"'Peterburi tee'!C21","v":0},{"$f":"'Peterburi tee'!D21","v":"022-150PL8-U1"},{"$f":"'Peterburi tee'!E21","v":"034-A082R-U1"},{"$f":"'Peterburi tee'!F21","v":"038-630/2-U1"},{"$f":"'Peterburi tee'!G21","v":"1027-M150/2-U1"},{"$f":"'Peterburi tee'!H21","v":"1038-050C-U1"},{"$f":"'Peterburi tee'!I21","v":"2025-V100R-U1"},{"$f":"'Peterburi tee'!J21","v":"2036-210/3-U1"},{"$f":"IF(C21='Üldine info'!$C$5,$B21,\"\")","v":""},{"$f":"IF(D21='Üldine info'!$C$5,$B21,\"\")","v":""},{"$f":"IF(E21='Üldine info'!$C$5,$B21,\"\")","v":""},{"$f":"IF(F21='Üldine info'!$C$5,$B21,\"\")","v":""},{"$f":"IF(G21='Üldine info'!$C$5,$B21,\"\")","v":""},{"$f":"IF(H21='Üldine info'!$C$5,$B21,\"\")","v":""},{"$f":"IF(I21='Üldine info'!$C$5,$B21,\"\")","v":""},{"$f":"IF(J21='Üldine info'!$C$5,$B21,\"\")","v":""}]
[null,"4A054",{"$f":"'Peterburi tee'!C22","v":"005E-090L-U1"},{"$f":"'Peterburi tee'!D22","v":"022-150PL9-U1"},{"$f":"'Peterburi tee'!E22","v":"034-A105L-U1"},{"$f":"'Peterburi tee'!F22","v":"038-630/3-U1"},{"$f":"'Peterburi tee'!G22","v":"1028-033C-U1"},{"$f":"'Peterburi tee'!H22","v":"1038-070C-U1"},{"$f":"'Peterburi tee'!I22","v":"2026-059C-U1"},{"$f":"'Peterburi tee'!J22","v":"2036-495L-U1"},{"$f":"IF(C22='Üldine info'!$C$5,$B22,\"\")","v":""},{"$f":"IF(D22='Üldine info'!$C$5,$B22,\"\")","v":""},{"$f":"IF(E22='Üldine info'!$C$5,$B22,\"\")","v":""},{"$f":"IF(F22='Üldine info'!$C$5,$B22,\"\")","v":""},{"$f":"IF(G22='Üldine info'!$C$5,$B22,\"\")","v":""},{"$f":"IF(H22='Üldine info'!$C$5,$B22,\"\")","v":""},{"$f":"IF(I22='Üldine info'!$C$5,$B22,\"\")","v":""},{"$f":"IF(J22='Üldine info'!$C$5,$B22,\"\")","v":""}]
[null,"4A061",{"$f":"'Peterburi tee'!C23","v":0},{"$f":"'Peterburi tee'!D23","v":"022-150PLE6-U1"},{"$f":"'Peterburi tee'!E23","v":"034-A105R-U1"},{"$f":"'Peterburi tee'!F23","v":"038-634/1-U1"},{"$f":"'Peterburi tee'!G23","v":"1028-037SL-U1"},{"$f":"'Peterburi tee'!H23","v":"1038-072C-U1"},{"$f":"'Peterburi tee'!I23","v":"2026-060C-U1"},{"$f":"'Peterburi tee'!J23","v":"2036-T090-U1"},{"$f":"IF(C23='Üldine info'!$C$5,$B23,\"\")","v":""},{"$f":"IF(D23='Üldine info'!$C$5,$B23,\"\")","v":""},{"$f":"IF(E23='Üldine info'!$C$5,$B23,\"\")","v":""},{"$f":"IF(F23='Üldine info'!$C$5,$B23,\"\")","v":""},{"$f":"IF(G23='Üldine info'!$C$5,$B23,\"\")","v":""},{"$f":"IF(H23='Üldine info'!$C$5,$B23,\"\")","v":""},{"$f":"IF(I23='Üldine info'!$C$5,$B23,\"\")","v":""},{"$f":"IF(J23='Üldine info'!$C$5,$B23,\"\")","v":""}]
[null,"4A062",{"$f":"'Peterburi tee'!C24","v":0},{"$f":"'Peterburi tee'!D24","v":"022-150PR0-U1"},{"$f":"'Peterburi tee'!E24","v":"034-A124L-U1"},{"$f":"'Peterburi tee'!F24","v":"038-634/2-U1"},{"$f":"'Peterburi tee'!G24","v":"1028-037SR-U1"},{"$f":"'Peterburi tee'!H24","v":"1038-088C-U1"},{"$f":"'Peterburi tee'!I24","v":"2026-E060-U1"},{"$f":"'Peterburi tee'!J24","v":"2036-T120-U1"},{"$f":"IF(C24='Üldine info'!$C$5,$B24,\"\")","v":""},{"$f":"IF(D24='Üldine info'!$C$5,$B24,\"\")","v":""},{"$f":"IF(E24='Üldine info'!$C$5,$B24,\"\")","v":""},{"$f":"IF(F24='Üldine info'!$C$5,$B24,\"\")","v":""},{"$f":"IF(G24='Üldine info'!$C$5,$B24,\"\")","v":""},{"$f":"IF(H24='Üldine info'!$C$5,$B24,\"\")","v":""},{"$f":"IF(I24='Üldine info'!$C$5,$B24,\"\")","v":""},{"$f":"IF(J24='Üldine info'!$C$5,$B24,\"\")","v":""}]
[null,"4A063",{"$f":"'Peterburi tee'!C25","v":"005E-100R-U1"},{"$f":"'Peterburi tee'!D25","v":0},{"$f":"'Peterburi tee'!E25","v":0},{"$f":"'Peterburi tee'!F25","v":0},{"$f":"'Peterburi tee'!G25","v":"1028-044C-U1"},{"$f":"'Peterburi tee'!H25","v":0},{"$f":"'Peterburi tee'!I25","v":"2026-E080-U1"},{"$f":"'Peterburi tee'!J25","v":"2036-W120/2-U1"},{"$f":"IF(C25='Üldine info'!$C$5,$B25,\"\")","v":""},{"$f":"IF(D25='Üldine info'!$C$5,$B25,\"\")","v":""},{"$f":"IF(E25='Üldine info'!$C$5,$B25,\"\")","v":""},{"$f":"IF(F25='Üldine info'!$C$5,$B25,\"\")","v":""},{"$f":"IF(G25='Üldine info'!$C$5,$B25,\"\")","v":""},{"$f":"IF(H25='Üldine info'!$C$5,$B25,\"\")","v":""},{"$f":"IF(I25='Üldine info'!$C$5,$B25,\"\")","v":""},{"$f":"IF(J25='Üldine info'!$C$5,$B25,\"\")","v":""}]
[null,"4A064",{"$f":"'Peterburi tee'!C26","v":"005E-120C-U1"},{"$f":"'Peterburi tee'!D26","v":"022-150PR2-U1"},{"$f":"'Peterburi tee'!E26","v":"034-HR025S-U1"},{"$f":"'Peterburi tee'!F26","v":0},{"$f":"'Peterburi tee'!G26","v":"1028-050L-U1"},{"$f":"'Peterburi tee'!H26","v":0},{"$f":"'Peterburi tee'!I26","v":0},{"$f":"'Peterburi tee'!J26","v":"2037-070C-U1"},{"$f":"IF(C26='Üldine info'!$C$5,$B26,\"\")","v":""},{"$f":"IF(D26='Üldine info'!$C$5,$B26,\"\")","v":""},{"$f":"IF(E26='Üldine info'!$C$5,$B26,\"\")","v":""},{"$f":"IF(F26='Üldine info'!$C$5,$B26,\"\")","v":""},{"$f":"IF(G26='Üldine info'!$C$5,$B26,\"\")","v":""},{"$f":"IF(H26='Üldine info'!$C$5,$B26,\"\")","v":""},{"$f":"IF(I26='Üldine info'!$C$5,$B26,\"\")","v":""},{"$f":"IF(J26='Üldine info'!$C$5,$B26,\"\")","v":""}]
[null,"4A071",{"$f":"'Peterburi tee'!C27","v":"005E-120L-U1"},{"$f":"'Peterburi tee'!D27","v":"022-150PR3-U1"},{"$f":"'Peterburi tee'!E27","v":"034-HR035S-U1"},{"$f":"'Peterburi tee'!F27","v":0},{"$f":"'Peterburi tee'!G27","v":"1028-050R-U1"},{"$f":"'Peterburi tee'!H27","v":"1038-100C-U1"},{"$f":"'Peterburi tee'!I27","v":"2026-S060-U1"},{"$f":"'Peterburi tee'!J27","v":0},{"$f":"IF(C27='Üldine info'!$C$5,$B27,\"\")","v":""},{"$f":"IF(D27='Üldine info'!$C$5,$B27,\"\")","v":""},{"$f":"IF(E27='Üldine info'!$C$5,$B27,\"\")","v":""},{"$f":"IF(F27='Üldine info'!$C$5,$B27,\"\")","v":""},{"$f":"IF(G27='Üldine info'!$C$5,$B27,\"\")","v":""},{"$f":"IF(H27='Üldine info'!$C$5,$B27,\"\")","v":""},{"$f":"IF(I27='Üldine info'!$C$5,$B27,\"\")","v":""},{"$f":"IF(J27='Üldine info'!$C$5,$B27,\"\")","v":""}]
[null,"4A072",{"$f":"'Peterburi tee'!C28","v":"005E-120R-U1"},{"$f":"'Peterburi tee'!D28","v":"022-150PR4-U1"},{"$f":"'Peterburi tee'!E28","v":"034-HR050S-U1"},{"$f":"'Peterburi tee'!F28","v":0},{"$f":"'Peterburi tee'!G28","v":"1028-078C-U1"},{"$f":"'Peterburi tee'!H28","v":"1038-104C-U1"},{"$f":"'Peterburi tee'!I28","v":"2026-S080-U1"},{"$f":"'Peterburi tee'!J28","v":"2037-090R-U1"},{"$f":"IF(C28='Üldine info'!$C$5,$B28,\"\")","v":""},{"$f":"IF(D28='Üldine info'!$C$5,$B28,\"\")","v":""},{"$f":"IF(E28='Üldine info'!$C$5,$B28,\"\")","v":""},{"$f":"IF(F28='Üldine info'!$C$5,$B28,\"\")","v":""},{"$f":"IF(G28='Üldine info'!$C$5,$B28,\"\")","v":""},{"$f":"IF(H28='Üldine info'!$C$5,$B28,\"\")","v":""},{"$f":"IF(I28='Üldine info'!$C$5,$B28,\"\")","v":""},{"$f":"IF(J28='Üldine info'!$C$5,$B28,\"\")","v":""}]
[null,"4A073",{"$f":"'Peterburi tee'!C29","v":"005E-140C-U1"},{"$f":"'Peterburi tee'!D29","v":"022-150PR6-U1"},{"$f":"'Peterburi tee'!E29","v":"034-HR060S-U1"},{"$f":"'Peterburi tee'!F29","v":0},{"$f":"'Peterburi tee'!G29","v":"1028-078SL-U1"},{"$f":"'Peterburi tee'!H29","v":"1038-106C-U1"},{"$f":"'Peterburi tee'!I29","v":"2026-SS060-U1"},{"$f":"'Peterburi tee'!J29","v":"2037-110C-U1"},{"$f":"IF(C29='Üldine info'!$C$5,$B29,\"\")","v":""},{"$f":"IF(D29='Üldine info'!$C$5,$B29,\"\")","v":""},{"$f":"IF(E29='Üldine info'!$C$5,$B29,\"\")","v":""},{"$f":"IF(F29='Üldine info'!$C$5,$B29,\"\")","v":""},{"$f":"IF(G29='Üldine info'!$C$5,$B29,\"\")","v":""},{"$f":"IF(H29='Üldine info'!$C$5,$B29,\"\")","v":""},{"$f":"IF(I29='Üldine info'!$C$5,$B29,\"\")","v":""},{"$f":"IF(J29='Üldine info'!$C$5,$B29,\"\")","v":""}]
[null,"4A074",{"$f":"'Peterburi tee'!C30","v":"005E-180C-U1"},{"$f":"'Peterburi tee'!D30","v":"022-150PR7-U1"},{"$f":"'Peterburi tee'!E30","v":"034-HR070S-U1"},{"$f":"'Peterburi tee'!F30","v":0},{"$f":"'Peterburi tee'!G30","v":0},{"$f":"'Peterburi tee'!H30","v":"1038-120C-U1"},{"$f":"'Peterburi tee'!I30","v":"2026-XS060-U1"},{"$f":"'Peterburi tee'!J30","v":"2037-120L-U1"},{"$f":"IF(C30='Üldine info'!$C$5,$B30,\"\")","v":""},{"$f":"IF(D30='Üldine info'!$C$5,$B30,\"\")","v":""},{"$f":"IF(E30='Üldine info'!$C$5,$B30,\"\")","v":""},{"$f":"IF(F30='Üldine info'!$C$5,$B30,\"\")","v":""},{"$f":"IF(G30='Üldine info'!$C$5,$B30,\"\")","v":""},{"$f":"IF(H30='Üldine info'!$C$5,$B30,\"\")","v":""},{"$f":"IF(I30='Üldine info'!$C$5,$B30,\"\")","v":""},{"$f":"IF(J30='Üldine info'!$C$5,$B30,\"\")","v":""}]
[null,"4A081",{"$f":"'Peterburi tee'!C31","v":"005E-180L-U1"},{"$f":"'Peterburi tee'!D31","v":"022-150PR8-U1"},{"$f":"'Peterburi tee'!E31","v":"034-HR143L-U1"},{"$f":"'Peterburi tee'!F31","v":0},{"$f":"'Peterburi tee'!G31","v":0},{"$f":"'Peterburi tee'!H31","v":0},{"$f":"'Peterburi tee'!I31","v":"2026-XS080-U1"},{"$f":"'Peterburi tee'!J31","v":"2037-120R-U1"},{"$f":"IF(C31='Üldine info'!$C$5,$B31,\"\")","v":""},{"$f":"IF(D31='Üldine info'!$C$5,$B31,\"\")","v":""},{"$f":"IF(E31='Üldine info'!$C$5,$B31,\"\")","v":""},{"$f":"IF(F31='Üldine info'!$C$5,$B31,\"\")","v":""},{"$f":"IF(G31='Üldine info'!$C$5,$B31,\"\")","v":""},{"$f":"IF(H31='Üldine info'!$C$5,$B31,\"\")","v":""},{"$f":"IF(I31='Üldine info'!$C$5,$B31,\"\")","v":""},{"$f":"IF(J31='Üldine info'!$C$5,$B31,\"\")","v":""}]
[null,"4A082",{"$f":"'Peterburi tee'!C32","v":"005E-180R-U1"},{"$f":"'Peterburi tee'!D32","v":"022-150PR9-U1"},{"$f":"'Peterburi tee'!E32","v":"034-HR143R-U1"},{"$f":"'Peterburi tee'!F32","v":0},{"$f":"'Peterburi tee'!G32","v":"1028-090L-U1"},{"$f":"'Peterburi tee'!H32","v":"1038-128L-U1"},{"$f":"'Peterburi tee'!I32","v":0},{"$f":"'Peterburi tee'!J32","v":"2037-150/2-U1"},{"$f":"IF(C32='Üldine info'!$C$5,$B32,\"\")","v":""},{"$f":"IF(D32='Üldine info'!$C$5,$B32,\"\")","v":""},{"$f":"IF(E32='Üldine info'!$C$5,$B32,\"\")","v":""},{"$f":"IF(F32='Üldine info'!$C$5,$B32,\"\")","v":""},{"$f":"IF(G32='Üldine info'!$C$5,$B32,\"\")","v":""},{"$f":"IF(H32='Üldine info'!$C$5,$B32,\"\")","v":""},{"$f":"IF(I32='Üldine info'!$C$5,$B32,\"\")","v":""},{"$f":"IF(J32='Üldine info'!$C$5,$B32,\"\")","v":""}]
[null,"4A083",{"$f":"'Peterburi tee'!C33","v":0},{"$f":"'Peterburi tee'!D33","v":"022-150PRE6-U1"},{"$f":"'Peterburi tee'!E33","v":"034-HR185L-U1"},{"$f":"'Peterburi tee'!F33","v":0},{"$f":"'Peterburi tee'!G33","v":"1028-090R-U1"},{"$f":"'Peterburi tee'!H33","v":"1038-128R/2-U1"},{"$f":"'Peterburi tee'!I33","v":0},{"$f":"'Peterburi tee'!J33","v":"2037-240/3-U1"},{"$f":"IF(C33='Üldine info'!$C$5,$B33,\"\")","v":""},{"$f":"IF(D33='Üldine info'!$C$5,$B33,\"\")","v":""},{"$f":"IF(E33='Üldine info'!$C$5,$B33,\"\")","v":""},{"$f":"IF(F33='Üldine info'!$C$5,$B33,\"\")","v":""},{"$f":"IF(G33='Üldine info'!$C$5,$B33,\"\")","v":""},{"$f":"IF(H33='Üldine info'!$C$5,$B33,\"\")","v":""},{"$f":"IF(I33='Üldine info'!$C$5,$B33,\"\")","v":""},{"$f":"IF(J33='Üldine info'!$C$5,$B33,\"\")","v":""}]
[null,"4A084",{"$f":"'Peterburi tee'!C34","v":"007-150C-U1"},{"$f":"'Peterburi tee'!D34","v":"022-150R0-U1"},{"$f":"'Peterburi tee'!E34","v":"034-HR192L-U1"},{"$f":"'Peterburi tee'!F34","v":0},{"$f":"'Peterburi tee'!G34","v":"1028-100L/0-U1"},{"$f":"'Peterburi tee'!H34","v":"1038-128R-U1"},{"$f":"'Peterburi tee'!I34","v":0},{"$f":"'Peterburi tee'!J34","v":"2038-050C-U1"},{"$f":"IF(C34='Üldine info'!$C$5,$B34,\"\")","v":""},{"$f":"IF(D34='Üldine info'!$C$5,$B34,\"\")","v":""},{"$f":"IF(E34='Üldine info'!$C$5,$B34,\"\")","v":""},{"$f":"IF(F34='Üldine info'!$C$5,$B34,\"\")","v":""},{"$f":"IF(G34='Üldine info'!$C$5,$B34,\"\")","v":""},{"$f":"IF(H34='Üldine info'!$C$5,$B34,\"\")","v":""},{"$f":"IF(I34='Üldine info'!$C$5,$B34,\"\")","v":""},{"$f":"IF(J34='Üldine info'!$C$5,$B34,\"\")","v":""}]
[null,"4A091",{"$f":"'Peterburi tee'!C35","v":"007-170C-U1"},{"$f":"'Peterburi tee'!D35","v":"022-150R1-U1"},{"$f":"'Peterburi tee'!E35","v":"034-HR192R-U1"},{"$f":"'Peterburi tee'!F35","v":0},{"$f":"'Peterburi tee'!G35","v":"1028-100L-U1"},{"$f":"'Peterburi tee'!H35","v":"1038-130C-U1"},{"$f":"'Peterburi tee'!I35","v":"2027-M090C-U1"},{"$f":"'Peterburi tee'!J35","v":"2038-070C-U1"},{"$f":"IF(C35='Üldine info'!$C$5,$B35,\"\")","v":""},{"$f":"IF(D35='Üldine info'!$C$5,$B35,\"\")","v":""},{"$f":"IF(E35='Üldine info'!$C$5,$B35,\"\")","v":""},{"$f":"IF(F35='Üldine info'!$C$5,$B35,\"\")","v":""},{"$f":"IF(G35='Üldine info'!$C$5,$B35,\"\")","v":""},{"$f":"IF(H35='Üldine info'!$C$5,$B35,\"\")","v":""},{"$f":"IF(I35='Üldine info'!$C$5,$B35,\"\")","v":""},{"$f":"IF(J35='Üldine info'!$C$5,$B35,\"\")","v":""}]
[null,"4A092",{"$f":"'Peterburi tee'!C36","v":"008-060C-U1"},{"$f":"'Peterburi tee'!D36","v":0},{"$f":"'Peterburi tee'!E36","v":"034-HR220L-U1"},{"$f":"'Peterburi tee'!F36","v":0},{"$f":"'Peterburi tee'!G36","v":"1028-100R/0-U1"},{"$f":"'Peterburi tee'!H36","v":"1038-132C-U1"},{"$f":"'Peterburi tee'!I36","v":"2027-M120C-U1"},{"$f":"'Peterburi tee'!J36","v":"2038-072C-U1"},{"$f":"IF(C36='Üldine info'!$C$5,$B36,\"\")","v":""},{"$f":"IF(D36='Üldine info'!$C$5,$B36,\"\")","v":""},{"$f":"IF(E36='Üldine info'!$C$5,$B36,\"\")","v":""},{"$f":"IF(F36='Üldine info'!$C$5,$B36,\"\")","v":""},{"$f":"IF(G36='Üldine info'!$C$5,$B36,\"\")","v":""},{"$f":"IF(H36='Üldine info'!$C$5,$B36,\"\")","v":""},{"$f":"IF(I36='Üldine info'!$C$5,$B36,\"\")","v":""},{"$f":"IF(J36='Üldine info'!$C$5,$B36,\"\")","v":""}]
[null,"4A093",{"$f":"'Peterburi tee'!C37","v":"008-080C-U1"},{"$f":"'Peterburi tee'!D37","v":"022-150R3-U1"},{"$f":"'Peterburi tee'!E37","v":"034-HR220R-U1"},{"$f":"'Peterburi tee'!F37","v":0},{"$f":"'Peterburi tee'!G37","v":0},{"$f":"'Peterburi tee'!H37","v":"1038-170C-U1"},{"$f":"'Peterburi tee'!I37","v":"2027-M150/2-U1"},{"$f":"'Peterburi tee'!J37","v":"2038-088C-U1"},{"$f":"IF(C37='Üldine info'!$C$5,$B37,\"\")","v":""},{"$f":"IF(D37='Üldine info'!$C$5,$B37,\"\")","v":""},{"$f":"IF(E37='Üldine info'!$C$5,$B37,\"\")","v":""},{"$f":"IF(F37='Üldine info'!$C$5,$B37,\"\")","v":""},{"$f":"IF(G37='Üldine info'!$C$5,$B37,\"\")","v":""},{"$f":"IF(H37='Üldine info'!$C$5,$B37,\"\")","v":""},{"$f":"IF(I37='Üldine info'!$C$5,$B37,\"\")","v":""},{"$f":"IF(J37='Üldine info'!$C$5,$B37,\"\")","v":""}]
[null,"4A094",{"$f":"'Peterburi tee'!C38","v":"008-090L-U1"},{"$f":"'Peterburi tee'!D38","v":"022-150R4-U1"},{"$f":"'Peterburi tee'!E38","v":"034-S187-U1"},{"$f":"'Peterburi tee'!F38","v":0},{"$f":"'Peterburi tee'!G38","v":"1028-128R-U1"},{"$f":"'Peterburi tee'!H38","v":"1038-412/1-U1"},{"$f":"'Peterburi tee'!I38","v":"2028-033C-U1"},{"$f":"'Peterburi tee'!J38","v":"2038-095L-U1"},{"$f":"IF(C38='Üldine info'!$C$5,$B38,\"\")","v":""},{"$f":"IF(D38='Üldine info'!$C$5,$B38,\"\")","v":""},{"$f":"IF(E38='Üldine info'!$C$5,$B38,\"\")","v":""},{"$f":"IF(F38='Üldine info'!$C$5,$B38,\"\")","v":""},{"$f":"IF(G38='Üldine info'!$C$5,$B38,\"\")","v":""},{"$f":"IF(H38='Üldine info'!$C$5,$B38,\"\")","v":""},{"$f":"IF(I38='Üldine info'!$C$5,$B38,\"\")","v":""},{"$f":"IF(J38='Üldine info'!$C$5,$B38,\"\")","v":""}]
[null,"4A101",{"$f":"'Peterburi tee'!C39","v":"008-090R-U1"},{"$f":"'Peterburi tee'!D39","v":"022-150R6-U1"},{"$f":"'Peterburi tee'!E39","v":"034-SA105-U1"},{"$f":"'Peterburi tee'!F39","v":0},{"$f":"'Peterburi tee'!G39","v":"1029-080C-U1"},{"$f":"'Peterburi tee'!H39","v":"1038-418/1-U1"},{"$f":"'Peterburi tee'!I39","v":0},{"$f":"'Peterburi tee'!J39","v":"2038-095R-U1"},{"$f":"IF(C39='Üldine info'!$C$5,$B39,\"\")","v":""},{"$f":"IF(D39='Üldine info'!$C$5,$B39,\"\")","v":""},{"$f":"IF(E39='Üldine info'!$C$5,$B39,\"\")","v":""},{"$f":"IF(F39='Üldine info'!$C$5,$B39,\"\")","v":""},{"$f":"IF(G39='Üldine info'!$C$5,$B39,\"\")","v":""},{"$f":"IF(H39='Üldine info'!$C$5,$B39,\"\")","v":""},{"$f":"IF(I39='Üldine info'!$C$5,$B39,\"\")","v":""},{"$f":"IF(J39='Üldine info'!$C$5,$B39,\"\")","v":""}]
[null,"4A102",{"$f":"'Peterburi tee'!C40","v":"008-120C-U1"},{"$f":"'Peterburi tee'!D40","v":"022-150R7-U1"},{"$f":"'Peterburi tee'!E40","v":"034-SL40-U1"},{"$f":"'Peterburi tee'!F40","v":0},{"$f":"'Peterburi tee'!G40","v":"1029-120C-U1"},{"$f":"'Peterburi tee'!H40","v":"1038-418/2-U1"},{"$f":"'Peterburi tee'!I40","v":"2028-037SR-U1"},{"$f":"'Peterburi tee'!J40","v":"2038-100C-U1"},{"$f":"IF(C40='Üldine info'!$C$5,$B40,\"\")","v":""},{"$f":"IF(D40='Üldine info'!$C$5,$B40,\"\")","v":""},{"$f":"IF(E40='Üldine info'!$C$5,$B40,\"\")","v":""},{"$f":"IF(F40='Üldine info'!$C$5,$B40,\"\")","v":""},{"$f":"IF(G40='Üldine info'!$C$5,$B40,\"\")","v":""},{"$f":"IF(H40='Üldine info'!$C$5,$B40,\"\")","v":""},{"$f":"IF(I40='Üldine info'!$C$5,$B40,\"\")","v":""},{"$f":"IF(J40='Üldine info'!$C$5,$B40,\"\")","v":""}]
[null,"4A103",{"$f":"'Peterburi tee'!C41","v":"008-120D-U1"},{"$f":"'Peterburi tee'!D41","v":"022-150R8-U1"},{"$f":"'Peterburi tee'!E41","v":"034-SM105-U1"},{"$f":"'Peterburi tee'!F41","v":0},{"$f":"'Peterburi tee'!G41","v":"1029-A070C-U1"},{"$f":"'Peterburi tee'!H41","v":"1038-426/1-U1"},{"$f":"'Peterburi tee'!I41","v":"2028-044C-U1"},{"$f":"'Peterburi tee'!J41","v":"2038-104C-U1"},{"$f":"IF(C41='Üldine info'!$C$5,$B41,\"\")","v":""},{"$f":"IF(D41='Üldine info'!$C$5,$B41,\"\")","v":""},{"$f":"IF(E41='Üldine info'!$C$5,$B41,\"\")","v":""},{"$f":"IF(F41='Üldine info'!$C$5,$B41,\"\")","v":""},{"$f":"IF(G41='Üldine info'!$C$5,$B41,\"\")","v":""},{"$f":"IF(H41='Üldine info'!$C$5,$B41,\"\")","v":""},{"$f":"IF(I41='Üldine info'!$C$5,$B41,\"\")","v":""},{"$f":"IF(J41='Üldine info'!$C$5,$B41,\"\")","v":""}]
[null,"4A104",{"$f":"'Peterburi tee'!C42","v":"008E-060C-U1"},{"$f":"'Peterburi tee'!D42","v":"022-150R9-U1"},{"$f":"'Peterburi tee'!E42","v":"034-SS80-U1"},{"$f":"'Peterburi tee'!F42","v":0},{"$f":"'Peterburi tee'!G42","v":"1029-AB070C-U1"},{"$f":"'Peterburi tee'!H42","v":"1038-426/2-U1"},{"$f":"'Peterburi tee'!I42","v":"2028-050L-U1"},{"$f":"'Peterburi tee'!J42","v":"2038-106C-U1"},{"$f":"IF(C42='Üldine info'!$C$5,$B42,\"\")","v":""},{"$f":"IF(D42='Üldine info'!$C$5,$B42,\"\")","v":""},{"$f":"IF(E42='Üldine info'!$C$5,$B42,\"\")","v":""},{"$f":"IF(F42='Üldine info'!$C$5,$B42,\"\")","v":""},{"$f":"IF(G42='Üldine info'!$C$5,$B42,\"\")","v":""},{"$f":"IF(H42='Üldine info'!$C$5,$B42,\"\")","v":""},{"$f":"IF(I42='Üldine info'!$C$5,$B42,\"\")","v":""},{"$f":"IF(J42='Üldine info'!$C$5,$B42,\"\")","v":""}]
[null,"4A111",{"$f":"'Peterburi tee'!C43","v":"008E-080C-U1"},{"$f":"'Peterburi tee'!D43","v":"022-150RE4-U1"},{"$f":"'Peterburi tee'!E43","v":"034-T187L-U1"},{"$f":"'Peterburi tee'!F43","v":0},{"$f":"'Peterburi tee'!G43","v":"1030-120C-U1"},{"$f":"'Peterburi tee'!H43","v":"1038-426/3-U1"},{"$f":"'Peterburi tee'!I43","v":0},{"$f":"'Peterburi tee'!J43","v":"2038-120C-U1"},{"$f":"IF(C43='Üldine info'!$C$5,$B43,\"\")","v":""},{"$f":"IF(D43='Üldine info'!$C$5,$B43,\"\")","v":""},{"$f":"IF(E43='Üldine info'!$C$5,$B43,\"\")","v":""},{"$f":"IF(F43='Üldine info'!$C$5,$B43,\"\")","v":""},{"$f":"IF(G43='Üldine info'!$C$5,$B43,\"\")","v":""},{"$f":"IF(H43='Üldine info'!$C$5,$B43,\"\")","v":""},{"$f":"IF(I43='Üldine info'!$C$5,$B43,\"\")","v":""},{"$f":"IF(J43='Üldine info'!$C$5,$B43,\"\")","v":""}]
[null,"4A112",{"$f":"'Peterburi tee'!C44","v":"008E-090L-U1"},{"$f":"'Peterburi tee'!D44","v":"023-060C-U1"},{"$f":"'Peterburi tee'!E44","v":"034-T187R-U1"},{"$f":"'Peterburi tee'!F44","v":0},{"$f":"'Peterburi tee'!G44","v":"1030-180L-U1"},{"$f":"'Peterburi tee'!H44","v":"1038-434/1-U1"},{"$f":"'Peterburi tee'!I44","v":"2028-078C-U1"},{"$f":"'Peterburi tee'!J44","v":"2038-128L/2-U1"},{"$f":"IF(C44='Üldine info'!$C$5,$B44,\"\")","v":""},{"$f":"IF(D44='Üldine info'!$C$5,$B44,\"\")","v":""},{"$f":"IF(E44='Üldine info'!$C$5,$B44,\"\")","v":""},{"$f":"IF(F44='Üldine info'!$C$5,$B44,\"\")","v":""},{"$f":"IF(G44='Üldine info'!$C$5,$B44,\"\")","v":""},{"$f":"IF(H44='Üldine info'!$C$5,$B44,\"\")","v":""},{"$f":"IF(I44='Üldine info'!$C$5,$B44,\"\")","v":""},{"$f":"IF(J44='Üldine info'!$C$5,$B44,\"\")","v":""}]
[null,"4A113",{"$f":"'Peterburi tee'!C45","v":"008E-090R-U1"},{"$f":"'Peterburi tee'!D45","v":0},{"$f":"'Peterburi tee'!E45","v":0},{"$f":"'Peterburi tee'!F45","v":0},{"$f":"'Peterburi tee'!G45","v":"1030-180R-U1"},{"$f":"'Peterburi tee'!H45","v":"1038-434/2-U1"},{"$f":"'Peterburi tee'!I45","v":"2028-078SL-U1"},{"$f":"'Peterburi tee'!J45","v":"2038-128L-U1"},{"$f":"IF(C45='Üldine info'!$C$5,$B45,\"\")","v":""},{"$f":"IF(D45='Üldine info'!$C$5,$B45,\"\")","v":""},{"$f":"IF(E45='Üldine info'!$C$5,$B45,\"\")","v":""},{"$f":"IF(F45='Üldine info'!$C$5,$B45,\"\")","v":""},{"$f":"IF(G45='Üldine info'!$C$5,$B45,\"\")","v":""},{"$f":"IF(H45='Üldine info'!$C$5,$B45,\"\")","v":""},{"$f":"IF(I45='Üldine info'!$C$5,$B45,\"\")","v":""},{"$f":"IF(J45='Üldine info'!$C$5,$B45,\"\")","v":""}]
[null,"4A114",{"$f":"'Peterburi tee'!C46","v":0},{"$f":"'Peterburi tee'!D46","v":"023-080C-U1"},{"$f":"'Peterburi tee'!E46","v":"035-040C-U1"},{"$f":"'Peterburi tee'!F46","v":0},{"$f":"'Peterburi tee'!G46","v":"1031-080CP-U1"},{"$f":"'Peterburi tee'!H46","v":"1038-434/3-U1"},{"$f":"'Peterburi tee'!I46","v":"2028-078SR-U1"},{"$f":"'Peterburi tee'!J46","v":"2038-128R/2-U1"},{"$f":"IF(C46='Üldine info'!$C$5,$B46,\"\")","v":""},{"$f":"IF(D46='Üldine info'!$C$5,$B46,\"\")","v":""},{"$f":"IF(E46='Üldine info'!$C$5,$B46,\"\")","v":""},{"$f":"IF(F46='Üldine info'!$C$5,$B46,\"\")","v":""},{"$f":"IF(G46='Üldine info'!$C$5,$B46,\"\")","v":""},{"$f":"IF(H46='Üldine info'!$C$5,$B46,\"\")","v":""},{"$f":"IF(I46='Üldine info'!$C$5,$B46,\"\")","v":""},{"$f":"IF(J46='Üldine info'!$C$5,$B46,\"\")","v":""}]
[null,"4A121",{"$f":"'Peterburi tee'!C47","v":"008E-120D-U1"},{"$f":"'Peterburi tee'!D47","v":"023-080F-U1"},{"$f":"'Peterburi tee'!E47","v":"035-045L-U1"},{"$f":"'Peterburi tee'!F47","v":0},{"$f":"'Peterburi tee'!G47","v":0},{"$f":"'Peterburi tee'!H47","v":"1038-512/1-U1"},{"$f":"'Peterburi tee'!I47","v":0},{"$f":"'Peterburi tee'!J47","v":"2038-128R-U1"},{"$f":"IF(C47='Üldine info'!$C$5,$B47,\"\")","v":""},{"$f":"IF(D47='Üldine info'!$C$5,$B47,\"\")","v":""},{"$f":"IF(E47='Üldine info'!$C$5,$B47,\"\")","v":""},{"$f":"IF(F47='Üldine info'!$C$5,$B47,\"\")","v":""},{"$f":"IF(G47='Üldine info'!$C$5,$B47,\"\")","v":""},{"$f":"IF(H47='Üldine info'!$C$5,$B47,\"\")","v":""},{"$f":"IF(I47='Üldine info'!$C$5,$B47,\"\")","v":""},{"$f":"IF(J47='Üldine info'!$C$5,$B47,\"\")","v":""}]
[null,"4A122",{"$f":"'Peterburi tee'!C48","v":"009-060C-U1"},{"$f":"'Peterburi tee'!D48","v":"023-120C-U1"},{"$f":"'Peterburi tee'!E48","v":"035-045R-U1"},{"$f":"'Peterburi tee'!F48","v":0},{"$f":"'Peterburi tee'!G48","v":"1031-120CP-U1"},{"$f":"'Peterburi tee'!H48","v":"1038-51440CX-U1"},{"$f":"'Peterburi tee'!I48","v":"2028-090L-U1"},{"$f":"'Peterburi tee'!J48","v":"2038-130C-U1"},{"$f":"IF(C48='Üldine info'!$C$5,$B48,\"\")","v":""},{"$f":"IF(D48='Üldine info'!$C$5,$B48,\"\")","v":""},{"$f":"IF(E48='Üldine info'!$C$5,$B48,\"\")","v":""},{"$f":"IF(F48='Üldine info'!$C$5,$B48,\"\")","v":""},{"$f":"IF(G48='Üldine info'!$C$5,$B48,\"\")","v":""},{"$f":"IF(H48='Üldine info'!$C$5,$B48,\"\")","v":""},{"$f":"IF(I48='Üldine info'!$C$5,$B48,\"\")","v":""},{"$f":"IF(J48='Üldine info'!$C$5,$B48,\"\")","v":""}]
[null,"4A123",{"$f":"'Peterburi tee'!C49","v":"009-080C-U1"},{"$f":"'Peterburi tee'!D49","v":"023-120D-U1"},{"$f":"'Peterburi tee'!E49","v":"035-051L-U1"},{"$f":"'Peterburi tee'!F49","v":0},{"$f":"'Peterburi tee'!G49","v":"1031-120C-U1"},{"$f":"'Peterburi tee'!H49","v":"1038-524/1-U1"},{"$f":"'Peterburi tee'!I49","v":"2028-090R-U1"},{"$f":"'Peterburi tee'!J49","v":"2038-132C-U1"},{"$f":"IF(C49='Üldine info'!$C$5,$B49,\"\")","v":""},{"$f":"IF(D49='Üldine info'!$C$5,$B49,\"\")","v":""},{"$f":"IF(E49='Üldine info'!$C$5,$B49,\"\")","v":""},{"$f":"IF(F49='Üldine info'!$C$5,$B49,\"\")","v":""},{"$f":"IF(G49='Üldine info'!$C$5,$B49,\"\")","v":""},{"$f":"IF(H49='Üldine info'!$C$5,$B49,\"\")","v":""},{"$f":"IF(I49='Üldine info'!$C$5,$B49,\"\")","v":""},{"$f":"IF(J49='Üldine info'!$C$5,$B49,\"\")","v":""}]
[null,"4A124",{"$f":"'Peterburi tee'!C50","v":0},{"$f":"'Peterburi tee'!D50","v":"023-120F-U1"},{"$f":"'Peterburi tee'!E50","v":"035-051R-U1"},{"$f":"'Peterburi tee'!F50","v":0},{"$f":"'Peterburi tee'!G50","v":"1031-120LP-U1"},{"$f":"'Peterburi tee'!H50","v":"1038-524/2-U1"},{"$f":"'Peterburi tee'!I50","v":"2028-100L/0-U1"},{"$f":"'Peterburi tee'!J50","v":"2038-170C-U1"},{"$f":"IF(C50='Üldine info'!$C$5,$B50,\"\")","v":""},{"$f":"IF(D50='Üldine info'!$C$5,$B50,\"\")","v":""},{"$f":"IF(E50='Üldine info'!$C$5,$B50,\"\")","v":""},{"$f":"IF(F50='Üldine info'!$C$5,$B50,\"\")","v":""},{"$f":"IF(G50='Üldine info'!$C$5,$B50,\"\")","v":""},{"$f":"IF(H50='Üldine info'!$C$5,$B50,\"\")","v":""},{"$f":"IF(I50='Üldine info'!$C$5,$B50,\"\")","v":""},{"$f":"IF(J50='Üldine info'!$C$5,$B50,\"\")","v":""}]
[null,"4A131",{"$f":"'Peterburi tee'!C51","v":0},{"$f":"'Peterburi tee'!D51","v":"023-A200-U1"},{"$f":"'Peterburi tee'!E51","v":"035-058C-U1"},{"$f":"'Peterburi tee'!F51","v":0},{"$f":"'Peterburi tee'!G51","v":"1031-120RP-U1"},{"$f":"'Peterburi tee'!H51","v":"1038-541600C-U1"},{"$f":"'Peterburi tee'!I51","v":"2028-100R/0-U1"},{"$f":"'Peterburi tee'!J51","v":"2038-412/1-U1"},{"$f":"IF(C51='Üldine info'!$C$5,$B51,\"\")","v":""},{"$f":"IF(D51='Üldine info'!$C$5,$B51,\"\")","v":""},{"$f":"IF(E51='Üldine info'!$C$5,$B51,\"\")","v":""},{"$f":"IF(F51='Üldine info'!$C$5,$B51,\"\")","v":""},{"$f":"IF(G51='Üldine info'!$C$5,$B51,\"\")","v":""},{"$f":"IF(H51='Üldine info'!$C$5,$B51,\"\")","v":""},{"$f":"IF(I51='Üldine info'!$C$5,$B51,\"\")","v":""},{"$f":"IF(J51='Üldine info'!$C$5,$B51,\"\")","v":""}]
[null,"4A132",{"$f":"'Peterburi tee'!C52","v":"014-060C-U1"},{"$f":"'Peterburi tee'!D52","v":"023-AM200-U1"},{"$f":"'Peterburi tee'!E52","v":"035-060C-U1"},{"$f":"'Peterburi tee'!F52","v":0},{"$f":"'Peterburi tee'!G52","v":"1031-160C-U1"},{"$f":"'Peterburi tee'!H52","v":"1038-612/1-U1"},{"$f":"'Peterburi tee'!I52","v":"2029-080C-U1"},{"$f":"'Peterburi tee'!J52","v":"2038-418/1-U1"},{"$f":"IF(C52='Üldine info'!$C$5,$B52,\"\")","v":""},{"$f":"IF(D52='Üldine info'!$C$5,$B52,\"\")","v":""},{"$f":"IF(E52='Üldine info'!$C$5,$B52,\"\")","v":""},{"$f":"IF(F52='Üldine info'!$C$5,$B52,\"\")","v":""},{"$f":"IF(G52='Üldine info'!$C$5,$B52,\"\")","v":""},{"$f":"IF(H52='Üldine info'!$C$5,$B52,\"\")","v":""},{"$f":"IF(I52='Üldine info'!$C$5,$B52,\"\")","v":""},{"$f":"IF(J52='Üldine info'!$C$5,$B52,\"\")","v":""}]
[null,"4A133",{"$f":"'Peterburi tee'!C53","v":"014-100L-U1"},{"$f":"'Peterburi tee'!D53","v":"023-C200-U1"},{"$f":"'Peterburi tee'!E53","v":"035-063C-U1"},{"$f":"'Peterburi tee'!F53","v":0},{"$f":"'Peterburi tee'!G53","v":"1031-180C-U1"},{"$f":"'Peterburi tee'!H53","v":"1038-618/1-U1"},{"$f":"'Peterburi tee'!I53","v":"2029-120C-U1"},{"$f":"'Peterburi tee'!J53","v":"2038-418/2-U1"},{"$f":"IF(C53='Üldine info'!$C$5,$B53,\"\")","v":""},{"$f":"IF(D53='Üldine info'!$C$5,$B53,\"\")","v":""},{"$f":"IF(E53='Üldine info'!$C$5,$B53,\"\")","v":""},{"$f":"IF(F53='Üldine info'!$C$5,$B53,\"\")","v":""},{"$f":"IF(G53='Üldine info'!$C$5,$B53,\"\")","v":""},{"$f":"IF(H53='Üldine info'!$C$5,$B53,\"\")","v":""},{"$f":"IF(I53='Üldine info'!$C$5,$B53,\"\")","v":""},{"$f":"IF(J53='Üldine info'!$C$5,$B53,\"\")","v":""}]
[null,"4A134",{"$f":"'Peterburi tee'!C54","v":"014-100R-U1"},{"$f":"'Peterburi tee'!D54","v":"023-CXS20-U1"},{"$f":"'Peterburi tee'!E54","v":"035-068L-U1"},{"$f":"'Peterburi tee'!F54","v":0},{"$f":"'Peterburi tee'!G54","v":0},{"$f":"'Peterburi tee'!H54","v":"1038-618/2-U1"},{"$f":"'Peterburi tee'!I54","v":"2029-A070C-U1"},{"$f":"'Peterburi tee'!J54","v":"2038-426/1-U1"},{"$f":"IF(C54='Üldine info'!$C$5,$B54,\"\")","v":""},{"$f":"IF(D54='Üldine info'!$C$5,$B54,\"\")","v":""},{"$f":"IF(E54='Üldine info'!$C$5,$B54,\"\")","v":""},{"$f":"IF(F54='Üldine info'!$C$5,$B54,\"\")","v":""},{"$f":"IF(G54='Üldine info'!$C$5,$B54,\"\")","v":""},{"$f":"IF(H54='Üldine info'!$C$5,$B54,\"\")","v":""},{"$f":"IF(I54='Üldine info'!$C$5,$B54,\"\")","v":""},{"$f":"IF(J54='Üldine info'!$C$5,$B54,\"\")","v":""}]
[null,"4A141",{"$f":"'Peterburi tee'!C55","v":"014-120L-U1"},{"$f":"'Peterburi tee'!D55","v":"023-D200-U1"},{"$f":"'Peterburi tee'!E55","v":0},{"$f":"'Peterburi tee'!F55","v":0},{"$f":"'Peterburi tee'!G55","v":"1031-180R-U1"},{"$f":"'Peterburi tee'!H55","v":"1038-624/1-U1"},{"$f":"'Peterburi tee'!I55","v":"2029-AB070C-U1"},{"$f":"'Peterburi tee'!J55","v":"2038-426/2-U1"},{"$f":"IF(C55='Üldine info'!$C$5,$B55,\"\")","v":""},{"$f":"IF(D55='Üldine info'!$C$5,$B55,\"\")","v":""},{"$f":"IF(E55='Üldine info'!$C$5,$B55,\"\")","v":""},{"$f":"IF(F55='Üldine info'!$C$5,$B55,\"\")","v":""},{"$f":"IF(G55='Üldine info'!$C$5,$B55,\"\")","v":""},{"$f":"IF(H55='Üldine info'!$C$5,$B55,\"\")","v":""},{"$f":"IF(I55='Üldine info'!$C$5,$B55,\"\")","v":""},{"$f":"IF(J55='Üldine info'!$C$5,$B55,\"\")","v":""}]
[null,"4A142",{"$f":"'Peterburi tee'!C56","v":"014-120R-U1"},{"$f":"'Peterburi tee'!D56","v":"023-DC200-U1"},{"$f":"'Peterburi tee'!E56","v":"035-068SL-U1"},{"$f":"'Peterburi tee'!F56","v":0},{"$f":"'Peterburi tee'!G56","v":"1031-240D-U1"},{"$f":"'Peterburi tee'!H56","v":"1038-624/2-U1"},{"$f":"'Peterburi tee'!I56","v":"2030-120C-U1"},{"$f":"'Peterburi tee'!J56","v":"2038-426/3-U1"},{"$f":"IF(C56='Üldine info'!$C$5,$B56,\"\")","v":""},{"$f":"IF(D56='Üldine info'!$C$5,$B56,\"\")","v":""},{"$f":"IF(E56='Üldine info'!$C$5,$B56,\"\")","v":""},{"$f":"IF(F56='Üldine info'!$C$5,$B56,\"\")","v":""},{"$f":"IF(G56='Üldine info'!$C$5,$B56,\"\")","v":""},{"$f":"IF(H56='Üldine info'!$C$5,$B56,\"\")","v":""},{"$f":"IF(I56='Üldine info'!$C$5,$B56,\"\")","v":""},{"$f":"IF(J56='Üldine info'!$C$5,$B56,\"\")","v":""}]
[null,"4A143",{"$f":"'Peterburi tee'!C57","v":"014E-060C-U1"},{"$f":"'Peterburi tee'!D57","v":"023E-060C-U1"},{"$f":"'Peterburi tee'!E57","v":"035-068SR-U1"},{"$f":"'Peterburi tee'!F57","v":0},{"$f":"'Peterburi tee'!G57","v":"1031-320/3-U1"},{"$f":"'Peterburi tee'!H57","v":"1038-626/1-U1"},{"$f":"'Peterburi tee'!I57","v":"2030-180L-U1"},{"$f":"'Peterburi tee'!J57","v":0},{"$f":"IF(C57='Üldine info'!$C$5,$B57,\"\")","v":""},{"$f":"IF(D57='Üldine info'!$C$5,$B57,\"\")","v":""},{"$f":"IF(E57='Üldine info'!$C$5,$B57,\"\")","v":""},{"$f":"IF(F57='Üldine info'!$C$5,$B57,\"\")","v":""},{"$f":"IF(G57='Üldine info'!$C$5,$B57,\"\")","v":""},{"$f":"IF(H57='Üldine info'!$C$5,$B57,\"\")","v":""},{"$f":"IF(I57='Üldine info'!$C$5,$B57,\"\")","v":""},{"$f":"IF(J57='Üldine info'!$C$5,$B57,\"\")","v":""}]
[null,"4A144",{"$f":"'Peterburi tee'!C58","v":"014E-100L-U1"},{"$f":"'Peterburi tee'!D58","v":"023E-120D-U1"},{"$f":"'Peterburi tee'!E58","v":"035-081L-U1"},{"$f":"'Peterburi tee'!F58","v":0},{"$f":"'Peterburi tee'!G58","v":"1032-120C-U1"},{"$f":"'Peterburi tee'!H58","v":0},{"$f":"'Peterburi tee'!I58","v":"2030-180R-U1"},{"$f":"'Peterburi tee'!J58","v":"2038-434/2-U1"},{"$f":"IF(C58='Üldine info'!$C$5,$B58,\"\")","v":""},{"$f":"IF(D58='Üldine info'!$C$5,$B58,\"\")","v":""},{"$f":"IF(E58='Üldine info'!$C$5,$B58,\"\")","v":""},{"$f":"IF(F58='Üldine info'!$C$5,$B58,\"\")","v":""},{"$f":"IF(G58='Üldine info'!$C$5,$B58,\"\")","v":""},{"$f":"IF(H58='Üldine info'!$C$5,$B58,\"\")","v":""},{"$f":"IF(I58='Üldine info'!$C$5,$B58,\"\")","v":""},{"$f":"IF(J58='Üldine info'!$C$5,$B58,\"\")","v":""}]
[null,"4A151",{"$f":"'Peterburi tee'!C59","v":"014E-120L-U1"},{"$f":"'Peterburi tee'!D59","v":"023E-A200-U1"},{"$f":"'Peterburi tee'!E59","v":"035-081R-U1"},{"$f":"'Peterburi tee'!F59","v":"1005-100L-U1"},{"$f":"'Peterburi tee'!G59","v":"1032-200C-U1"},{"$f":"'Peterburi tee'!H59","v":0},{"$f":"'Peterburi tee'!I59","v":"2031-080CP-U1"},{"$f":"'Peterburi tee'!J59","v":"2038-434/3-U1"},{"$f":"IF(C59='Üldine info'!$C$5,$B59,\"\")","v":""},{"$f":"IF(D59='Üldine info'!$C$5,$B59,\"\")","v":""},{"$f":"IF(E59='Üldine info'!$C$5,$B59,\"\")","v":""},{"$f":"IF(F59='Üldine info'!$C$5,$B59,\"\")","v":""},{"$f":"IF(G59='Üldine info'!$C$5,$B59,\"\")","v":""},{"$f":"IF(H59='Üldine info'!$C$5,$B59,\"\")","v":""},{"$f":"IF(I59='Üldine info'!$C$5,$B59,\"\")","v":""},{"$f":"IF(J59='Üldine info'!$C$5,$B59,\"\")","v":""}]
[null,"4A152",{"$f":"'Peterburi tee'!C60","v":"014E-120R-U1"},{"$f":"'Peterburi tee'!D60","v":0},{"$f":"'Peterburi tee'!E60","v":0},{"$f":"'Peterburi tee'!F60","v":"1005-100R-U1"},{"$f":"'Peterburi tee'!G60","v":"1032-220C-U1"},{"$f":"'Peterburi tee'!H60","v":0},{"$f":"'Peterburi tee'!I60","v":"2031-100CP-U1"},{"$f":"'Peterburi tee'!J60","v":"2038-512/1-U1"},{"$f":"IF(C60='Üldine info'!$C$5,$B60,\"\")","v":""},{"$f":"IF(D60='Üldine info'!$C$5,$B60,\"\")","v":""},{"$f":"IF(E60='Üldine info'!$C$5,$B60,\"\")","v":""},{"$f":"IF(F60='Üldine info'!$C$5,$B60,\"\")","v":""},{"$f":"IF(G60='Üldine info'!$C$5,$B60,\"\")","v":""},{"$f":"IF(H60='Üldine info'!$C$5,$B60,\"\")","v":""},{"$f":"IF(I60='Üldine info'!$C$5,$B60,\"\")","v":""},{"$f":"IF(J60='Üldine info'!$C$5,$B60,\"\")","v":""}]
[null,"4A153",{"$f":"'Peterburi tee'!C61","v":"015-060C-U1"},{"$f":"'Peterburi tee'!D61","v":"023E-CXS20-U1"},{"$f":"'Peterburi tee'!E61","v":"035-082R-U1"},{"$f":"'Peterburi tee'!F61","v":"1005-120C-U1"},{"$f":"'Peterburi tee'!G61","v":"1032-240C/2-U1"},{"$f":"'Peterburi tee'!H61","v":0},{"$f":"'Peterburi tee'!I61","v":"2031-120CP-U1"},{"$f":"'Peterburi tee'!J61","v":"2038-51440CX-U1"},{"$f":"IF(C61='Üldine info'!$C$5,$B61,\"\")","v":""},{"$f":"IF(D61='Üldine info'!$C$5,$B61,\"\")","v":""},{"$f":"IF(E61='Üldine info'!$C$5,$B61,\"\")","v":""},{"$f":"IF(F61='Üldine info'!$C$5,$B61,\"\")","v":""},{"$f":"IF(G61='Üldine info'!$C$5,$B61,\"\")","v":""},{"$f":"IF(H61='Üldine info'!$C$5,$B61,\"\")","v":""},{"$f":"IF(I61='Üldine info'!$C$5,$B61,\"\")","v":""},{"$f":"IF(J61='Üldine info'!$C$5,$B61,\"\")","v":""}]
[null,"4A154",{"$f":"'Peterburi tee'!C62","v":"015-080C-U1"},{"$f":"'Peterburi tee'!D62","v":"023E-DC200-U1"},{"$f":"'Peterburi tee'!E62","v":"035-084L-U1"},{"$f":"'Peterburi tee'!F62","v":"1005-120L-U1"},{"$f":"'Peterburi tee'!G62","v":"1032-240C/3-U1"},{"$f":"'Peterburi tee'!H62","v":0},{"$f":"'Peterburi tee'!I62","v":0},{"$f":"'Peterburi tee'!J62","v":"2038-524/1-U1"},{"$f":"IF(C62='Üldine info'!$C$5,$B62,\"\")","v":""},{"$f":"IF(D62='Üldine info'!$C$5,$B62,\"\")","v":""},{"$f":"IF(E62='Üldine info'!$C$5,$B62,\"\")","v":""},{"$f":"IF(F62='Üldine info'!$C$5,$B62,\"\")","v":""},{"$f":"IF(G62='Üldine info'!$C$5,$B62,\"\")","v":""},{"$f":"IF(H62='Üldine info'!$C$5,$B62,\"\")","v":""},{"$f":"IF(I62='Üldine info'!$C$5,$B62,\"\")","v":""},{"$f":"IF(J62='Üldine info'!$C$5,$B62,\"\")","v":""}]
[null,"4A161",{"$f":"'Peterburi tee'!C63","v":"015-120C-U1"},{"$f":"'Peterburi tee'!D63","v":"023E-F200-U1"},{"$f":"'Peterburi tee'!E63","v":"035-084R-U1"},{"$f":"'Peterburi tee'!F63","v":"1005-120R-U1"},{"$f":"'Peterburi tee'!G63","v":"1032-240C-U1"},{"$f":"'Peterburi tee'!H63","v":0},{"$f":"'Peterburi tee'!I63","v":0},{"$f":"'Peterburi tee'!J63","v":0},{"$f":"IF(C63='Üldine info'!$C$5,$B63,\"\")","v":""},{"$f":"IF(D63='Üldine info'!$C$5,$B63,\"\")","v":""},{"$f":"IF(E63='Üldine info'!$C$5,$B63,\"\")","v":""},{"$f":"IF(F63='Üldine info'!$C$5,$B63,\"\")","v":""},{"$f":"IF(G63='Üldine info'!$C$5,$B63,\"\")","v":""},{"$f":"IF(H63='Üldine info'!$C$5,$B63,\"\")","v":""},{"$f":"IF(I63='Üldine info'!$C$5,$B63,\"\")","v":""},{"$f":"IF(J63='Üldine info'!$C$5,$B63,\"\")","v":""}]
[null,"4A162",{"$f":"'Peterburi tee'!C64","v":"015-140F-U1"},{"$f":"'Peterburi tee'!D64","v":"023E-FC200-U1"},{"$f":"'Peterburi tee'!E64","v":"035-084SL-U1"},{"$f":"'Peterburi tee'!F64","v":"1005-140C-U1"},{"$f":"'Peterburi tee'!G64","v":"1032-240L/2-U1"},{"$f":"'Peterburi tee'!H64","v":0},{"$f":"'Peterburi tee'!I64","v":"2031-120RP-U1"},{"$f":"'Peterburi tee'!J64","v":"2038-541600C-U1"},{"$f":"IF(C64='Üldine info'!$C$5,$B64,\"\")","v":""},{"$f":"IF(D64='Üldine info'!$C$5,$B64,\"\")","v":""},{"$f":"IF(E64='Üldine info'!$C$5,$B64,\"\")","v":""},{"$f":"IF(F64='Üldine info'!$C$5,$B64,\"\")","v":""},{"$f":"IF(G64='Üldine info'!$C$5,$B64,\"\")","v":""},{"$f":"IF(H64='Üldine info'!$C$5,$B64,\"\")","v":""},{"$f":"IF(I64='Üldine info'!$C$5,$B64,\"\")","v":""},{"$f":"IF(J64='Üldine info'!$C$5,$B64,\"\")","v":""}]
[null,"4A163",{"$f":"'Peterburi tee'!C65","v":"015E-060C-U1"},{"$f":"'Peterburi tee'!D65","v":"023-F200-U1"},{"$f":"'Peterburi tee'!E65","v":"035-084SR-U1"},{"$f":"'Peterburi tee'!F65","v":"1005-150D-U1"},{"$f":"'Peterburi tee'!G65","v":"1032-240L-U1"},{"$f":"'Peterburi tee'!H65","v":0},{"$f":"'Peterburi tee'!I65","v":"2031-160C-U1"},{"$f":"'Peterburi tee'!J65","v":"2038-612/1-U1"},{"$f":"IF(C65='Üldine info'!$C$5,$B65,\"\")","v":""},{"$f":"IF(D65='Üldine info'!$C$5,$B65,\"\")","v":""},{"$f":"IF(E65='Üldine info'!$C$5,$B65,\"\")","v":""},{"$f":"IF(F65='Üldine info'!$C$5,$B65,\"\")","v":""},{"$f":"IF(G65='Üldine info'!$C$5,$B65,\"\")","v":""},{"$f":"IF(H65='Üldine info'!$C$5,$B65,\"\")","v":""},{"$f":"IF(I65='Üldine info'!$C$5,$B65,\"\")","v":""},{"$f":"IF(J65='Üldine info'!$C$5,$B65,\"\")","v":""}]
[null,"4A164",{"$f":"'Peterburi tee'!C66","v":"015E-120C-U1"},{"$f":"'Peterburi tee'!D66","v":"023-FC200-U1"},{"$f":"'Peterburi tee'!E66","v":0},{"$f":"'Peterburi tee'!F66","v":0},{"$f":"'Peterburi tee'!G66","v":"1032-240R/2-U1"},{"$f":"'Peterburi tee'!H66","v":0},{"$f":"'Peterburi tee'!I66","v":"2031-180C-U1"},{"$f":"'Peterburi tee'!J66","v":"2038-618/1-U1"},{"$f":"IF(C66='Üldine info'!$C$5,$B66,\"\")","v":""},{"$f":"IF(D66='Üldine info'!$C$5,$B66,\"\")","v":""},{"$f":"IF(E66='Üldine info'!$C$5,$B66,\"\")","v":""},{"$f":"IF(F66='Üldine info'!$C$5,$B66,\"\")","v":""},{"$f":"IF(G66='Üldine info'!$C$5,$B66,\"\")","v":""},{"$f":"IF(H66='Üldine info'!$C$5,$B66,\"\")","v":""},{"$f":"IF(I66='Üldine info'!$C$5,$B66,\"\")","v":""},{"$f":"IF(J66='Üldine info'!$C$5,$B66,\"\")","v":""}]
[null,"4B011",{"$f":"'Peterburi tee'!C67","v":"015E-140F-U1"},{"$f":"'Peterburi tee'!D67","v":"023-FCM200-U1"},{"$f":"'Peterburi tee'!E67","v":"035-089R-U1"},{"$f":"'Peterburi tee'!F67","v":"1005-180L-U1"},{"$f":"'Peterburi tee'!G67","v":0},{"$f":"'Peterburi tee'!H67","v":0},{"$f":"'Peterburi tee'!I67","v":"2031-180L-U1"},{"$f":"'Peterburi tee'!J67","v":"2038-618/2-U1"},{"$f":"IF(C67='Üldine info'!$C$5,$B67,\"\")","v":""},{"$f":"IF(D67='Üldine info'!$C$5,$B67,\"\")","v":""},{"$f":"IF(E67='Üldine info'!$C$5,$B67,\"\")","v":""},{"$f":"IF(F67='Üldine info'!$C$5,$B67,\"\")","v":""},{"$f":"IF(G67='Üldine info'!$C$5,$B67,\"\")","v":""},{"$f":"IF(H67='Üldine info'!$C$5,$B67,\"\")","v":""},{"$f":"IF(I67='Üldine info'!$C$5,$B67,\"\")","v":""},{"$f":"IF(J67='Üldine info'!$C$5,$B67,\"\")","v":""}]
[null,"4B012",{"$f":"'Peterburi tee'!C68","v":0},{"$f":"'Peterburi tee'!D68","v":"023-FM200-U1"},{"$f":"'Peterburi tee'!E68","v":"035-089SL-U1"},{"$f":"'Peterburi tee'!F68","v":"1005-180R-U1"},{"$f":"'Peterburi tee'!G68","v":"1032-SD080-U1"},{"$f":"'Peterburi tee'!H68","v":0},{"$f":"'Peterburi tee'!I68","v":"2031-180R-U1"},{"$f":"'Peterburi tee'!J68","v":"2038-624/1-U1"},{"$f":"IF(C68='Üldine info'!$C$5,$B68,\"\")","v":""},{"$f":"IF(D68='Üldine info'!$C$5,$B68,\"\")","v":""},{"$f":"IF(E68='Üldine info'!$C$5,$B68,\"\")","v":""},{"$f":"IF(F68='Üldine info'!$C$5,$B68,\"\")","v":""},{"$f":"IF(G68='Üldine info'!$C$5,$B68,\"\")","v":""},{"$f":"IF(H68='Üldine info'!$C$5,$B68,\"\")","v":""},{"$f":"IF(I68='Üldine info'!$C$5,$B68,\"\")","v":""},{"$f":"IF(J68='Üldine info'!$C$5,$B68,\"\")","v":""}]
[null,"4B013",{"$f":"'Peterburi tee'!C69","v":"017-061C-U1"},{"$f":"'Peterburi tee'!D69","v":"023S-120F-U1"},{"$f":"'Peterburi tee'!E69","v":"035-089SR-U1"},{"$f":"'Peterburi tee'!F69","v":"1006-140C-U1"},{"$f":"'Peterburi tee'!G69","v":"1032-SM060-U1"},{"$f":"'Peterburi tee'!H69","v":0},{"$f":"'Peterburi tee'!I69","v":"2031-240D-U1"},{"$f":"'Peterburi tee'!J69","v":"2038-624/2-U1"},{"$f":"IF(C69='Üldine info'!$C$5,$B69,\"\")","v":""},{"$f":"IF(D69='Üldine info'!$C$5,$B69,\"\")","v":""},{"$f":"IF(E69='Üldine info'!$C$5,$B69,\"\")","v":""},{"$f":"IF(F69='Üldine info'!$C$5,$B69,\"\")","v":""},{"$f":"IF(G69='Üldine info'!$C$5,$B69,\"\")","v":""},{"$f":"IF(H69='Üldine info'!$C$5,$B69,\"\")","v":""},{"$f":"IF(I69='Üldine info'!$C$5,$B69,\"\")","v":""},{"$f":"IF(J69='Üldine info'!$C$5,$B69,\"\")","v":""}]
[null,"4B014",{"$f":"'Peterburi tee'!C70","v":"017-061CY-U1"},{"$f":"'Peterburi tee'!D70","v":"024-050C-U1"},{"$f":"'Peterburi tee'!E70","v":"035-090L-U1"},{"$f":"'Peterburi tee'!F70","v":"1007-150C-U1"},{"$f":"'Peterburi tee'!G70","v":"1032-SN070-U1"},{"$f":"'Peterburi tee'!H70","v":0},{"$f":"'Peterburi tee'!I70","v":"2031-320/3-U1"},{"$f":"'Peterburi tee'!J70","v":"2038-626/1-U1"},{"$f":"IF(C70='Üldine info'!$C$5,$B70,\"\")","v":""},{"$f":"IF(D70='Üldine info'!$C$5,$B70,\"\")","v":""},{"$f":"IF(E70='Üldine info'!$C$5,$B70,\"\")","v":""},{"$f":"IF(F70='Üldine info'!$C$5,$B70,\"\")","v":""},{"$f":"IF(G70='Üldine info'!$C$5,$B70,\"\")","v":""},{"$f":"IF(H70='Üldine info'!$C$5,$B70,\"\")","v":""},{"$f":"IF(I70='Üldine info'!$C$5,$B70,\"\")","v":""},{"$f":"IF(J70='Üldine info'!$C$5,$B70,\"\")","v":""}]
[null,"4B021",{"$f":"'Peterburi tee'!C71","v":"017-078C-U1"},{"$f":"'Peterburi tee'!D71","v":"024-075C-U1"},{"$f":"'Peterburi tee'!E71","v":"035-090R-U1"},{"$f":"'Peterburi tee'!F71","v":"1007-170C-U1"},{"$f":"'Peterburi tee'!G71","v":"1032-SN080-U1"},{"$f":"'Peterburi tee'!H71","v":0},{"$f":"'Peterburi tee'!I71","v":"2032-120C-U1"},{"$f":"'Peterburi tee'!J71","v":0},{"$f":"IF(C71='Üldine info'!$C$5,$B71,\"\")","v":""},{"$f":"IF(D71='Üldine info'!$C$5,$B71,\"\")","v":""},{"$f":"IF(E71='Üldine info'!$C$5,$B71,\"\")","v":""},{"$f":"IF(F71='Üldine info'!$C$5,$B71,\"\")","v":""},{"$f":"IF(G71='Üldine info'!$C$5,$B71,\"\")","v":""},{"$f":"IF(H71='Üldine info'!$C$5,$B71,\"\")","v":""},{"$f":"IF(I71='Üldine info'!$C$5,$B71,\"\")","v":""},{"$f":"IF(J71='Üldine info'!$C$5,$B71,\"\")","v":""}]
[null,"4B022",{"$f":"'Peterburi tee'!C72","v":"017-080C-U1"},{"$f":"'Peterburi tee'!D72","v":"024-090C-U1"},{"$f":"'Peterburi tee'!E72","v":"035-091L-U1"},{"$f":"'Peterburi tee'!F72","v":"1008-060C-U1"},{"$f":"'Peterburi tee'!G72","v":"1032-SN100-U1"},{"$f":"'Peterburi tee'!H72","v":0},{"$f":"'Peterburi tee'!I72","v":"2032-200C-U1"},{"$f":"'Peterburi tee'!J72","v":0},{"$f":"IF(C72='Üldine info'!$C$5,$B72,\"\")","v":""},{"$f":"IF(D72='Üldine info'!$C$5,$B72,\"\")","v":""},{"$f":"IF(E72='Üldine info'!$C$5,$B72,\"\")","v":""},{"$f":"IF(F72='Üldine info'!$C$5,$B72,\"\")","v":""},{"$f":"IF(G72='Üldine info'!$C$5,$B72,\"\")","v":""},{"$f":"IF(H72='Üldine info'!$C$5,$B72,\"\")","v":""},{"$f":"IF(I72='Üldine info'!$C$5,$B72,\"\")","v":""},{"$f":"IF(J72='Üldine info'!$C$5,$B72,\"\")","v":""}]
[null,"4B023",{"$f":"'Peterburi tee'!C73","v":"017-110L-U1"},{"$f":"'Peterburi tee'!D73","v":0},{"$f":"'Peterburi tee'!E73","v":"035-091R-U1"},{"$f":"'Peterburi tee'!F73","v":"1008-080C-U1"},{"$f":"'Peterburi tee'!G73","v":"1032-SN120-U1"},{"$f":"'Peterburi tee'!H73","v":0},{"$f":"'Peterburi tee'!I73","v":"2032-220C-U1"},{"$f":"'Peterburi tee'!J73","v":"2038-630/1-U1"},{"$f":"IF(C73='Üldine info'!$C$5,$B73,\"\")","v":""},{"$f":"IF(D73='Üldine info'!$C$5,$B73,\"\")","v":""},{"$f":"IF(E73='Üldine info'!$C$5,$B73,\"\")","v":""},{"$f":"IF(F73='Üldine info'!$C$5,$B73,\"\")","v":""},{"$f":"IF(G73='Üldine info'!$C$5,$B73,\"\")","v":""},{"$f":"IF(H73='Üldine info'!$C$5,$B73,\"\")","v":""},{"$f":"IF(I73='Üldine info'!$C$5,$B73,\"\")","v":""},{"$f":"IF(J73='Üldine info'!$C$5,$B73,\"\")","v":""}]
[null,"4B024",{"$f":"'Peterburi tee'!C74","v":"017-110R-U1"},{"$f":"'Peterburi tee'!D74","v":0},{"$f":"'Peterburi tee'!E74","v":"035-095L-U1"},{"$f":"'Peterburi tee'!F74","v":"1008-090L-U1"},{"$f":"'Peterburi tee'!G74","v":"1033-082L-U1"},{"$f":"'Peterburi tee'!H74","v":0},{"$f":"'Peterburi tee'!I74","v":"2032-240C/2-U1"},{"$f":"'Peterburi tee'!J74","v":"2038-630/2-U1"},{"$f":"IF(C74='Üldine info'!$C$5,$B74,\"\")","v":""},{"$f":"IF(D74='Üldine info'!$C$5,$B74,\"\")","v":""},{"$f":"IF(E74='Üldine info'!$C$5,$B74,\"\")","v":""},{"$f":"IF(F74='Üldine info'!$C$5,$B74,\"\")","v":""},{"$f":"IF(G74='Üldine info'!$C$5,$B74,\"\")","v":""},{"$f":"IF(H74='Üldine info'!$C$5,$B74,\"\")","v":""},{"$f":"IF(I74='Üldine info'!$C$5,$B74,\"\")","v":""},{"$f":"IF(J74='Üldine info'!$C$5,$B74,\"\")","v":""}]
[null,"4B031",{"$f":"'Peterburi tee'!C75","v":"017-120C-U1"},{"$f":"'Peterburi tee'!D75","v":"024-120L-U1"},{"$f":"'Peterburi tee'!E75","v":"035-095R-U1"},{"$f":"'Peterburi tee'!F75","v":0},{"$f":"'Peterburi tee'!G75","v":0},{"$f":"'Peterburi tee'!H75","v":0},{"$f":"'Peterburi tee'!I75","v":"2032-240C/3-U1"},{"$f":"'Peterburi tee'!J75","v":"2038-630/3-U1"},{"$f":"IF(C75='Üldine info'!$C$5,$B75,\"\")","v":""},{"$f":"IF(D75='Üldine info'!$C$5,$B75,\"\")","v":""},{"$f":"IF(E75='Üldine info'!$C$5,$B75,\"\")","v":""},{"$f":"IF(F75='Üldine info'!$C$5,$B75,\"\")","v":""},{"$f":"IF(G75='Üldine info'!$C$5,$B75,\"\")","v":""},{"$f":"IF(H75='Üldine info'!$C$5,$B75,\"\")","v":""},{"$f":"IF(I75='Üldine info'!$C$5,$B75,\"\")","v":""},{"$f":"IF(J75='Üldine info'!$C$5,$B75,\"\")","v":""}]
[null,"4B032",{"$f":"'Peterburi tee'!C76","v":"017-120CY-U1"},{"$f":"'Peterburi tee'!D76","v":"024-120R-U1"},{"$f":"'Peterburi tee'!E76","v":"035-095SL-U1"},{"$f":"'Peterburi tee'!F76","v":"1008-120C-U1"},{"$f":"'Peterburi tee'!G76","v":0},{"$f":"'Peterburi tee'!H76","v":0},{"$f":"'Peterburi tee'!I76","v":"2032-240C-U1"},{"$f":"'Peterburi tee'!J76","v":"2038-634/1-U1"},{"$f":"IF(C76='Üldine info'!$C$5,$B76,\"\")","v":""},{"$f":"IF(D76='Üldine info'!$C$5,$B76,\"\")","v":""},{"$f":"IF(E76='Üldine info'!$C$5,$B76,\"\")","v":""},{"$f":"IF(F76='Üldine info'!$C$5,$B76,\"\")","v":""},{"$f":"IF(G76='Üldine info'!$C$5,$B76,\"\")","v":""},{"$f":"IF(H76='Üldine info'!$C$5,$B76,\"\")","v":""},{"$f":"IF(I76='Üldine info'!$C$5,$B76,\"\")","v":""},{"$f":"IF(J76='Üldine info'!$C$5,$B76,\"\")","v":""}]
[null,"4B033",{"$f":"'Peterburi tee'!C77","v":"017-140C-U1"},{"$f":"'Peterburi tee'!D77","v":"024-150C-U1"},{"$f":"'Peterburi tee'!E77","v":"035-095SR-U1"},{"$f":"'Peterburi tee'!F77","v":"1008-120D-U1"},{"$f":"'Peterburi tee'!G77","v":"1034-010C-U1"},{"$f":"'Peterburi tee'!H77","v":0},{"$f":"'Peterburi tee'!I77","v":"2032-240L/2-U1"},{"$f":"'Peterburi tee'!J77","v":"2038-634/2-U1"},{"$f":"IF(C77='Üldine info'!$C$5,$B77,\"\")","v":""},{"$f":"IF(D77='Üldine info'!$C$5,$B77,\"\")","v":""},{"$f":"IF(E77='Üldine info'!$C$5,$B77,\"\")","v":""},{"$f":"IF(F77='Üldine info'!$C$5,$B77,\"\")","v":""},{"$f":"IF(G77='Üldine info'!$C$5,$B77,\"\")","v":""},{"$f":"IF(H77='Üldine info'!$C$5,$B77,\"\")","v":""},{"$f":"IF(I77='Üldine info'!$C$5,$B77,\"\")","v":""},{"$f":"IF(J77='Üldine info'!$C$5,$B77,\"\")","v":""}]
[null,"4B034",{"$f":"'Peterburi tee'!C78","v":"017-141C-U1"},{"$f":"'Peterburi tee'!D78","v":"024-A040-U1"},{"$f":"'Peterburi tee'!E78","v":"035-119L-U1"},{"$f":"'Peterburi tee'!F78","v":"1009-060C-U1"},{"$f":"'Peterburi tee'!G78","v":"1034-040C-U1"},{"$f":"'Peterburi tee'!H78","v":0},{"$f":"'Peterburi tee'!I78","v":"2032-240L-U1"},{"$f":"'Peterburi tee'!J78","v":"2038-634/3-U1"},{"$f":"IF(C78='Üldine info'!$C$5,$B78,\"\")","v":""},{"$f":"IF(D78='Üldine info'!$C$5,$B78,\"\")","v":""},{"$f":"IF(E78='Üldine info'!$C$5,$B78,\"\")","v":""},{"$f":"IF(F78='Üldine info'!$C$5,$B78,\"\")","v":""},{"$f":"IF(G78='Üldine info'!$C$5,$B78,\"\")","v":""},{"$f":"IF(H78='Üldine info'!$C$5,$B78,\"\")","v":""},{"$f":"IF(I78='Üldine info'!$C$5,$B78,\"\")","v":""},{"$f":"IF(J78='Üldine info'!$C$5,$B78,\"\")","v":""}]
[null,"4B041",{"$f":"'Peterburi tee'!C79","v":"017E-080C-U1"},{"$f":"'Peterburi tee'!D79","v":"024-A080-U1"},{"$f":"'Peterburi tee'!E79","v":0},{"$f":"'Peterburi tee'!F79","v":"1009-080C-U1"},{"$f":"'Peterburi tee'!G79","v":"1034-062C-U1"},{"$f":"'Peterburi tee'!H79","v":"1039-060C-U1"},{"$f":"'Peterburi tee'!I79","v":"2032-240R/2-U1"},{"$f":"'Peterburi tee'!J79","v":"2038-GB128L-U1"},{"$f":"IF(C79='Üldine info'!$C$5,$B79,\"\")","v":""},{"$f":"IF(D79='Üldine info'!$C$5,$B79,\"\")","v":""},{"$f":"IF(E79='Üldine info'!$C$5,$B79,\"\")","v":""},{"$f":"IF(F79='Üldine info'!$C$5,$B79,\"\")","v":""},{"$f":"IF(G79='Üldine info'!$C$5,$B79,\"\")","v":""},{"$f":"IF(H79='Üldine info'!$C$5,$B79,\"\")","v":""},{"$f":"IF(I79='Üldine info'!$C$5,$B79,\"\")","v":""},{"$f":"IF(J79='Üldine info'!$C$5,$B79,\"\")","v":""}]
[null,"4B042",{"$f":"'Peterburi tee'!C80","v":"017E-110L-U1"},{"$f":"'Peterburi tee'!D80","v":"024-T060C-U1"},{"$f":"'Peterburi tee'!E80","v":"035-120L-U1"},{"$f":"'Peterburi tee'!F80","v":"1014-060C-U1"},{"$f":"'Peterburi tee'!G80","v":"1034-092L-U1"},{"$f":"'Peterburi tee'!H80","v":"1040-100L-U1"},{"$f":"'Peterburi tee'!I80","v":"2032-240R-U1"},{"$f":"'Peterburi tee'!J80","v":"2038-GB128R-U1"},{"$f":"IF(C80='Üldine info'!$C$5,$B80,\"\")","v":""},{"$f":"IF(D80='Üldine info'!$C$5,$B80,\"\")","v":""},{"$f":"IF(E80='Üldine info'!$C$5,$B80,\"\")","v":""},{"$f":"IF(F80='Üldine info'!$C$5,$B80,\"\")","v":""},{"$f":"IF(G80='Üldine info'!$C$5,$B80,\"\")","v":""},{"$f":"IF(H80='Üldine info'!$C$5,$B80,\"\")","v":""},{"$f":"IF(I80='Üldine info'!$C$5,$B80,\"\")","v":""},{"$f":"IF(J80='Üldine info'!$C$5,$B80,\"\")","v":""}]
[null,"4B043",{"$f":"'Peterburi tee'!C81","v":"017E-110R-U1"},{"$f":"'Peterburi tee'!D81","v":"024-T080C-U1"},{"$f":"'Peterburi tee'!E81","v":"035-120R-U1"},{"$f":"'Peterburi tee'!F81","v":"1014-100L-U1"},{"$f":"'Peterburi tee'!G81","v":"1034-092R-U1"},{"$f":"'Peterburi tee'!H81","v":0},{"$f":"'Peterburi tee'!I81","v":"2032-SD080-U1"},{"$f":"'Peterburi tee'!J81","v":0},{"$f":"IF(C81='Üldine info'!$C$5,$B81,\"\")","v":""},{"$f":"IF(D81='Üldine info'!$C$5,$B81,\"\")","v":""},{"$f":"IF(E81='Üldine info'!$C$5,$B81,\"\")","v":""},{"$f":"IF(F81='Üldine info'!$C$5,$B81,\"\")","v":""},{"$f":"IF(G81='Üldine info'!$C$5,$B81,\"\")","v":""},{"$f":"IF(H81='Üldine info'!$C$5,$B81,\"\")","v":""},{"$f":"IF(I81='Üldine info'!$C$5,$B81,\"\")","v":""},{"$f":"IF(J81='Üldine info'!$C$5,$B81,\"\")","v":""}]
[null,"4B044",{"$f":"'Peterburi tee'!C82","v":"017E-140C-U1"},{"$f":"'Peterburi tee'!D82","v":"024-T100L-U1"},{"$f":"'Peterburi tee'!E82","v":"035-120SL-U1"},{"$f":"'Peterburi tee'!F82","v":"1014-100R-U1"},{"$f":"'Peterburi tee'!G82","v":"1034-114L-U1"},{"$f":"'Peterburi tee'!H82","v":0},{"$f":"'Peterburi tee'!I82","v":"2032-SN070-U1"},{"$f":"'Peterburi tee'!J82","v":"2038-P618/1-U1"},{"$f":"IF(C82='Üldine info'!$C$5,$B82,\"\")","v":""},{"$f":"IF(D82='Üldine info'!$C$5,$B82,\"\")","v":""},{"$f":"IF(E82='Üldine info'!$C$5,$B82,\"\")","v":""},{"$f":"IF(F82='Üldine info'!$C$5,$B82,\"\")","v":""},{"$f":"IF(G82='Üldine info'!$C$5,$B82,\"\")","v":""},{"$f":"IF(H82='Üldine info'!$C$5,$B82,\"\")","v":""},{"$f":"IF(I82='Üldine info'!$C$5,$B82,\"\")","v":""},{"$f":"IF(J82='Üldine info'!$C$5,$B82,\"\")","v":""}]
[null,"4B051",{"$f":"'Peterburi tee'!C83","v":"017P-061C-U1"},{"$f":"'Peterburi tee'!D83","v":"024-T100R-U1"},{"$f":"'Peterburi tee'!E83","v":"035-120SR-U1"},{"$f":"'Peterburi tee'!F83","v":"1014-120L-U1"},{"$f":"'Peterburi tee'!G83","v":"1034-114R-U1"},{"$f":"'Peterburi tee'!H83","v":"1NAIDIS-U1"},{"$f":"'Peterburi tee'!I83","v":"2032-SN080-U1"},{"$f":"'Peterburi tee'!J83","v":"2038-P618/2-U1"},{"$f":"IF(C83='Üldine info'!$C$5,$B83,\"\")","v":""},{"$f":"IF(D83='Üldine info'!$C$5,$B83,\"\")","v":""},{"$f":"IF(E83='Üldine info'!$C$5,$B83,\"\")","v":""},{"$f":"IF(F83='Üldine info'!$C$5,$B83,\"\")","v":""},{"$f":"IF(G83='Üldine info'!$C$5,$B83,\"\")","v":""},{"$f":"IF(H83='Üldine info'!$C$5,$B83,\"\")","v":""},{"$f":"IF(I83='Üldine info'!$C$5,$B83,\"\")","v":""},{"$f":"IF(J83='Üldine info'!$C$5,$B83,\"\")","v":""}]
[null,"4B052",{"$f":"'Peterburi tee'!C84","v":"017P-080C-U1"},{"$f":"'Peterburi tee'!D84","v":"024-T120C/2-U1"},{"$f":"'Peterburi tee'!E84","v":"035-124L-U1"},{"$f":"'Peterburi tee'!F84","v":"1014-120R-U1"},{"$f":"'Peterburi tee'!G84","v":"1034-124L-U1"},{"$f":"'Peterburi tee'!H84","v":"2005-053C2-U1"},{"$f":"'Peterburi tee'!I84","v":"2032-SN100-U1"},{"$f":"'Peterburi tee'!J84","v":"2038-P626/1-U1"},{"$f":"IF(C84='Üldine info'!$C$5,$B84,\"\")","v":""},{"$f":"IF(D84='Üldine info'!$C$5,$B84,\"\")","v":""},{"$f":"IF(E84='Üldine info'!$C$5,$B84,\"\")","v":""},{"$f":"IF(F84='Üldine info'!$C$5,$B84,\"\")","v":""},{"$f":"IF(G84='Üldine info'!$C$5,$B84,\"\")","v":""},{"$f":"IF(H84='Üldine info'!$C$5,$B84,\"\")","v":""},{"$f":"IF(I84='Üldine info'!$C$5,$B84,\"\")","v":""},{"$f":"IF(J84='Üldine info'!$C$5,$B84,\"\")","v":""}]
[null,"4B053",{"$f":"'Peterburi tee'!C85","v":"017P-090C-U1"},{"$f":"'Peterburi tee'!D85","v":"024-T120C-U1"},{"$f":"'Peterburi tee'!E85","v":"035-124R-U1"},{"$f":"'Peterburi tee'!F85","v":"1015-060C-U1"},{"$f":"'Peterburi tee'!G85","v":"1034-124R-U1"},{"$f":"'Peterburi tee'!H85","v":"2005-053C-U1"},{"$f":"'Peterburi tee'!I85","v":"2032-SN120-U1"},{"$f":"'Peterburi tee'!J85","v":"2038-P626/2-U1"},{"$f":"IF(C85='Üldine info'!$C$5,$B85,\"\")","v":""},{"$f":"IF(D85='Üldine info'!$C$5,$B85,\"\")","v":""},{"$f":"IF(E85='Üldine info'!$C$5,$B85,\"\")","v":""},{"$f":"IF(F85='Üldine info'!$C$5,$B85,\"\")","v":""},{"$f":"IF(G85='Üldine info'!$C$5,$B85,\"\")","v":""},{"$f":"IF(H85='Üldine info'!$C$5,$B85,\"\")","v":""},{"$f":"IF(I85='Üldine info'!$C$5,$B85,\"\")","v":""},{"$f":"IF(J85='Üldine info'!$C$5,$B85,\"\")","v":""}]
[null,"4B054",{"$f":"'Peterburi tee'!C86","v":"017P-090CY-U1"},{"$f":"'Peterburi tee'!D86","v":"024-T120L-U1"},{"$f":"'Peterburi tee'!E86","v":"035-128L-U1"},{"$f":"'Peterburi tee'!F86","v":"1015-080C-U1"},{"$f":"'Peterburi tee'!G86","v":"1034-A082L-U1"},{"$f":"'Peterburi tee'!H86","v":"2005-060C-U1"},{"$f":"'Peterburi tee'!I86","v":"2033-082L-U1"},{"$f":"'Peterburi tee'!J86","v":"2038-P626/3-U1"},{"$f":"IF(C86='Üldine info'!$C$5,$B86,\"\")","v":""},{"$f":"IF(D86='Üldine info'!$C$5,$B86,\"\")","v":""},{"$f":"IF(E86='Üldine info'!$C$5,$B86,\"\")","v":""},{"$f":"IF(F86='Üldine info'!$C$5,$B86,\"\")","v":""},{"$f":"IF(G86='Üldine info'!$C$5,$B86,\"\")","v":""},{"$f":"IF(H86='Üldine info'!$C$5,$B86,\"\")","v":""},{"$f":"IF(I86='Üldine info'!$C$5,$B86,\"\")","v":""},{"$f":"IF(J86='Üldine info'!$C$5,$B86,\"\")","v":""}]
[null,"4B061",{"$f":"'Peterburi tee'!C87","v":"017P-110L-U1"},{"$f":"'Peterburi tee'!D87","v":"024-T120R-U1"},{"$f":"'Peterburi tee'!E87","v":"035-128R-U1"},{"$f":"'Peterburi tee'!F87","v":"1015-120C-U1"},{"$f":"'Peterburi tee'!G87","v":"1034-A082R-U1"},{"$f":"'Peterburi tee'!H87","v":"2005-080C-U1"},{"$f":"'Peterburi tee'!I87","v":"2033-082R-U1"},{"$f":"'Peterburi tee'!J87","v":"2038-P634/1-U1"},{"$f":"IF(C87='Üldine info'!$C$5,$B87,\"\")","v":""},{"$f":"IF(D87='Üldine info'!$C$5,$B87,\"\")","v":""},{"$f":"IF(E87='Üldine info'!$C$5,$B87,\"\")","v":""},{"$f":"IF(F87='Üldine info'!$C$5,$B87,\"\")","v":""},{"$f":"IF(G87='Üldine info'!$C$5,$B87,\"\")","v":""},{"$f":"IF(H87='Üldine info'!$C$5,$B87,\"\")","v":""},{"$f":"IF(I87='Üldine info'!$C$5,$B87,\"\")","v":""},{"$f":"IF(J87='Üldine info'!$C$5,$B87,\"\")","v":""}]
[null,"4B062",{"$f":"'Peterburi tee'!C88","v":0},{"$f":"'Peterburi tee'!D88","v":"024-T160L-U1"},{"$f":"'Peterburi tee'!E88","v":"035-137L-U1"},{"$f":"'Peterburi tee'!F88","v":"1015-140F-U1"},{"$f":"'Peterburi tee'!G88","v":"1034-A105L-U1"},{"$f":"'Peterburi tee'!H88","v":"2005-090L-U1"},{"$f":"'Peterburi tee'!I88","v":"2033-A088C-U1"},{"$f":"'Peterburi tee'!J88","v":"2038-P634/2-U1"},{"$f":"IF(C88='Üldine info'!$C$5,$B88,\"\")","v":""},{"$f":"IF(D88='Üldine info'!$C$5,$B88,\"\")","v":""},{"$f":"IF(E88='Üldine info'!$C$5,$B88,\"\")","v":""},{"$f":"IF(F88='Üldine info'!$C$5,$B88,\"\")","v":""},{"$f":"IF(G88='Üldine info'!$C$5,$B88,\"\")","v":""},{"$f":"IF(H88='Üldine info'!$C$5,$B88,\"\")","v":""},{"$f":"IF(I88='Üldine info'!$C$5,$B88,\"\")","v":""},{"$f":"IF(J88='Üldine info'!$C$5,$B88,\"\")","v":""}]
[null,"4B063",{"$f":"'Peterburi tee'!C89","v":0},{"$f":"'Peterburi tee'!D89","v":"024-T160R-U1"},{"$f":"'Peterburi tee'!E89","v":"035-137R-U1"},{"$f":"'Peterburi tee'!F89","v":"1015-X-U1"},{"$f":"'Peterburi tee'!G89","v":"1034-A105R-U1"},{"$f":"'Peterburi tee'!H89","v":"2005-090R-U1"},{"$f":"'Peterburi tee'!I89","v":"2034-010C-U1"},{"$f":"'Peterburi tee'!J89","v":"2038-P634/3-U1"},{"$f":"IF(C89='Üldine info'!$C$5,$B89,\"\")","v":""},{"$f":"IF(D89='Üldine info'!$C$5,$B89,\"\")","v":""},{"$f":"IF(E89='Üldine info'!$C$5,$B89,\"\")","v":""},{"$f":"IF(F89='Üldine info'!$C$5,$B89,\"\")","v":""},{"$f":"IF(G89='Üldine info'!$C$5,$B89,\"\")","v":""},{"$f":"IF(H89='Üldine info'!$C$5,$B89,\"\")","v":""},{"$f":"IF(I89='Üldine info'!$C$5,$B89,\"\")","v":""},{"$f":"IF(J89='Üldine info'!$C$5,$B89,\"\")","v":""}]
[null,"4B064",{"$f":"'Peterburi tee'!C90","v":"017P-120/2Y-U1"},{"$f":"'Peterburi tee'!D90","v":"025-040C-U1"},{"$f":"'Peterburi tee'!E90","v":"035-150L-U1"},{"$f":"'Peterburi tee'!F90","v":"1017-061C-U1"},{"$f":"'Peterburi tee'!G90","v":"1034-A124L-U1"},{"$f":"'Peterburi tee'!H90","v":"2005-100L-U1"},{"$f":"'Peterburi tee'!I90","v":"2034-010-U1"},{"$f":"'Peterburi tee'!J90","v":"2038-P634/4-U1"},{"$f":"IF(C90='Üldine info'!$C$5,$B90,\"\")","v":""},{"$f":"IF(D90='Üldine info'!$C$5,$B90,\"\")","v":""},{"$f":"IF(E90='Üldine info'!$C$5,$B90,\"\")","v":""},{"$f":"IF(F90='Üldine info'!$C$5,$B90,\"\")","v":""},{"$f":"IF(G90='Üldine info'!$C$5,$B90,\"\")","v":""},{"$f":"IF(H90='Üldine info'!$C$5,$B90,\"\")","v":""},{"$f":"IF(I90='Üldine info'!$C$5,$B90,\"\")","v":""},{"$f":"IF(J90='Üldine info'!$C$5,$B90,\"\")","v":""}]
[null,"4B071",{"$f":"'Peterburi tee'!C91","v":"017P-120C-U1"},{"$f":"'Peterburi tee'!D91","v":"025-C70C-U1"},{"$f":"'Peterburi tee'!E91","v":"035-150R-U1"},{"$f":"'Peterburi tee'!F91","v":0},{"$f":"'Peterburi tee'!G91","v":0},{"$f":"'Peterburi tee'!H91","v":"2005-100R-U1"},{"$f":"'Peterburi tee'!I91","v":"2034-040C-U1"},{"$f":"'Peterburi tee'!J91","v":"2038-P634/5-U1"},{"$f":"IF(C91='Üldine info'!$C$5,$B91,\"\")","v":""},{"$f":"IF(D91='Üldine info'!$C$5,$B91,\"\")","v":""},{"$f":"IF(E91='Üldine info'!$C$5,$B91,\"\")","v":""},{"$f":"IF(F91='Üldine info'!$C$5,$B91,\"\")","v":""},{"$f":"IF(G91='Üldine info'!$C$5,$B91,\"\")","v":""},{"$f":"IF(H91='Üldine info'!$C$5,$B91,\"\")","v":""},{"$f":"IF(I91='Üldine info'!$C$5,$B91,\"\")","v":""},{"$f":"IF(J91='Üldine info'!$C$5,$B91,\"\")","v":""}]
[null,"4B072",{"$f":"'Peterburi tee'!C92","v":"017P-140C-U1"},{"$f":"'Peterburi tee'!D92","v":"025E-T030-U1"},{"$f":"'Peterburi tee'!E92","v":"035-151L-U1"},{"$f":"'Peterburi tee'!F92","v":"1017-080C-U1"},{"$f":"'Peterburi tee'!G92","v":"1034-HR025S-U1"},{"$f":"'Peterburi tee'!H92","v":0},{"$f":"'Peterburi tee'!I92","v":"2034-062C-U1"},{"$f":"'Peterburi tee'!J92","v":"2039-060C-U1"},{"$f":"IF(C92='Üldine info'!$C$5,$B92,\"\")","v":""},{"$f":"IF(D92='Üldine info'!$C$5,$B92,\"\")","v":""},{"$f":"IF(E92='Üldine info'!$C$5,$B92,\"\")","v":""},{"$f":"IF(F92='Üldine info'!$C$5,$B92,\"\")","v":""},{"$f":"IF(G92='Üldine info'!$C$5,$B92,\"\")","v":""},{"$f":"IF(H92='Üldine info'!$C$5,$B92,\"\")","v":""},{"$f":"IF(I92='Üldine info'!$C$5,$B92,\"\")","v":""},{"$f":"IF(J92='Üldine info'!$C$5,$B92,\"\")","v":""}]
[null,"4B073",{"$f":"'Peterburi tee'!C93","v":"017P-141C-U1"},{"$f":"'Peterburi tee'!D93","v":"025E-V100L-U1"},{"$f":"'Peterburi tee'!E93","v":"035-AH081L-U1"},{"$f":"'Peterburi tee'!F93","v":"1017-090C-U1"},{"$f":"'Peterburi tee'!G93","v":"1034-HR035S-U1"},{"$f":"'Peterburi tee'!H93","v":0},{"$f":"'Peterburi tee'!I93","v":"2034-092L-U1"},{"$f":"'Peterburi tee'!J93","v":"2040-100L-U1"},{"$f":"IF(C93='Üldine info'!$C$5,$B93,\"\")","v":""},{"$f":"IF(D93='Üldine info'!$C$5,$B93,\"\")","v":""},{"$f":"IF(E93='Üldine info'!$C$5,$B93,\"\")","v":""},{"$f":"IF(F93='Üldine info'!$C$5,$B93,\"\")","v":""},{"$f":"IF(G93='Üldine info'!$C$5,$B93,\"\")","v":""},{"$f":"IF(H93='Üldine info'!$C$5,$B93,\"\")","v":""},{"$f":"IF(I93='Üldine info'!$C$5,$B93,\"\")","v":""},{"$f":"IF(J93='Üldine info'!$C$5,$B93,\"\")","v":""}]
[null,"4B074",{"$f":"'Peterburi tee'!C94","v":"018-060C-U1"},{"$f":"'Peterburi tee'!D94","v":"025E-V100R-U1"},{"$f":"'Peterburi tee'!E94","v":"035-AH081R-U1"},{"$f":"'Peterburi tee'!F94","v":"1017-110L-U1"},{"$f":"'Peterburi tee'!G94","v":"1034-HR050S-U1"},{"$f":"'Peterburi tee'!H94","v":0},{"$f":"'Peterburi tee'!I94","v":"2034-092R-U1"},{"$f":"'Peterburi tee'!J94","v":"2040-100R-U1"},{"$f":"IF(C94='Üldine info'!$C$5,$B94,\"\")","v":""},{"$f":"IF(D94='Üldine info'!$C$5,$B94,\"\")","v":""},{"$f":"IF(E94='Üldine info'!$C$5,$B94,\"\")","v":""},{"$f":"IF(F94='Üldine info'!$C$5,$B94,\"\")","v":""},{"$f":"IF(G94='Üldine info'!$C$5,$B94,\"\")","v":""},{"$f":"IF(H94='Üldine info'!$C$5,$B94,\"\")","v":""},{"$f":"IF(I94='Üldine info'!$C$5,$B94,\"\")","v":""},{"$f":"IF(J94='Üldine info'!$C$5,$B94,\"\")","v":""}]
[null,"4B081",{"$f":"'Peterburi tee'!C95","v":"018-090L-U1"},{"$f":"'Peterburi tee'!D95","v":"025-T030-U1"},{"$f":"'Peterburi tee'!E95","v":"035-AH081SL-U1"},{"$f":"'Peterburi tee'!F95","v":"1017-110R-U1"},{"$f":"'Peterburi tee'!G95","v":"1034-HR060S-U1"},{"$f":"'Peterburi tee'!H95","v":0},{"$f":"'Peterburi tee'!I95","v":"2034-114L-U1"},{"$f":"'Peterburi tee'!J95","v":"2050-185L-U1"},{"$f":"IF(C95='Üldine info'!$C$5,$B95,\"\")","v":""},{"$f":"IF(D95='Üldine info'!$C$5,$B95,\"\")","v":""},{"$f":"IF(E95='Üldine info'!$C$5,$B95,\"\")","v":""},{"$f":"IF(F95='Üldine info'!$C$5,$B95,\"\")","v":""},{"$f":"IF(G95='Üldine info'!$C$5,$B95,\"\")","v":""},{"$f":"IF(H95='Üldine info'!$C$5,$B95,\"\")","v":""},{"$f":"IF(I95='Üldine info'!$C$5,$B95,\"\")","v":""},{"$f":"IF(J95='Üldine info'!$C$5,$B95,\"\")","v":""}]
[null,"4B082",{"$f":"'Peterburi tee'!C96","v":"018-090R-U1"},{"$f":"'Peterburi tee'!D96","v":"025-T060-U1"},{"$f":"'Peterburi tee'!E96","v":"035-AH081SR-U1"},{"$f":"'Peterburi tee'!F96","v":"1017-120/2-U1"},{"$f":"'Peterburi tee'!G96","v":"1034-HR070S-U1"},{"$f":"'Peterburi tee'!H96","v":0},{"$f":"'Peterburi tee'!I96","v":"2034-114R-U1"},{"$f":"'Peterburi tee'!J96","v":"2050-185R-U1"},{"$f":"IF(C96='Üldine info'!$C$5,$B96,\"\")","v":""},{"$f":"IF(D96='Üldine info'!$C$5,$B96,\"\")","v":""},{"$f":"IF(E96='Üldine info'!$C$5,$B96,\"\")","v":""},{"$f":"IF(F96='Üldine info'!$C$5,$B96,\"\")","v":""},{"$f":"IF(G96='Üldine info'!$C$5,$B96,\"\")","v":""},{"$f":"IF(H96='Üldine info'!$C$5,$B96,\"\")","v":""},{"$f":"IF(I96='Üldine info'!$C$5,$B96,\"\")","v":""},{"$f":"IF(J96='Üldine info'!$C$5,$B96,\"\")","v":""}]
[null,"4B083",{"$f":"'Peterburi tee'!C97","v":0},{"$f":"'Peterburi tee'!D97","v":"025-V100L-U1"},{"$f":"'Peterburi tee'!E97","v":"036-026C-U1"},{"$f":"'Peterburi tee'!F97","v":"1017-120C-U1"},{"$f":"'Peterburi tee'!G97","v":"1034-HR143L-U1"},{"$f":"'Peterburi tee'!H97","v":"2005-180C-U1"},{"$f":"'Peterburi tee'!I97","v":"2034-124L-U1"},{"$f":"'Peterburi tee'!J97","v":"2050-215L-U1"},{"$f":"IF(C97='Üldine info'!$C$5,$B97,\"\")","v":""},{"$f":"IF(D97='Üldine info'!$C$5,$B97,\"\")","v":""},{"$f":"IF(E97='Üldine info'!$C$5,$B97,\"\")","v":""},{"$f":"IF(F97='Üldine info'!$C$5,$B97,\"\")","v":""},{"$f":"IF(G97='Üldine info'!$C$5,$B97,\"\")","v":""},{"$f":"IF(H97='Üldine info'!$C$5,$B97,\"\")","v":""},{"$f":"IF(I97='Üldine info'!$C$5,$B97,\"\")","v":""},{"$f":"IF(J97='Üldine info'!$C$5,$B97,\"\")","v":""}]
[null,"4B084",{"$f":"'Peterburi tee'!C98","v":0},{"$f":"'Peterburi tee'!D98","v":"025-V100R-U1"},{"$f":"'Peterburi tee'!E98","v":0},{"$f":"'Peterburi tee'!F98","v":"1017-140C-U1"},{"$f":"'Peterburi tee'!G98","v":"1034-HR143R-U1"},{"$f":"'Peterburi tee'!H98","v":"2005-180L-U1"},{"$f":"'Peterburi tee'!I98","v":"2034-124R-U1"},{"$f":"'Peterburi tee'!J98","v":"2050-215R-U1"},{"$f":"IF(C98='Üldine info'!$C$5,$B98,\"\")","v":""},{"$f":"IF(D98='Üldine info'!$C$5,$B98,\"\")","v":""},{"$f":"IF(E98='Üldine info'!$C$5,$B98,\"\")","v":""},{"$f":"IF(F98='Üldine info'!$C$5,$B98,\"\")","v":""},{"$f":"IF(G98='Üldine info'!$C$5,$B98,\"\")","v":""},{"$f":"IF(H98='Üldine info'!$C$5,$B98,\"\")","v":""},{"$f":"IF(I98='Üldine info'!$C$5,$B98,\"\")","v":""},{"$f":"IF(J98='Üldine info'!$C$5,$B98,\"\")","v":""}]
[null,"4B091",{"$f":"'Peterburi tee'!C99","v":0},{"$f":"'Peterburi tee'!D99","v":"025-V150L-U1"},{"$f":"'Peterburi tee'!E99","v":0},{"$f":"'Peterburi tee'!F99","v":"1017-141C-U1"},{"$f":"'Peterburi tee'!G99","v":"1034-HR185L-U1"},{"$f":"'Peterburi tee'!H99","v":"2005-180R-U1"},{"$f":"'Peterburi tee'!I99","v":0},{"$f":"'Peterburi tee'!J99","v":"2090-291-U1"},{"$f":"IF(C99='Üldine info'!$C$5,$B99,\"\")","v":""},{"$f":"IF(D99='Üldine info'!$C$5,$B99,\"\")","v":""},{"$f":"IF(E99='Üldine info'!$C$5,$B99,\"\")","v":""},{"$f":"IF(F99='Üldine info'!$C$5,$B99,\"\")","v":""},{"$f":"IF(G99='Üldine info'!$C$5,$B99,\"\")","v":""},{"$f":"IF(H99='Üldine info'!$C$5,$B99,\"\")","v":""},{"$f":"IF(I99='Üldine info'!$C$5,$B99,\"\")","v":""},{"$f":"IF(J99='Üldine info'!$C$5,$B99,\"\")","v":""}]
[null,"4B092",{"$f":"'Peterburi tee'!C100","v":"019-090L-U1"},{"$f":"'Peterburi tee'!D100","v":"025-V150R-U1"},{"$f":"'Peterburi tee'!E100","v":0},{"$f":"'Peterburi tee'!F100","v":"1018-060C-U1"},{"$f":"'Peterburi tee'!G100","v":"1034-HR192L-U1"},{"$f":"'Peterburi tee'!H100","v":"2006-040C-U1"},{"$f":"'Peterburi tee'!I100","v":0},{"$f":"'Peterburi tee'!J100","v":"26999-U1"},{"$f":"IF(C100='Üldine info'!$C$5,$B100,\"\")","v":""},{"$f":"IF(D100='Üldine info'!$C$5,$B100,\"\")","v":""},{"$f":"IF(E100='Üldine info'!$C$5,$B100,\"\")","v":""},{"$f":"IF(F100='Üldine info'!$C$5,$B100,\"\")","v":""},{"$f":"IF(G100='Üldine info'!$C$5,$B100,\"\")","v":""},{"$f":"IF(H100='Üldine info'!$C$5,$B100,\"\")","v":""},{"$f":"IF(I100='Üldine info'!$C$5,$B100,\"\")","v":""},{"$f":"IF(J100='Üldine info'!$C$5,$B100,\"\")","v":""}]
[null,"4B093",{"$f":"'Peterburi tee'!C101","v":"019-090R-U1"},{"$f":"'Peterburi tee'!D101","v":"026-059C-U1"},{"$f":"'Peterburi tee'!E101","v":"036-084L-U1"},{"$f":"'Peterburi tee'!F101","v":"1018-090L-U1"},{"$f":"'Peterburi tee'!G101","v":"1034-HR192R-U1"},{"$f":"'Peterburi tee'!H101","v":"2006-045C-U1"},{"$f":"'Peterburi tee'!I101","v":"2034-A105L-U1"},{"$f":"'Peterburi tee'!J101","v":"2NAIDIS-U1"},{"$f":"IF(C101='Üldine info'!$C$5,$B101,\"\")","v":""},{"$f":"IF(D101='Üldine info'!$C$5,$B101,\"\")","v":""},{"$f":"IF(E101='Üldine info'!$C$5,$B101,\"\")","v":""},{"$f":"IF(F101='Üldine info'!$C$5,$B101,\"\")","v":""},{"$f":"IF(G101='Üldine info'!$C$5,$B101,\"\")","v":""},{"$f":"IF(H101='Üldine info'!$C$5,$B101,\"\")","v":""},{"$f":"IF(I101='Üldine info'!$C$5,$B101,\"\")","v":""},{"$f":"IF(J101='Üldine info'!$C$5,$B101,\"\")","v":""}]
[null,"4B094",{"$f":"'Peterburi tee'!C102","v":"019-120C-U1"},{"$f":"'Peterburi tee'!D102","v":"026-060C-U1"},{"$f":"'Peterburi tee'!E102","v":"036-084R-U1"},{"$f":"'Peterburi tee'!F102","v":"1018-090R-U1"},{"$f":"'Peterburi tee'!G102","v":"1034-HR220L-U1"},{"$f":"'Peterburi tee'!H102","v":"2006-050C-U1"},{"$f":"'Peterburi tee'!I102","v":"2034-A105R-U1"},{"$f":"'Peterburi tee'!J102","v":"3290100L-U1"},{"$f":"IF(C102='Üldine info'!$C$5,$B102,\"\")","v":""},{"$f":"IF(D102='Üldine info'!$C$5,$B102,\"\")","v":""},{"$f":"IF(E102='Üldine info'!$C$5,$B102,\"\")","v":""},{"$f":"IF(F102='Üldine info'!$C$5,$B102,\"\")","v":""},{"$f":"IF(G102='Üldine info'!$C$5,$B102,\"\")","v":""},{"$f":"IF(H102='Üldine info'!$C$5,$B102,\"\")","v":""},{"$f":"IF(I102='Üldine info'!$C$5,$B102,\"\")","v":""},{"$f":"IF(J102='Üldine info'!$C$5,$B102,\"\")","v":""}]
[null,"4B101",{"$f":"'Peterburi tee'!C103","v":"019E-060C-U1"},{"$f":"'Peterburi tee'!D103","v":"026E-060C-U1"},{"$f":"'Peterburi tee'!E103","v":"036-091L-U1"},{"$f":"'Peterburi tee'!F103","v":"1018-120C-U1"},{"$f":"'Peterburi tee'!G103","v":"1034-HR220R-U1"},{"$f":"'Peterburi tee'!H103","v":"2006-140C-U1"},{"$f":"'Peterburi tee'!I103","v":0},{"$f":"'Peterburi tee'!J103","v":"3290100R-U1"},{"$f":"IF(C103='Üldine info'!$C$5,$B103,\"\")","v":""},{"$f":"IF(D103='Üldine info'!$C$5,$B103,\"\")","v":""},{"$f":"IF(E103='Üldine info'!$C$5,$B103,\"\")","v":""},{"$f":"IF(F103='Üldine info'!$C$5,$B103,\"\")","v":""},{"$f":"IF(G103='Üldine info'!$C$5,$B103,\"\")","v":""},{"$f":"IF(H103='Üldine info'!$C$5,$B103,\"\")","v":""},{"$f":"IF(I103='Üldine info'!$C$5,$B103,\"\")","v":""},{"$f":"IF(J103='Üldine info'!$C$5,$B103,\"\")","v":""}]
[null,"4B102",{"$f":"'Peterburi tee'!C104","v":"019E-120C-U1"},{"$f":"'Peterburi tee'!D104","v":0},{"$f":"'Peterburi tee'!E104","v":0},{"$f":"'Peterburi tee'!F104","v":"1019-060C-U1"},{"$f":"'Peterburi tee'!G104","v":"1034-S187-U1"},{"$f":"'Peterburi tee'!H104","v":"2007-150C-U1"},{"$f":"'Peterburi tee'!I104","v":0},{"$f":"'Peterburi tee'!J104","v":"439-060C-U1"},{"$f":"IF(C104='Üldine info'!$C$5,$B104,\"\")","v":""},{"$f":"IF(D104='Üldine info'!$C$5,$B104,\"\")","v":""},{"$f":"IF(E104='Üldine info'!$C$5,$B104,\"\")","v":""},{"$f":"IF(F104='Üldine info'!$C$5,$B104,\"\")","v":""},{"$f":"IF(G104='Üldine info'!$C$5,$B104,\"\")","v":""},{"$f":"IF(H104='Üldine info'!$C$5,$B104,\"\")","v":""},{"$f":"IF(I104='Üldine info'!$C$5,$B104,\"\")","v":""},{"$f":"IF(J104='Üldine info'!$C$5,$B104,\"\")","v":""}]
[null,"4B103",{"$f":"'Peterburi tee'!C105","v":"021-107L-U1"},{"$f":"'Peterburi tee'!D105","v":"026-E080-U1"},{"$f":"'Peterburi tee'!E105","v":"036-096L-U1"},{"$f":"'Peterburi tee'!F105","v":"1019-090L-U1"},{"$f":"'Peterburi tee'!G105","v":"1034-SA105-U1"},{"$f":"'Peterburi tee'!H105","v":"2007-170C-U1"},{"$f":"'Peterburi tee'!I105","v":0},{"$f":"'Peterburi tee'!J105","v":"NAIDIS-U1"},{"$f":"IF(C105='Üldine info'!$C$5,$B105,\"\")","v":""},{"$f":"IF(D105='Üldine info'!$C$5,$B105,\"\")","v":""},{"$f":"IF(E105='Üldine info'!$C$5,$B105,\"\")","v":""},{"$f":"IF(F105='Üldine info'!$C$5,$B105,\"\")","v":""},{"$f":"IF(G105='Üldine info'!$C$5,$B105,\"\")","v":""},{"$f":"IF(H105='Üldine info'!$C$5,$B105,\"\")","v":""},{"$f":"IF(I105='Üldine info'!$C$5,$B105,\"\")","v":""},{"$f":"IF(J105='Üldine info'!$C$5,$B105,\"\")","v":""}]
[null,"4B104",{"$f":"'Peterburi tee'!C106","v":"021-120L-U1"},{"$f":"'Peterburi tee'!D106","v":"026E-F200-U1"},{"$f":"'Peterburi tee'!E106","v":"036-096R-U1"},{"$f":"'Peterburi tee'!F106","v":"1019-090R-U1"},{"$f":"'Peterburi tee'!G106","v":"1034-SL40-U1"},{"$f":"'Peterburi tee'!H106","v":"2008-060C-U1"},{"$f":"'Peterburi tee'!I106","v":0},{"$f":"'Peterburi tee'!J106","v":"PR-10X10-U1"},{"$f":"IF(C106='Üldine info'!$C$5,$B106,\"\")","v":""},{"$f":"IF(D106='Üldine info'!$C$5,$B106,\"\")","v":""},{"$f":"IF(E106='Üldine info'!$C$5,$B106,\"\")","v":""},{"$f":"IF(F106='Üldine info'!$C$5,$B106,\"\")","v":""},{"$f":"IF(G106='Üldine info'!$C$5,$B106,\"\")","v":""},{"$f":"IF(H106='Üldine info'!$C$5,$B106,\"\")","v":""},{"$f":"IF(I106='Üldine info'!$C$5,$B106,\"\")","v":""},{"$f":"IF(J106='Üldine info'!$C$5,$B106,\"\")","v":""}]
[null,"4B111",{"$f":"'Peterburi tee'!C107","v":"021-120LX-U1"},{"$f":"'Peterburi tee'!D107","v":"026E-S060-U1"},{"$f":"'Peterburi tee'!E107","v":"036-098LS-U1"},{"$f":"'Peterburi tee'!F107","v":"1019-120C-U1"},{"$f":"'Peterburi tee'!G107","v":"1034-SM105-U1"},{"$f":"'Peterburi tee'!H107","v":"2008-080C-U1"},{"$f":"'Peterburi tee'!I107","v":"2034-HR050S-U1"},{"$f":"'Peterburi tee'!J107","v":0},{"$f":"IF(C107='Üldine info'!$C$5,$B107,\"\")","v":""},{"$f":"IF(D107='Üldine info'!$C$5,$B107,\"\")","v":""},{"$f":"IF(E107='Üldine info'!$C$5,$B107,\"\")","v":""},{"$f":"IF(F107='Üldine info'!$C$5,$B107,\"\")","v":""},{"$f":"IF(G107='Üldine info'!$C$5,$B107,\"\")","v":""},{"$f":"IF(H107='Üldine info'!$C$5,$B107,\"\")","v":""},{"$f":"IF(I107='Üldine info'!$C$5,$B107,\"\")","v":""},{"$f":"IF(J107='Üldine info'!$C$5,$B107,\"\")","v":""}]
[null,"4B112",{"$f":"'Peterburi tee'!C108","v":"021-120R-U1"},{"$f":"'Peterburi tee'!D108","v":"026E-S080-U1"},{"$f":"'Peterburi tee'!E108","v":"036-098RS-U1"},{"$f":"'Peterburi tee'!F108","v":"1021-107L-U1"},{"$f":"'Peterburi tee'!G108","v":"1034-SS80-U1"},{"$f":"'Peterburi tee'!H108","v":"2008-090L-U1"},{"$f":"'Peterburi tee'!I108","v":"2034-HR060S-U1"},{"$f":"'Peterburi tee'!J108","v":0},{"$f":"IF(C108='Üldine info'!$C$5,$B108,\"\")","v":""},{"$f":"IF(D108='Üldine info'!$C$5,$B108,\"\")","v":""},{"$f":"IF(E108='Üldine info'!$C$5,$B108,\"\")","v":""},{"$f":"IF(F108='Üldine info'!$C$5,$B108,\"\")","v":""},{"$f":"IF(G108='Üldine info'!$C$5,$B108,\"\")","v":""},{"$f":"IF(H108='Üldine info'!$C$5,$B108,\"\")","v":""},{"$f":"IF(I108='Üldine info'!$C$5,$B108,\"\")","v":""},{"$f":"IF(J108='Üldine info'!$C$5,$B108,\"\")","v":""}]
[null,"4B113",{"$f":"'Peterburi tee'!C109","v":"021-120RX-U1"},{"$f":"'Peterburi tee'!D109","v":"026E-SS060-U1"},{"$f":"'Peterburi tee'!E109","v":"036-099L-U1"},{"$f":"'Peterburi tee'!F109","v":"1021-120L-U1"},{"$f":"'Peterburi tee'!G109","v":"1034-T187-U1"},{"$f":"'Peterburi tee'!H109","v":"2008-090R-U1"},{"$f":"'Peterburi tee'!I109","v":"2034-HR070S-U1"},{"$f":"'Peterburi tee'!J109","v":0},{"$f":"IF(C109='Üldine info'!$C$5,$B109,\"\")","v":""},{"$f":"IF(D109='Üldine info'!$C$5,$B109,\"\")","v":""},{"$f":"IF(E109='Üldine info'!$C$5,$B109,\"\")","v":""},{"$f":"IF(F109='Üldine info'!$C$5,$B109,\"\")","v":""},{"$f":"IF(G109='Üldine info'!$C$5,$B109,\"\")","v":""},{"$f":"IF(H109='Üldine info'!$C$5,$B109,\"\")","v":""},{"$f":"IF(I109='Üldine info'!$C$5,$B109,\"\")","v":""},{"$f":"IF(J109='Üldine info'!$C$5,$B109,\"\")","v":""}]
[null,"4B114",{"$f":"'Peterburi tee'!C110","v":"022-018C-U1"},{"$f":"'Peterburi tee'!D110","v":"026E-XS060-U1"},{"$f":"'Peterburi tee'!E110","v":"036-099R-U1"},{"$f":"'Peterburi tee'!F110","v":"1021-120R-U1"},{"$f":"'Peterburi tee'!G110","v":"1035-037C-U1"},{"$f":"'Peterburi tee'!H110","v":"2008-120C-U1"},{"$f":"'Peterburi tee'!I110","v":"2034-HR143L-U1"},{"$f":"'Peterburi tee'!J110","v":0},{"$f":"IF(C110='Üldine info'!$C$5,$B110,\"\")","v":""},{"$f":"IF(D110='Üldine info'!$C$5,$B110,\"\")","v":""},{"$f":"IF(E110='Üldine info'!$C$5,$B110,\"\")","v":""},{"$f":"IF(F110='Üldine info'!$C$5,$B110,\"\")","v":""},{"$f":"IF(G110='Üldine info'!$C$5,$B110,\"\")","v":""},{"$f":"IF(H110='Üldine info'!$C$5,$B110,\"\")","v":""},{"$f":"IF(I110='Üldine info'!$C$5,$B110,\"\")","v":""},{"$f":"IF(J110='Üldine info'!$C$5,$B110,\"\")","v":""}]
[null,"4B121",{"$f":"'Peterburi tee'!C111","v":"022-020C-U1"},{"$f":"'Peterburi tee'!D111","v":"026E-XS080-U1"},{"$f":"'Peterburi tee'!E111","v":"036-109LS-U1"},{"$f":"'Peterburi tee'!F111","v":"1022-018C-U1"},{"$f":"'Peterburi tee'!G111","v":"1035-040C-U1"},{"$f":"'Peterburi tee'!H111","v":"2008-120D-U1"},{"$f":"'Peterburi tee'!I111","v":"2034-HR143R-U1"},{"$f":"'Peterburi tee'!J111","v":0},{"$f":"IF(C111='Üldine info'!$C$5,$B111,\"\")","v":""},{"$f":"IF(D111='Üldine info'!$C$5,$B111,\"\")","v":""},{"$f":"IF(E111='Üldine info'!$C$5,$B111,\"\")","v":""},{"$f":"IF(F111='Üldine info'!$C$5,$B111,\"\")","v":""},{"$f":"IF(G111='Üldine info'!$C$5,$B111,\"\")","v":""},{"$f":"IF(H111='Üldine info'!$C$5,$B111,\"\")","v":""},{"$f":"IF(I111='Üldine info'!$C$5,$B111,\"\")","v":""},{"$f":"IF(J111='Üldine info'!$C$5,$B111,\"\")","v":""}]
[null,"4B122",{"$f":"'Peterburi tee'!C112","v":"022-039CL-U1"},{"$f":"'Peterburi tee'!D112","v":"026-F200-U1"},{"$f":"'Peterburi tee'!E112","v":"036-109L-U1"},{"$f":"'Peterburi tee'!F112","v":"1022-020C-U1"},{"$f":"'Peterburi tee'!G112","v":"1035-045L-U1"},{"$f":"'Peterburi tee'!H112","v":"2009-060C-U1"},{"$f":"'Peterburi tee'!I112","v":"2034-HR185L-U1"},{"$f":"'Peterburi tee'!J112","v":0},{"$f":"IF(C112='Üldine info'!$C$5,$B112,\"\")","v":""},{"$f":"IF(D112='Üldine info'!$C$5,$B112,\"\")","v":""},{"$f":"IF(E112='Üldine info'!$C$5,$B112,\"\")","v":""},{"$f":"IF(F112='Üldine info'!$C$5,$B112,\"\")","v":""},{"$f":"IF(G112='Üldine info'!$C$5,$B112,\"\")","v":""},{"$f":"IF(H112='Üldine info'!$C$5,$B112,\"\")","v":""},{"$f":"IF(I112='Üldine info'!$C$5,$B112,\"\")","v":""},{"$f":"IF(J112='Üldine info'!$C$5,$B112,\"\")","v":""}]
[null,"4B123",{"$f":"'Peterburi tee'!C113","v":"022-039CR-U1"},{"$f":"'Peterburi tee'!D113","v":"026-S060-U1"},{"$f":"'Peterburi tee'!E113","v":"036-109RS-U1"},{"$f":"'Peterburi tee'!F113","v":"1022-039C-U1"},{"$f":"'Peterburi tee'!G113","v":"1035-045R-U1"},{"$f":"'Peterburi tee'!H113","v":"2009-080C-U1"},{"$f":"'Peterburi tee'!I113","v":"2034-HR192L-U1"},{"$f":"'Peterburi tee'!J113","v":0},{"$f":"IF(C113='Üldine info'!$C$5,$B113,\"\")","v":""},{"$f":"IF(D113='Üldine info'!$C$5,$B113,\"\")","v":""},{"$f":"IF(E113='Üldine info'!$C$5,$B113,\"\")","v":""},{"$f":"IF(F113='Üldine info'!$C$5,$B113,\"\")","v":""},{"$f":"IF(G113='Üldine info'!$C$5,$B113,\"\")","v":""},{"$f":"IF(H113='Üldine info'!$C$5,$B113,\"\")","v":""},{"$f":"IF(I113='Üldine info'!$C$5,$B113,\"\")","v":""},{"$f":"IF(J113='Üldine info'!$C$5,$B113,\"\")","v":""}]
[null,"4B124",{"$f":"'Peterburi tee'!C114","v":"022-055C0-U1"},{"$f":"'Peterburi tee'!D114","v":"026-S080-U1"},{"$f":"'Peterburi tee'!E114","v":"036-109R-U1"},{"$f":"'Peterburi tee'!F114","v":"1022-055C0-U1"},{"$f":"'Peterburi tee'!G114","v":"1035-051L-U1"},{"$f":"'Peterburi tee'!H114","v":"2014-060C-U1"},{"$f":"'Peterburi tee'!I114","v":"2034-HR192R-U1"},{"$f":"'Peterburi tee'!J114","v":0},{"$f":"IF(C114='Üldine info'!$C$5,$B114,\"\")","v":""},{"$f":"IF(D114='Üldine info'!$C$5,$B114,\"\")","v":""},{"$f":"IF(E114='Üldine info'!$C$5,$B114,\"\")","v":""},{"$f":"IF(F114='Üldine info'!$C$5,$B114,\"\")","v":""},{"$f":"IF(G114='Üldine info'!$C$5,$B114,\"\")","v":""},{"$f":"IF(H114='Üldine info'!$C$5,$B114,\"\")","v":""},{"$f":"IF(I114='Üldine info'!$C$5,$B114,\"\")","v":""},{"$f":"IF(J114='Üldine info'!$C$5,$B114,\"\")","v":""}]
[null,"4C011",{"$f":"'Peterburi tee'!C115","v":"022-060C0-U1"},{"$f":"'Peterburi tee'!D115","v":"026-SS060-U1"},{"$f":"'Peterburi tee'!E115","v":"036-117R-U1"},{"$f":"'Peterburi tee'!F115","v":"1022-060C0-U1"},{"$f":"'Peterburi tee'!G115","v":"1035-051R-U1"},{"$f":"'Peterburi tee'!H115","v":"2014-100L-U1"},{"$f":"'Peterburi tee'!I115","v":"2034-HR220L-U1"},{"$f":"'Peterburi tee'!J115","v":0},{"$f":"IF(C115='Üldine info'!$C$5,$B115,\"\")","v":""},{"$f":"IF(D115='Üldine info'!$C$5,$B115,\"\")","v":""},{"$f":"IF(E115='Üldine info'!$C$5,$B115,\"\")","v":""},{"$f":"IF(F115='Üldine info'!$C$5,$B115,\"\")","v":""},{"$f":"IF(G115='Üldine info'!$C$5,$B115,\"\")","v":""},{"$f":"IF(H115='Üldine info'!$C$5,$B115,\"\")","v":""},{"$f":"IF(I115='Üldine info'!$C$5,$B115,\"\")","v":""},{"$f":"IF(J115='Üldine info'!$C$5,$B115,\"\")","v":""}]
[null,"4C012",{"$f":"'Peterburi tee'!C116","v":"022-060C1-U1"},{"$f":"'Peterburi tee'!D116","v":0},{"$f":"'Peterburi tee'!E116","v":0},{"$f":"'Peterburi tee'!F116","v":"1022-060C1-U1"},{"$f":"'Peterburi tee'!G116","v":"1035-058C-U1"},{"$f":"'Peterburi tee'!H116","v":"2014-100R-U1"},{"$f":"'Peterburi tee'!I116","v":"2034-HR220R-U1"},{"$f":"'Peterburi tee'!J116","v":0},{"$f":"IF(C116='Üldine info'!$C$5,$B116,\"\")","v":""},{"$f":"IF(D116='Üldine info'!$C$5,$B116,\"\")","v":""},{"$f":"IF(E116='Üldine info'!$C$5,$B116,\"\")","v":""},{"$f":"IF(F116='Üldine info'!$C$5,$B116,\"\")","v":""},{"$f":"IF(G116='Üldine info'!$C$5,$B116,\"\")","v":""},{"$f":"IF(H116='Üldine info'!$C$5,$B116,\"\")","v":""},{"$f":"IF(I116='Üldine info'!$C$5,$B116,\"\")","v":""},{"$f":"IF(J116='Üldine info'!$C$5,$B116,\"\")","v":""}]
[null,"4C013",{"$f":"'Peterburi tee'!C117","v":"022-060C2-U1"},{"$f":"'Peterburi tee'!D117","v":0},{"$f":"'Peterburi tee'!E117","v":0},{"$f":"'Peterburi tee'!F117","v":"1022-060C4-U1"},{"$f":"'Peterburi tee'!G117","v":"1035-060C-U1"},{"$f":"'Peterburi tee'!H117","v":"2014-120L-U1"},{"$f":"'Peterburi tee'!I117","v":"2034-S187-U1"},{"$f":"'Peterburi tee'!J117","v":0},{"$f":"IF(C117='Üldine info'!$C$5,$B117,\"\")","v":""},{"$f":"IF(D117='Üldine info'!$C$5,$B117,\"\")","v":""},{"$f":"IF(E117='Üldine info'!$C$5,$B117,\"\")","v":""},{"$f":"IF(F117='Üldine info'!$C$5,$B117,\"\")","v":""},{"$f":"IF(G117='Üldine info'!$C$5,$B117,\"\")","v":""},{"$f":"IF(H117='Üldine info'!$C$5,$B117,\"\")","v":""},{"$f":"IF(I117='Üldine info'!$C$5,$B117,\"\")","v":""},{"$f":"IF(J117='Üldine info'!$C$5,$B117,\"\")","v":""}]
[null,"4C014",{"$f":"'Peterburi tee'!C118","v":"022-060C3-U1"},{"$f":"'Peterburi tee'!D118","v":"027-090C-U1"},{"$f":"'Peterburi tee'!E118","v":"036-120/2-U1"},{"$f":"'Peterburi tee'!F118","v":"1022-073C0-U1"},{"$f":"'Peterburi tee'!G118","v":"1035-063C-U1"},{"$f":"'Peterburi tee'!H118","v":"2014-120R-U1"},{"$f":"'Peterburi tee'!I118","v":"2034-SA105-U1"},{"$f":"'Peterburi tee'!J118","v":0},{"$f":"IF(C118='Üldine info'!$C$5,$B118,\"\")","v":""},{"$f":"IF(D118='Üldine info'!$C$5,$B118,\"\")","v":""},{"$f":"IF(E118='Üldine info'!$C$5,$B118,\"\")","v":""},{"$f":"IF(F118='Üldine info'!$C$5,$B118,\"\")","v":""},{"$f":"IF(G118='Üldine info'!$C$5,$B118,\"\")","v":""},{"$f":"IF(H118='Üldine info'!$C$5,$B118,\"\")","v":""},{"$f":"IF(I118='Üldine info'!$C$5,$B118,\"\")","v":""},{"$f":"IF(J118='Üldine info'!$C$5,$B118,\"\")","v":""}]
[null,"4C021",{"$f":"'Peterburi tee'!C119","v":"022-060C4-U1"},{"$f":"'Peterburi tee'!D119","v":"027-120C-U1"},{"$f":"'Peterburi tee'!E119","v":"036-120L-U1"},{"$f":"'Peterburi tee'!F119","v":"1022-080L0-U1"},{"$f":"'Peterburi tee'!G119","v":"1035-068L-U1"},{"$f":"'Peterburi tee'!H119","v":"2015-060C-U1"},{"$f":"'Peterburi tee'!I119","v":"2034-SL40-U1"},{"$f":"'Peterburi tee'!J119","v":0},{"$f":"IF(C119='Üldine info'!$C$5,$B119,\"\")","v":""},{"$f":"IF(D119='Üldine info'!$C$5,$B119,\"\")","v":""},{"$f":"IF(E119='Üldine info'!$C$5,$B119,\"\")","v":""},{"$f":"IF(F119='Üldine info'!$C$5,$B119,\"\")","v":""},{"$f":"IF(G119='Üldine info'!$C$5,$B119,\"\")","v":""},{"$f":"IF(H119='Üldine info'!$C$5,$B119,\"\")","v":""},{"$f":"IF(I119='Üldine info'!$C$5,$B119,\"\")","v":""},{"$f":"IF(J119='Üldine info'!$C$5,$B119,\"\")","v":""}]
[null,"4C022",{"$f":"'Peterburi tee'!C120","v":0},{"$f":"'Peterburi tee'!D120","v":0},{"$f":"'Peterburi tee'!E120","v":"036-120R-U1"},{"$f":"'Peterburi tee'!F120","v":"1022-080L1-U1"},{"$f":"'Peterburi tee'!G120","v":"1035-068R-U1"},{"$f":"'Peterburi tee'!H120","v":0},{"$f":"'Peterburi tee'!I120","v":"2034-SM105-U1"},{"$f":"'Peterburi tee'!J120","v":0},{"$f":"IF(C120='Üldine info'!$C$5,$B120,\"\")","v":""},{"$f":"IF(D120='Üldine info'!$C$5,$B120,\"\")","v":""},{"$f":"IF(E120='Üldine info'!$C$5,$B120,\"\")","v":""},{"$f":"IF(F120='Üldine info'!$C$5,$B120,\"\")","v":""},{"$f":"IF(G120='Üldine info'!$C$5,$B120,\"\")","v":""},{"$f":"IF(H120='Üldine info'!$C$5,$B120,\"\")","v":""},{"$f":"IF(I120='Üldine info'!$C$5,$B120,\"\")","v":""},{"$f":"IF(J120='Üldine info'!$C$5,$B120,\"\")","v":""}]
[null,"4C023",{"$f":"'Peterburi tee'!C121","v":0},{"$f":"'Peterburi tee'!D121","v":0},{"$f":"'Peterburi tee'!E121","v":"036-124L-U1"},{"$f":"'Peterburi tee'!F121","v":"1022-080L2-U1"},{"$f":"'Peterburi tee'!G121","v":"1035-068SL-U1"},{"$f":"'Peterburi tee'!H121","v":0},{"$f":"'Peterburi tee'!I121","v":"2034-SS80-U1"},{"$f":"'Peterburi tee'!J121","v":0},{"$f":"IF(C121='Üldine info'!$C$5,$B121,\"\")","v":""},{"$f":"IF(D121='Üldine info'!$C$5,$B121,\"\")","v":""},{"$f":"IF(E121='Üldine info'!$C$5,$B121,\"\")","v":""},{"$f":"IF(F121='Üldine info'!$C$5,$B121,\"\")","v":""},{"$f":"IF(G121='Üldine info'!$C$5,$B121,\"\")","v":""},{"$f":"IF(H121='Üldine info'!$C$5,$B121,\"\")","v":""},{"$f":"IF(I121='Üldine info'!$C$5,$B121,\"\")","v":""},{"$f":"IF(J121='Üldine info'!$C$5,$B121,\"\")","v":""}]
[null,"4C024",{"$f":"'Peterburi tee'!C122","v":0},{"$f":"'Peterburi tee'!D122","v":0},{"$f":"'Peterburi tee'!E122","v":"036-124R-U1"},{"$f":"'Peterburi tee'!F122","v":"1022-080L3-U1"},{"$f":"'Peterburi tee'!G122","v":"1035-068SR-U1"},{"$f":"'Peterburi tee'!H122","v":"2015-140F-U1"},{"$f":"'Peterburi tee'!I122","v":"2034-T187-U1"},{"$f":"'Peterburi tee'!J122","v":0},{"$f":"IF(C122='Üldine info'!$C$5,$B122,\"\")","v":""},{"$f":"IF(D122='Üldine info'!$C$5,$B122,\"\")","v":""},{"$f":"IF(E122='Üldine info'!$C$5,$B122,\"\")","v":""},{"$f":"IF(F122='Üldine info'!$C$5,$B122,\"\")","v":""},{"$f":"IF(G122='Üldine info'!$C$5,$B122,\"\")","v":""},{"$f":"IF(H122='Üldine info'!$C$5,$B122,\"\")","v":""},{"$f":"IF(I122='Üldine info'!$C$5,$B122,\"\")","v":""},{"$f":"IF(J122='Üldine info'!$C$5,$B122,\"\")","v":""}]
[null,"4C031",{"$f":"'Peterburi tee'!C123","v":"022-073C8-U1"},{"$f":"'Peterburi tee'!D123","v":"027E-M150/2-U1"},{"$f":"'Peterburi tee'!E123","v":"036-140/2-U1"},{"$f":"'Peterburi tee'!F123","v":0},{"$f":"'Peterburi tee'!G123","v":"1035-081L-U1"},{"$f":"'Peterburi tee'!H123","v":"2015-X-U1"},{"$f":"'Peterburi tee'!I123","v":"2035-037C-U1"},{"$f":"'Peterburi tee'!J123","v":0},{"$f":"IF(C123='Üldine info'!$C$5,$B123,\"\")","v":""},{"$f":"IF(D123='Üldine info'!$C$5,$B123,\"\")","v":""},{"$f":"IF(E123='Üldine info'!$C$5,$B123,\"\")","v":""},{"$f":"IF(F123='Üldine info'!$C$5,$B123,\"\")","v":""},{"$f":"IF(G123='Üldine info'!$C$5,$B123,\"\")","v":""},{"$f":"IF(H123='Üldine info'!$C$5,$B123,\"\")","v":""},{"$f":"IF(I123='Üldine info'!$C$5,$B123,\"\")","v":""},{"$f":"IF(J123='Üldine info'!$C$5,$B123,\"\")","v":""}]
[null,"4C032",{"$f":"'Peterburi tee'!C124","v":"022-073C9-U1"},{"$f":"'Peterburi tee'!D124","v":0},{"$f":"'Peterburi tee'!E124","v":0},{"$f":"'Peterburi tee'!F124","v":0},{"$f":"'Peterburi tee'!G124","v":"1035-081R-U1"},{"$f":"'Peterburi tee'!H124","v":"2017-061C-U1"},{"$f":"'Peterburi tee'!I124","v":0},{"$f":"'Peterburi tee'!J124","v":0},{"$f":"IF(C124='Üldine info'!$C$5,$B124,\"\")","v":""},{"$f":"IF(D124='Üldine info'!$C$5,$B124,\"\")","v":""},{"$f":"IF(E124='Üldine info'!$C$5,$B124,\"\")","v":""},{"$f":"IF(F124='Üldine info'!$C$5,$B124,\"\")","v":""},{"$f":"IF(G124='Üldine info'!$C$5,$B124,\"\")","v":""},{"$f":"IF(H124='Üldine info'!$C$5,$B124,\"\")","v":""},{"$f":"IF(I124='Üldine info'!$C$5,$B124,\"\")","v":""},{"$f":"IF(J124='Üldine info'!$C$5,$B124,\"\")","v":""}]
[null,"4C033",{"$f":"'Peterburi tee'!C125","v":"022-073CE7-U1"},{"$f":"'Peterburi tee'!D125","v":0},{"$f":"'Peterburi tee'!E125","v":0},{"$f":"'Peterburi tee'!F125","v":0},{"$f":"'Peterburi tee'!G125","v":"1035-082L-U1"},{"$f":"'Peterburi tee'!H125","v":"2017-078C-U1"},{"$f":"'Peterburi tee'!I125","v":0},{"$f":"'Peterburi tee'!J125","v":0},{"$f":"IF(C125='Üldine info'!$C$5,$B125,\"\")","v":""},{"$f":"IF(D125='Üldine info'!$C$5,$B125,\"\")","v":""},{"$f":"IF(E125='Üldine info'!$C$5,$B125,\"\")","v":""},{"$f":"IF(F125='Üldine info'!$C$5,$B125,\"\")","v":""},{"$f":"IF(G125='Üldine info'!$C$5,$B125,\"\")","v":""},{"$f":"IF(H125='Üldine info'!$C$5,$B125,\"\")","v":""},{"$f":"IF(I125='Üldine info'!$C$5,$B125,\"\")","v":""},{"$f":"IF(J125='Üldine info'!$C$5,$B125,\"\")","v":""}]
[null,"4C034",{"$f":"'Peterburi tee'!C126","v":"022-073CE8-U1"},{"$f":"'Peterburi tee'!D126","v":"027-M150/2-U1"},{"$f":"'Peterburi tee'!E126","v":"036-143A-U1"},{"$f":"'Peterburi tee'!F126","v":"1022-080R2-U1"},{"$f":"'Peterburi tee'!G126","v":"1035-082R-U1"},{"$f":"'Peterburi tee'!H126","v":"2017-080C-U1"},{"$f":"'Peterburi tee'!I126","v":0},{"$f":"'Peterburi tee'!J126","v":0},{"$f":"IF(C126='Üldine info'!$C$5,$B126,\"\")","v":""},{"$f":"IF(D126='Üldine info'!$C$5,$B126,\"\")","v":""},{"$f":"IF(E126='Üldine info'!$C$5,$B126,\"\")","v":""},{"$f":"IF(F126='Üldine info'!$C$5,$B126,\"\")","v":""},{"$f":"IF(G126='Üldine info'!$C$5,$B126,\"\")","v":""},{"$f":"IF(H126='Üldine info'!$C$5,$B126,\"\")","v":""},{"$f":"IF(I126='Üldine info'!$C$5,$B126,\"\")","v":""},{"$f":"IF(J126='Üldine info'!$C$5,$B126,\"\")","v":""}]
[null,"4C041",{"$f":"'Peterburi tee'!C127","v":"022-073CE9-U1"},{"$f":"'Peterburi tee'!D127","v":"027N-120C-U1"},{"$f":"'Peterburi tee'!E127","v":"036-180/3-U1"},{"$f":"'Peterburi tee'!F127","v":"1022-080R3-U1"},{"$f":"'Peterburi tee'!G127","v":"1035-084L-U1"},{"$f":"'Peterburi tee'!H127","v":"2017-090C-U1"},{"$f":"'Peterburi tee'!I127","v":"2035-051L-U1"},{"$f":"'Peterburi tee'!J127","v":0},{"$f":"IF(C127='Üldine info'!$C$5,$B127,\"\")","v":""},{"$f":"IF(D127='Üldine info'!$C$5,$B127,\"\")","v":""},{"$f":"IF(E127='Üldine info'!$C$5,$B127,\"\")","v":""},{"$f":"IF(F127='Üldine info'!$C$5,$B127,\"\")","v":""},{"$f":"IF(G127='Üldine info'!$C$5,$B127,\"\")","v":""},{"$f":"IF(H127='Üldine info'!$C$5,$B127,\"\")","v":""},{"$f":"IF(I127='Üldine info'!$C$5,$B127,\"\")","v":""},{"$f":"IF(J127='Üldine info'!$C$5,$B127,\"\")","v":""}]
[null,"4C042",{"$f":"'Peterburi tee'!C128","v":"022-080L0-U1"},{"$f":"'Peterburi tee'!D128","v":"028-033C-U1"},{"$f":"'Peterburi tee'!E128","v":"036-210/3-U1"},{"$f":"'Peterburi tee'!F128","v":"1022-090L0-U1"},{"$f":"'Peterburi tee'!G128","v":"1035-084R-U1"},{"$f":"'Peterburi tee'!H128","v":"2017-110L-U1"},{"$f":"'Peterburi tee'!I128","v":"2035-051R-U1"},{"$f":"'Peterburi tee'!J128","v":0},{"$f":"IF(C128='Üldine info'!$C$5,$B128,\"\")","v":""},{"$f":"IF(D128='Üldine info'!$C$5,$B128,\"\")","v":""},{"$f":"IF(E128='Üldine info'!$C$5,$B128,\"\")","v":""},{"$f":"IF(F128='Üldine info'!$C$5,$B128,\"\")","v":""},{"$f":"IF(G128='Üldine info'!$C$5,$B128,\"\")","v":""},{"$f":"IF(H128='Üldine info'!$C$5,$B128,\"\")","v":""},{"$f":"IF(I128='Üldine info'!$C$5,$B128,\"\")","v":""},{"$f":"IF(J128='Üldine info'!$C$5,$B128,\"\")","v":""}]
[null,"4C043",{"$f":"'Peterburi tee'!C129","v":"022-080L1-U1"},{"$f":"'Peterburi tee'!D129","v":"028-037SL-U1"},{"$f":"'Peterburi tee'!E129","v":"036-495L-U1"},{"$f":"'Peterburi tee'!F129","v":"1022-090L1-U1"},{"$f":"'Peterburi tee'!G129","v":0},{"$f":"'Peterburi tee'!H129","v":"2017-110R-U1"},{"$f":"'Peterburi tee'!I129","v":"2035-058C-U1"},{"$f":"'Peterburi tee'!J129","v":0},{"$f":"IF(C129='Üldine info'!$C$5,$B129,\"\")","v":""},{"$f":"IF(D129='Üldine info'!$C$5,$B129,\"\")","v":""},{"$f":"IF(E129='Üldine info'!$C$5,$B129,\"\")","v":""},{"$f":"IF(F129='Üldine info'!$C$5,$B129,\"\")","v":""},{"$f":"IF(G129='Üldine info'!$C$5,$B129,\"\")","v":""},{"$f":"IF(H129='Üldine info'!$C$5,$B129,\"\")","v":""},{"$f":"IF(I129='Üldine info'!$C$5,$B129,\"\")","v":""},{"$f":"IF(J129='Üldine info'!$C$5,$B129,\"\")","v":""}]
[null,"4C044",{"$f":"'Peterburi tee'!C130","v":"022-080L2-U1"},{"$f":"'Peterburi tee'!D130","v":"028-037SR-U1"},{"$f":"'Peterburi tee'!E130","v":"036-495R-U1"},{"$f":"'Peterburi tee'!F130","v":"1022-090L4-U1"},{"$f":"'Peterburi tee'!G130","v":"1035-084SR-U1"},{"$f":"'Peterburi tee'!H130","v":"2017-120/2-U1"},{"$f":"'Peterburi tee'!I130","v":"2035-060C-U1"},{"$f":"'Peterburi tee'!J130","v":0},{"$f":"IF(C130='Üldine info'!$C$5,$B130,\"\")","v":""},{"$f":"IF(D130='Üldine info'!$C$5,$B130,\"\")","v":""},{"$f":"IF(E130='Üldine info'!$C$5,$B130,\"\")","v":""},{"$f":"IF(F130='Üldine info'!$C$5,$B130,\"\")","v":""},{"$f":"IF(G130='Üldine info'!$C$5,$B130,\"\")","v":""},{"$f":"IF(H130='Üldine info'!$C$5,$B130,\"\")","v":""},{"$f":"IF(I130='Üldine info'!$C$5,$B130,\"\")","v":""},{"$f":"IF(J130='Üldine info'!$C$5,$B130,\"\")","v":""}]
[null,"4C051",{"$f":"'Peterburi tee'!C131","v":"022-080L3-U1"},{"$f":"'Peterburi tee'!D131","v":"028-044C-U1"},{"$f":"'Peterburi tee'!E131","v":"036-T090-U1"},{"$f":"'Peterburi tee'!F131","v":"1022-090R0-U1"},{"$f":"'Peterburi tee'!G131","v":"1035-089L-U1"},{"$f":"'Peterburi tee'!H131","v":"2017-120C-U1"},{"$f":"'Peterburi tee'!I131","v":"2035-063C-U1"},{"$f":"'Peterburi tee'!J131","v":0},{"$f":"IF(C131='Üldine info'!$C$5,$B131,\"\")","v":""},{"$f":"IF(D131='Üldine info'!$C$5,$B131,\"\")","v":""},{"$f":"IF(E131='Üldine info'!$C$5,$B131,\"\")","v":""},{"$f":"IF(F131='Üldine info'!$C$5,$B131,\"\")","v":""},{"$f":"IF(G131='Üldine info'!$C$5,$B131,\"\")","v":""},{"$f":"IF(H131='Üldine info'!$C$5,$B131,\"\")","v":""},{"$f":"IF(I131='Üldine info'!$C$5,$B131,\"\")","v":""},{"$f":"IF(J131='Üldine info'!$C$5,$B131,\"\")","v":""}]
[null,"4C052",{"$f":"'Peterburi tee'!C132","v":"022-080L4-U1"},{"$f":"'Peterburi tee'!D132","v":"028-050L-U1"},{"$f":"'Peterburi tee'!E132","v":"036-T120-U1"},{"$f":"'Peterburi tee'!F132","v":"1022-090R1-U1"},{"$f":"'Peterburi tee'!G132","v":"1035-089R-U1"},{"$f":"'Peterburi tee'!H132","v":"2017-140C-U1"},{"$f":"'Peterburi tee'!I132","v":"2035-068L-U1"},{"$f":"'Peterburi tee'!J132","v":0},{"$f":"IF(C132='Üldine info'!$C$5,$B132,\"\")","v":""},{"$f":"IF(D132='Üldine info'!$C$5,$B132,\"\")","v":""},{"$f":"IF(E132='Üldine info'!$C$5,$B132,\"\")","v":""},{"$f":"IF(F132='Üldine info'!$C$5,$B132,\"\")","v":""},{"$f":"IF(G132='Üldine info'!$C$5,$B132,\"\")","v":""},{"$f":"IF(H132='Üldine info'!$C$5,$B132,\"\")","v":""},{"$f":"IF(I132='Üldine info'!$C$5,$B132,\"\")","v":""},{"$f":"IF(J132='Üldine info'!$C$5,$B132,\"\")","v":""}]
[null,"4C053",{"$f":"'Peterburi tee'!C133","v":"022-080R0-U1"},{"$f":"'Peterburi tee'!D133","v":"028-050R-U1"},{"$f":"'Peterburi tee'!E133","v":"036-W120/2-U1"},{"$f":"'Peterburi tee'!F133","v":"1022-100L0-U1"},{"$f":"'Peterburi tee'!G133","v":0},{"$f":"'Peterburi tee'!H133","v":"2017-141C-U1"},{"$f":"'Peterburi tee'!I133","v":"2035-068R-U1"},{"$f":"'Peterburi tee'!J133","v":0},{"$f":"IF(C133='Üldine info'!$C$5,$B133,\"\")","v":""},{"$f":"IF(D133='Üldine info'!$C$5,$B133,\"\")","v":""},{"$f":"IF(E133='Üldine info'!$C$5,$B133,\"\")","v":""},{"$f":"IF(F133='Üldine info'!$C$5,$B133,\"\")","v":""},{"$f":"IF(G133='Üldine info'!$C$5,$B133,\"\")","v":""},{"$f":"IF(H133='Üldine info'!$C$5,$B133,\"\")","v":""},{"$f":"IF(I133='Üldine info'!$C$5,$B133,\"\")","v":""},{"$f":"IF(J133='Üldine info'!$C$5,$B133,\"\")","v":""}]
[null,"4C054",{"$f":"'Peterburi tee'!C134","v":"022-080R1-U1"},{"$f":"'Peterburi tee'!D134","v":"028-078C-U1"},{"$f":"'Peterburi tee'!E134","v":"037-070C-U1"},{"$f":"'Peterburi tee'!F134","v":"1022-100L2-U1"},{"$f":"'Peterburi tee'!G134","v":0},{"$f":"'Peterburi tee'!H134","v":"2018-060C-U1"},{"$f":"'Peterburi tee'!I134","v":"2035-068SL-U1"},{"$f":"'Peterburi tee'!J134","v":0},{"$f":"IF(C134='Üldine info'!$C$5,$B134,\"\")","v":""},{"$f":"IF(D134='Üldine info'!$C$5,$B134,\"\")","v":""},{"$f":"IF(E134='Üldine info'!$C$5,$B134,\"\")","v":""},{"$f":"IF(F134='Üldine info'!$C$5,$B134,\"\")","v":""},{"$f":"IF(G134='Üldine info'!$C$5,$B134,\"\")","v":""},{"$f":"IF(H134='Üldine info'!$C$5,$B134,\"\")","v":""},{"$f":"IF(I134='Üldine info'!$C$5,$B134,\"\")","v":""},{"$f":"IF(J134='Üldine info'!$C$5,$B134,\"\")","v":""}]
[null,"4C061",{"$f":"'Peterburi tee'!C135","v":"022-080R2-U1"},{"$f":"'Peterburi tee'!D135","v":"028-078SL-U1"},{"$f":"'Peterburi tee'!E135","v":"037-090L-U1"},{"$f":"'Peterburi tee'!F135","v":"1022-100R0-U1"},{"$f":"'Peterburi tee'!G135","v":0},{"$f":"'Peterburi tee'!H135","v":"2018-090L-U1"},{"$f":"'Peterburi tee'!I135","v":"2035-068SR-U1"},{"$f":"'Peterburi tee'!J135","v":0},{"$f":"IF(C135='Üldine info'!$C$5,$B135,\"\")","v":""},{"$f":"IF(D135='Üldine info'!$C$5,$B135,\"\")","v":""},{"$f":"IF(E135='Üldine info'!$C$5,$B135,\"\")","v":""},{"$f":"IF(F135='Üldine info'!$C$5,$B135,\"\")","v":""},{"$f":"IF(G135='Üldine info'!$C$5,$B135,\"\")","v":""},{"$f":"IF(H135='Üldine info'!$C$5,$B135,\"\")","v":""},{"$f":"IF(I135='Üldine info'!$C$5,$B135,\"\")","v":""},{"$f":"IF(J135='Üldine info'!$C$5,$B135,\"\")","v":""}]
[null,"4C062",{"$f":"'Peterburi tee'!C136","v":"022-080R3-U1"},{"$f":"'Peterburi tee'!D136","v":0},{"$f":"'Peterburi tee'!E136","v":0},{"$f":"'Peterburi tee'!F136","v":"1022-100R2-U1"},{"$f":"'Peterburi tee'!G136","v":0},{"$f":"'Peterburi tee'!H136","v":"2018-090R-U1"},{"$f":"'Peterburi tee'!I136","v":"2035-081L-U1"},{"$f":"'Peterburi tee'!J136","v":0},{"$f":"IF(C136='Üldine info'!$C$5,$B136,\"\")","v":""},{"$f":"IF(D136='Üldine info'!$C$5,$B136,\"\")","v":""},{"$f":"IF(E136='Üldine info'!$C$5,$B136,\"\")","v":""},{"$f":"IF(F136='Üldine info'!$C$5,$B136,\"\")","v":""},{"$f":"IF(G136='Üldine info'!$C$5,$B136,\"\")","v":""},{"$f":"IF(H136='Üldine info'!$C$5,$B136,\"\")","v":""},{"$f":"IF(I136='Üldine info'!$C$5,$B136,\"\")","v":""},{"$f":"IF(J136='Üldine info'!$C$5,$B136,\"\")","v":""}]
[null,"4C063",{"$f":"'Peterburi tee'!C137","v":"022-080R4-U1"},{"$f":"'Peterburi tee'!D137","v":0},{"$f":"'Peterburi tee'!E137","v":0},{"$f":"'Peterburi tee'!F137","v":"1022-120C0-U1"},{"$f":"'Peterburi tee'!G137","v":"1035-091L-U1"},{"$f":"'Peterburi tee'!H137","v":"2018-120C-U1"},{"$f":"'Peterburi tee'!I137","v":"2035-081R-U1"},{"$f":"'Peterburi tee'!J137","v":0},{"$f":"IF(C137='Üldine info'!$C$5,$B137,\"\")","v":""},{"$f":"IF(D137='Üldine info'!$C$5,$B137,\"\")","v":""},{"$f":"IF(E137='Üldine info'!$C$5,$B137,\"\")","v":""},{"$f":"IF(F137='Üldine info'!$C$5,$B137,\"\")","v":""},{"$f":"IF(G137='Üldine info'!$C$5,$B137,\"\")","v":""},{"$f":"IF(H137='Üldine info'!$C$5,$B137,\"\")","v":""},{"$f":"IF(I137='Üldine info'!$C$5,$B137,\"\")","v":""},{"$f":"IF(J137='Üldine info'!$C$5,$B137,\"\")","v":""}]
[null,"4C064",{"$f":"'Peterburi tee'!C138","v":"022-090L0-U1"},{"$f":"'Peterburi tee'!D138","v":0},{"$f":"'Peterburi tee'!E138","v":0},{"$f":"'Peterburi tee'!F138","v":"1022-120C1-U1"},{"$f":"'Peterburi tee'!G138","v":"1035-091R-U1"},{"$f":"'Peterburi tee'!H138","v":"2019-060C-U1"},{"$f":"'Peterburi tee'!I138","v":"2035-082L-U1"},{"$f":"'Peterburi tee'!J138","v":0},{"$f":"IF(C138='Üldine info'!$C$5,$B138,\"\")","v":""},{"$f":"IF(D138='Üldine info'!$C$5,$B138,\"\")","v":""},{"$f":"IF(E138='Üldine info'!$C$5,$B138,\"\")","v":""},{"$f":"IF(F138='Üldine info'!$C$5,$B138,\"\")","v":""},{"$f":"IF(G138='Üldine info'!$C$5,$B138,\"\")","v":""},{"$f":"IF(H138='Üldine info'!$C$5,$B138,\"\")","v":""},{"$f":"IF(I138='Üldine info'!$C$5,$B138,\"\")","v":""},{"$f":"IF(J138='Üldine info'!$C$5,$B138,\"\")","v":""}]
[null,"4C071",{"$f":"'Peterburi tee'!C139","v":"022-090L1-U1"},{"$f":"'Peterburi tee'!D139","v":"028-090R-U1"},{"$f":"'Peterburi tee'!E139","v":"037-120R-U1"},{"$f":"'Peterburi tee'!F139","v":"1022-132C-U1"},{"$f":"'Peterburi tee'!G139","v":"1035-095L-U1"},{"$f":"'Peterburi tee'!H139","v":"2019-090L-U1"},{"$f":"'Peterburi tee'!I139","v":"2035-082R-U1"},{"$f":"'Peterburi tee'!J139","v":0},{"$f":"IF(C139='Üldine info'!$C$5,$B139,\"\")","v":""},{"$f":"IF(D139='Üldine info'!$C$5,$B139,\"\")","v":""},{"$f":"IF(E139='Üldine info'!$C$5,$B139,\"\")","v":""},{"$f":"IF(F139='Üldine info'!$C$5,$B139,\"\")","v":""},{"$f":"IF(G139='Üldine info'!$C$5,$B139,\"\")","v":""},{"$f":"IF(H139='Üldine info'!$C$5,$B139,\"\")","v":""},{"$f":"IF(I139='Üldine info'!$C$5,$B139,\"\")","v":""},{"$f":"IF(J139='Üldine info'!$C$5,$B139,\"\")","v":""}]
[null,"4C072",{"$f":"'Peterburi tee'!C140","v":0},{"$f":"'Peterburi tee'!D140","v":"028-100L/0-U1"},{"$f":"'Peterburi tee'!E140","v":"037-150/2-U1"},{"$f":"'Peterburi tee'!F140","v":"1022-150L0-U1"},{"$f":"'Peterburi tee'!G140","v":"1035-095R-U1"},{"$f":"'Peterburi tee'!H140","v":"2019-090R-U1"},{"$f":"'Peterburi tee'!I140","v":"2035-084L-U1"},{"$f":"'Peterburi tee'!J140","v":0},{"$f":"IF(C140='Üldine info'!$C$5,$B140,\"\")","v":""},{"$f":"IF(D140='Üldine info'!$C$5,$B140,\"\")","v":""},{"$f":"IF(E140='Üldine info'!$C$5,$B140,\"\")","v":""},{"$f":"IF(F140='Üldine info'!$C$5,$B140,\"\")","v":""},{"$f":"IF(G140='Üldine info'!$C$5,$B140,\"\")","v":""},{"$f":"IF(H140='Üldine info'!$C$5,$B140,\"\")","v":""},{"$f":"IF(I140='Üldine info'!$C$5,$B140,\"\")","v":""},{"$f":"IF(J140='Üldine info'!$C$5,$B140,\"\")","v":""}]
[null,"4C073",{"$f":"'Peterburi tee'!C141","v":0},{"$f":"'Peterburi tee'!D141","v":"028-100L-U1"},{"$f":"'Peterburi tee'!E141","v":"037-240/3-U1"},{"$f":"'Peterburi tee'!F141","v":"1022-150L1-U1"},{"$f":"'Peterburi tee'!G141","v":"1035-095SL-U1"},{"$f":"'Peterburi tee'!H141","v":"2019-120C-U1"},{"$f":"'Peterburi tee'!I141","v":"2035-084R-U1"},{"$f":"'Peterburi tee'!J141","v":0},{"$f":"IF(C141='Üldine info'!$C$5,$B141,\"\")","v":""},{"$f":"IF(D141='Üldine info'!$C$5,$B141,\"\")","v":""},{"$f":"IF(E141='Üldine info'!$C$5,$B141,\"\")","v":""},{"$f":"IF(F141='Üldine info'!$C$5,$B141,\"\")","v":""},{"$f":"IF(G141='Üldine info'!$C$5,$B141,\"\")","v":""},{"$f":"IF(H141='Üldine info'!$C$5,$B141,\"\")","v":""},{"$f":"IF(I141='Üldine info'!$C$5,$B141,\"\")","v":""},{"$f":"IF(J141='Üldine info'!$C$5,$B141,\"\")","v":""}]
[null,"4C074",{"$f":"'Peterburi tee'!C142","v":0},{"$f":"'Peterburi tee'!D142","v":"028-100R/0-U1"},{"$f":"'Peterburi tee'!E142","v":"037E-070C-U1"},{"$f":"'Peterburi tee'!F142","v":"1022-150PL0-U1"},{"$f":"'Peterburi tee'!G142","v":"1035-095SR-U1"},{"$f":"'Peterburi tee'!H142","v":"2021-107L-U1"},{"$f":"'Peterburi tee'!I142","v":"2035-084SL-U1"},{"$f":"'Peterburi tee'!J142","v":0},{"$f":"IF(C142='Üldine info'!$C$5,$B142,\"\")","v":""},{"$f":"IF(D142='Üldine info'!$C$5,$B142,\"\")","v":""},{"$f":"IF(E142='Üldine info'!$C$5,$B142,\"\")","v":""},{"$f":"IF(F142='Üldine info'!$C$5,$B142,\"\")","v":""},{"$f":"IF(G142='Üldine info'!$C$5,$B142,\"\")","v":""},{"$f":"IF(H142='Üldine info'!$C$5,$B142,\"\")","v":""},{"$f":"IF(I142='Üldine info'!$C$5,$B142,\"\")","v":""},{"$f":"IF(J142='Üldine info'!$C$5,$B142,\"\")","v":""}]
[null,"4C081",{"$f":"'Peterburi tee'!C143","v":"022-090L5-U1"},{"$f":"'Peterburi tee'!D143","v":"028-100R-U1"},{"$f":"'Peterburi tee'!E143","v":"037E-090L-U1"},{"$f":"'Peterburi tee'!F143","v":0},{"$f":"'Peterburi tee'!G143","v":"1035-119L-U1"},{"$f":"'Peterburi tee'!H143","v":"2021-120L-U1"},{"$f":"'Peterburi tee'!I143","v":"2035-084SR-U1"},{"$f":"'Peterburi tee'!J143","v":0},{"$f":"IF(C143='Üldine info'!$C$5,$B143,\"\")","v":""},{"$f":"IF(D143='Üldine info'!$C$5,$B143,\"\")","v":""},{"$f":"IF(E143='Üldine info'!$C$5,$B143,\"\")","v":""},{"$f":"IF(F143='Üldine info'!$C$5,$B143,\"\")","v":""},{"$f":"IF(G143='Üldine info'!$C$5,$B143,\"\")","v":""},{"$f":"IF(H143='Üldine info'!$C$5,$B143,\"\")","v":""},{"$f":"IF(I143='Üldine info'!$C$5,$B143,\"\")","v":""},{"$f":"IF(J143='Üldine info'!$C$5,$B143,\"\")","v":""}]
[null,"4C082",{"$f":"'Peterburi tee'!C144","v":"022-090R0-U1"},{"$f":"'Peterburi tee'!D144","v":"028E-078C-U1"},{"$f":"'Peterburi tee'!E144","v":"037E-090R-U1"},{"$f":"'Peterburi tee'!F144","v":"1022-150PR0-U1"},{"$f":"'Peterburi tee'!G144","v":"1035-119R-U1"},{"$f":"'Peterburi tee'!H144","v":"2021-120R-U1"},{"$f":"'Peterburi tee'!I144","v":"2035-089L-U1"},{"$f":"'Peterburi tee'!J144","v":0},{"$f":"IF(C144='Üldine info'!$C$5,$B144,\"\")","v":""},{"$f":"IF(D144='Üldine info'!$C$5,$B144,\"\")","v":""},{"$f":"IF(E144='Üldine info'!$C$5,$B144,\"\")","v":""},{"$f":"IF(F144='Üldine info'!$C$5,$B144,\"\")","v":""},{"$f":"IF(G144='Üldine info'!$C$5,$B144,\"\")","v":""},{"$f":"IF(H144='Üldine info'!$C$5,$B144,\"\")","v":""},{"$f":"IF(I144='Üldine info'!$C$5,$B144,\"\")","v":""},{"$f":"IF(J144='Üldine info'!$C$5,$B144,\"\")","v":""}]
[null,"4C083",{"$f":"'Peterburi tee'!C145","v":"022-090R1-U1"},{"$f":"'Peterburi tee'!D145","v":"029-080C-U1"},{"$f":"'Peterburi tee'!E145","v":"037E-110C-U1"},{"$f":"'Peterburi tee'!F145","v":"1022-150R0-U1"},{"$f":"'Peterburi tee'!G145","v":"1035-120L-U1"},{"$f":"'Peterburi tee'!H145","v":"2022-018C-U1"},{"$f":"'Peterburi tee'!I145","v":"2035-089R-U1"},{"$f":"'Peterburi tee'!J145","v":0},{"$f":"IF(C145='Üldine info'!$C$5,$B145,\"\")","v":""},{"$f":"IF(D145='Üldine info'!$C$5,$B145,\"\")","v":""},{"$f":"IF(E145='Üldine info'!$C$5,$B145,\"\")","v":""},{"$f":"IF(F145='Üldine info'!$C$5,$B145,\"\")","v":""},{"$f":"IF(G145='Üldine info'!$C$5,$B145,\"\")","v":""},{"$f":"IF(H145='Üldine info'!$C$5,$B145,\"\")","v":""},{"$f":"IF(I145='Üldine info'!$C$5,$B145,\"\")","v":""},{"$f":"IF(J145='Üldine info'!$C$5,$B145,\"\")","v":""}]
[null,"4C084",{"$f":"'Peterburi tee'!C146","v":"022-090R2-U1"},{"$f":"'Peterburi tee'!D146","v":"029-120C-U1"},{"$f":"'Peterburi tee'!E146","v":"037E-120L-U1"},{"$f":"'Peterburi tee'!F146","v":"1022-150R1-U1"},{"$f":"'Peterburi tee'!G146","v":"1035-120R-U1"},{"$f":"'Peterburi tee'!H146","v":"2022-020C-U1"},{"$f":"'Peterburi tee'!I146","v":"2035-089SL-U1"},{"$f":"'Peterburi tee'!J146","v":0},{"$f":"IF(C146='Üldine info'!$C$5,$B146,\"\")","v":""},{"$f":"IF(D146='Üldine info'!$C$5,$B146,\"\")","v":""},{"$f":"IF(E146='Üldine info'!$C$5,$B146,\"\")","v":""},{"$f":"IF(F146='Üldine info'!$C$5,$B146,\"\")","v":""},{"$f":"IF(G146='Üldine info'!$C$5,$B146,\"\")","v":""},{"$f":"IF(H146='Üldine info'!$C$5,$B146,\"\")","v":""},{"$f":"IF(I146='Üldine info'!$C$5,$B146,\"\")","v":""},{"$f":"IF(J146='Üldine info'!$C$5,$B146,\"\")","v":""}]
[null,"4C091",{"$f":"'Peterburi tee'!C147","v":"022-090R3-U1"},{"$f":"'Peterburi tee'!D147","v":"029-A070C-U1"},{"$f":"'Peterburi tee'!E147","v":"037E-120R-U1"},{"$f":"'Peterburi tee'!F147","v":"1023-060C-U1"},{"$f":"'Peterburi tee'!G147","v":"1035-120SL-U1"},{"$f":"'Peterburi tee'!H147","v":"2022-039C-U1"},{"$f":"'Peterburi tee'!I147","v":"2035-089SR-U1"},{"$f":"'Peterburi tee'!J147","v":0},{"$f":"IF(C147='Üldine info'!$C$5,$B147,\"\")","v":""},{"$f":"IF(D147='Üldine info'!$C$5,$B147,\"\")","v":""},{"$f":"IF(E147='Üldine info'!$C$5,$B147,\"\")","v":""},{"$f":"IF(F147='Üldine info'!$C$5,$B147,\"\")","v":""},{"$f":"IF(G147='Üldine info'!$C$5,$B147,\"\")","v":""},{"$f":"IF(H147='Üldine info'!$C$5,$B147,\"\")","v":""},{"$f":"IF(I147='Üldine info'!$C$5,$B147,\"\")","v":""},{"$f":"IF(J147='Üldine info'!$C$5,$B147,\"\")","v":""}]
[null,"4C092",{"$f":"'Peterburi tee'!C148","v":"022-090R4-U1"},{"$f":"'Peterburi tee'!D148","v":"029-AB070C-U1"},{"$f":"'Peterburi tee'!E148","v":"037E-150/2-U1"},{"$f":"'Peterburi tee'!F148","v":"1023-060F-U1"},{"$f":"'Peterburi tee'!G148","v":"1035-120SR-U1"},{"$f":"'Peterburi tee'!H148","v":"2022-055C0-U1"},{"$f":"'Peterburi tee'!I148","v":"2035-090L-U1"},{"$f":"'Peterburi tee'!J148","v":0},{"$f":"IF(C148='Üldine info'!$C$5,$B148,\"\")","v":""},{"$f":"IF(D148='Üldine info'!$C$5,$B148,\"\")","v":""},{"$f":"IF(E148='Üldine info'!$C$5,$B148,\"\")","v":""},{"$f":"IF(F148='Üldine info'!$C$5,$B148,\"\")","v":""},{"$f":"IF(G148='Üldine info'!$C$5,$B148,\"\")","v":""},{"$f":"IF(H148='Üldine info'!$C$5,$B148,\"\")","v":""},{"$f":"IF(I148='Üldine info'!$C$5,$B148,\"\")","v":""},{"$f":"IF(J148='Üldine info'!$C$5,$B148,\"\")","v":""}]
[null,"4C093",{"$f":"'Peterburi tee'!C149","v":"022-090R5-U1"},{"$f":"'Peterburi tee'!D149","v":"029E-080C-U1"},{"$f":"'Peterburi tee'!E149","v":"037E-240/3-U1"},{"$f":"'Peterburi tee'!F149","v":"1023-080C-U1"},{"$f":"'Peterburi tee'!G149","v":"1035-124L-U1"},{"$f":"'Peterburi tee'!H149","v":"2022-060C0-U1"},{"$f":"'Peterburi tee'!I149","v":"2035-090R-U1"},{"$f":"'Peterburi tee'!J149","v":0},{"$f":"IF(C149='Üldine info'!$C$5,$B149,\"\")","v":""},{"$f":"IF(D149='Üldine info'!$C$5,$B149,\"\")","v":""},{"$f":"IF(E149='Üldine info'!$C$5,$B149,\"\")","v":""},{"$f":"IF(F149='Üldine info'!$C$5,$B149,\"\")","v":""},{"$f":"IF(G149='Üldine info'!$C$5,$B149,\"\")","v":""},{"$f":"IF(H149='Üldine info'!$C$5,$B149,\"\")","v":""},{"$f":"IF(I149='Üldine info'!$C$5,$B149,\"\")","v":""},{"$f":"IF(J149='Üldine info'!$C$5,$B149,\"\")","v":""}]
[null,"4C094",{"$f":"'Peterburi tee'!C150","v":"022-100L0-U1"},{"$f":"'Peterburi tee'!D150","v":"029E-120C-U1"},{"$f":"'Peterburi tee'!E150","v":"037K-070C5-U1"},{"$f":"'Peterburi tee'!F150","v":"1023-080F-U1"},{"$f":"'Peterburi tee'!G150","v":"1035-124R-U1"},{"$f":"'Peterburi tee'!H150","v":"2022-073C0-U1"},{"$f":"'Peterburi tee'!I150","v":"2035-091L-U1"},{"$f":"'Peterburi tee'!J150","v":0},{"$f":"IF(C150='Üldine info'!$C$5,$B150,\"\")","v":""},{"$f":"IF(D150='Üldine info'!$C$5,$B150,\"\")","v":""},{"$f":"IF(E150='Üldine info'!$C$5,$B150,\"\")","v":""},{"$f":"IF(F150='Üldine info'!$C$5,$B150,\"\")","v":""},{"$f":"IF(G150='Üldine info'!$C$5,$B150,\"\")","v":""},{"$f":"IF(H150='Üldine info'!$C$5,$B150,\"\")","v":""},{"$f":"IF(I150='Üldine info'!$C$5,$B150,\"\")","v":""},{"$f":"IF(J150='Üldine info'!$C$5,$B150,\"\")","v":""}]
[null,"4C101",{"$f":"'Peterburi tee'!C151","v":"022-100L11-U1"},{"$f":"'Peterburi tee'!D151","v":"029E-A070C-U1"},{"$f":"'Peterburi tee'!E151","v":0},{"$f":"'Peterburi tee'!F151","v":"1023-120C-U1"},{"$f":"'Peterburi tee'!G151","v":"1035-128L-U1"},{"$f":"'Peterburi tee'!H151","v":"2022-080L0-U1"},{"$f":"'Peterburi tee'!I151","v":"2035-091R-U1"},{"$f":"'Peterburi tee'!J151","v":0},{"$f":"IF(C151='Üldine info'!$C$5,$B151,\"\")","v":""},{"$f":"IF(D151='Üldine info'!$C$5,$B151,\"\")","v":""},{"$f":"IF(E151='Üldine info'!$C$5,$B151,\"\")","v":""},{"$f":"IF(F151='Üldine info'!$C$5,$B151,\"\")","v":""},{"$f":"IF(G151='Üldine info'!$C$5,$B151,\"\")","v":""},{"$f":"IF(H151='Üldine info'!$C$5,$B151,\"\")","v":""},{"$f":"IF(I151='Üldine info'!$C$5,$B151,\"\")","v":""},{"$f":"IF(J151='Üldine info'!$C$5,$B151,\"\")","v":""}]
[null,"4C102",{"$f":"'Peterburi tee'!C152","v":"022-100L1-U1"},{"$f":"'Peterburi tee'!D152","v":"030-120C-U1"},{"$f":"'Peterburi tee'!E152","v":"037K-070L5-U1"},{"$f":"'Peterburi tee'!F152","v":"1023-120D-U1"},{"$f":"'Peterburi tee'!G152","v":0},{"$f":"'Peterburi tee'!H152","v":"2022-080R0-U1"},{"$f":"'Peterburi tee'!I152","v":"2035-095L-U1"},{"$f":"'Peterburi tee'!J152","v":0},{"$f":"IF(C152='Üldine info'!$C$5,$B152,\"\")","v":""},{"$f":"IF(D152='Üldine info'!$C$5,$B152,\"\")","v":""},{"$f":"IF(E152='Üldine info'!$C$5,$B152,\"\")","v":""},{"$f":"IF(F152='Üldine info'!$C$5,$B152,\"\")","v":""},{"$f":"IF(G152='Üldine info'!$C$5,$B152,\"\")","v":""},{"$f":"IF(H152='Üldine info'!$C$5,$B152,\"\")","v":""},{"$f":"IF(I152='Üldine info'!$C$5,$B152,\"\")","v":""},{"$f":"IF(J152='Üldine info'!$C$5,$B152,\"\")","v":""}]
[null,"4C103",{"$f":"'Peterburi tee'!C153","v":"022-100L21-U1"},{"$f":"'Peterburi tee'!D153","v":"030-180L-U1"},{"$f":"'Peterburi tee'!E153","v":"037K-070L6-U1"},{"$f":"'Peterburi tee'!F153","v":"1023-120F-U1"},{"$f":"'Peterburi tee'!G153","v":0},{"$f":"'Peterburi tee'!H153","v":"2022-090L0-U1"},{"$f":"'Peterburi tee'!I153","v":"2035-095R-U1"},{"$f":"'Peterburi tee'!J153","v":0},{"$f":"IF(C153='Üldine info'!$C$5,$B153,\"\")","v":""},{"$f":"IF(D153='Üldine info'!$C$5,$B153,\"\")","v":""},{"$f":"IF(E153='Üldine info'!$C$5,$B153,\"\")","v":""},{"$f":"IF(F153='Üldine info'!$C$5,$B153,\"\")","v":""},{"$f":"IF(G153='Üldine info'!$C$5,$B153,\"\")","v":""},{"$f":"IF(H153='Üldine info'!$C$5,$B153,\"\")","v":""},{"$f":"IF(I153='Üldine info'!$C$5,$B153,\"\")","v":""},{"$f":"IF(J153='Üldine info'!$C$5,$B153,\"\")","v":""}]
[null,"4C104",{"$f":"'Peterburi tee'!C154","v":"022-100L2-U1"},{"$f":"'Peterburi tee'!D154","v":"030-180R-U1"},{"$f":"'Peterburi tee'!E154","v":"037K-070R5-U1"},{"$f":"'Peterburi tee'!F154","v":"1023-A200-U1"},{"$f":"'Peterburi tee'!G154","v":"1035-137R-U1"},{"$f":"'Peterburi tee'!H154","v":"2022-090R0-U1"},{"$f":"'Peterburi tee'!I154","v":0},{"$f":"'Peterburi tee'!J154","v":0},{"$f":"IF(C154='Üldine info'!$C$5,$B154,\"\")","v":""},{"$f":"IF(D154='Üldine info'!$C$5,$B154,\"\")","v":""},{"$f":"IF(E154='Üldine info'!$C$5,$B154,\"\")","v":""},{"$f":"IF(F154='Üldine info'!$C$5,$B154,\"\")","v":""},{"$f":"IF(G154='Üldine info'!$C$5,$B154,\"\")","v":""},{"$f":"IF(H154='Üldine info'!$C$5,$B154,\"\")","v":""},{"$f":"IF(I154='Üldine info'!$C$5,$B154,\"\")","v":""},{"$f":"IF(J154='Üldine info'!$C$5,$B154,\"\")","v":""}]
[null,"4D111",{"$f":"'Peterburi tee'!C155","v":"022-100L31-U1"},{"$f":"'Peterburi tee'!D155","v":0},{"$f":"'Peterburi tee'!E155","v":"037K-070R6-U1"},{"$f":"'Peterburi tee'!F155","v":"1023-AM200-U1"},{"$f":"'Peterburi tee'!G155","v":"1035-150L-U1"},{"$f":"'Peterburi tee'!H155","v":"2022-100L0-U1"},{"$f":"'Peterburi tee'!I155","v":"2035-095SR-U1"},{"$f":"'Peterburi tee'!J155","v":0},{"$f":"IF(C155='Üldine info'!$C$5,$B155,\"\")","v":""},{"$f":"IF(D155='Üldine info'!$C$5,$B155,\"\")","v":""},{"$f":"IF(E155='Üldine info'!$C$5,$B155,\"\")","v":""},{"$f":"IF(F155='Üldine info'!$C$5,$B155,\"\")","v":""},{"$f":"IF(G155='Üldine info'!$C$5,$B155,\"\")","v":""},{"$f":"IF(H155='Üldine info'!$C$5,$B155,\"\")","v":""},{"$f":"IF(I155='Üldine info'!$C$5,$B155,\"\")","v":""},{"$f":"IF(J155='Üldine info'!$C$5,$B155,\"\")","v":""}]
[null,"4D112",{"$f":"'Peterburi tee'!C156","v":"022-100L3-U1"},{"$f":"'Peterburi tee'!D156","v":"031-100CP-U1"},{"$f":"'Peterburi tee'!E156","v":"037K-090L5-U1"},{"$f":"'Peterburi tee'!F156","v":"1023-C200-U1"},{"$f":"'Peterburi tee'!G156","v":"1035-150R-U1"},{"$f":"'Peterburi tee'!H156","v":"2022-100R0-U1"},{"$f":"'Peterburi tee'!I156","v":"2035-119L-U1"},{"$f":"'Peterburi tee'!J156","v":0},{"$f":"IF(C156='Üldine info'!$C$5,$B156,\"\")","v":""},{"$f":"IF(D156='Üldine info'!$C$5,$B156,\"\")","v":""},{"$f":"IF(E156='Üldine info'!$C$5,$B156,\"\")","v":""},{"$f":"IF(F156='Üldine info'!$C$5,$B156,\"\")","v":""},{"$f":"IF(G156='Üldine info'!$C$5,$B156,\"\")","v":""},{"$f":"IF(H156='Üldine info'!$C$5,$B156,\"\")","v":""},{"$f":"IF(I156='Üldine info'!$C$5,$B156,\"\")","v":""},{"$f":"IF(J156='Üldine info'!$C$5,$B156,\"\")","v":""}]
[null,"4D113",{"$f":"'Peterburi tee'!C157","v":"022-100L41-U1"},{"$f":"'Peterburi tee'!D157","v":"031-120CP-U1"},{"$f":"'Peterburi tee'!E157","v":"037K-090L6-U1"},{"$f":"'Peterburi tee'!F157","v":"1023-CXS20-U1"},{"$f":"'Peterburi tee'!G157","v":"1035-151L-U1"},{"$f":"'Peterburi tee'!H157","v":"2022-120C0-U1"},{"$f":"'Peterburi tee'!I157","v":"2035-119R-U1"},{"$f":"'Peterburi tee'!J157","v":0},{"$f":"IF(C157='Üldine info'!$C$5,$B157,\"\")","v":""},{"$f":"IF(D157='Üldine info'!$C$5,$B157,\"\")","v":""},{"$f":"IF(E157='Üldine info'!$C$5,$B157,\"\")","v":""},{"$f":"IF(F157='Üldine info'!$C$5,$B157,\"\")","v":""},{"$f":"IF(G157='Üldine info'!$C$5,$B157,\"\")","v":""},{"$f":"IF(H157='Üldine info'!$C$5,$B157,\"\")","v":""},{"$f":"IF(I157='Üldine info'!$C$5,$B157,\"\")","v":""},{"$f":"IF(J157='Üldine info'!$C$5,$B157,\"\")","v":""}]
[null,"4D114",{"$f":"'Peterburi tee'!C158","v":"022-100L4-U1"},{"$f":"'Peterburi tee'!D158","v":"031-120C-U1"},{"$f":"'Peterburi tee'!E158","v":"037K-090R5-U1"},{"$f":"'Peterburi tee'!F158","v":0},{"$f":"'Peterburi tee'!G158","v":"1035-AH081L-U1"},{"$f":"'Peterburi tee'!H158","v":0},{"$f":"'Peterburi tee'!I158","v":"2035-120L-U1"},{"$f":"'Peterburi tee'!J158","v":0},{"$f":"IF(C158='Üldine info'!$C$5,$B158,\"\")","v":""},{"$f":"IF(D158='Üldine info'!$C$5,$B158,\"\")","v":""},{"$f":"IF(E158='Üldine info'!$C$5,$B158,\"\")","v":""},{"$f":"IF(F158='Üldine info'!$C$5,$B158,\"\")","v":""},{"$f":"IF(G158='Üldine info'!$C$5,$B158,\"\")","v":""},{"$f":"IF(H158='Üldine info'!$C$5,$B158,\"\")","v":""},{"$f":"IF(I158='Üldine info'!$C$5,$B158,\"\")","v":""},{"$f":"IF(J158='Üldine info'!$C$5,$B158,\"\")","v":""}]
[null,"4D121",{"$f":"'Peterburi tee'!C159","v":"022-100L5-U1"},{"$f":"'Peterburi tee'!D159","v":"031-120LP-U1"},{"$f":"'Peterburi tee'!E159","v":"037K-090R6-U1"},{"$f":"'Peterburi tee'!F159","v":"1023-DC200-U1"},{"$f":"'Peterburi tee'!G159","v":"1035-AH081R-U1"},{"$f":"'Peterburi tee'!H159","v":"2022-150L0-U1"},{"$f":"'Peterburi tee'!I159","v":"2035-120R-U1"},{"$f":"'Peterburi tee'!J159","v":0},{"$f":"IF(C159='Üldine info'!$C$5,$B159,\"\")","v":""},{"$f":"IF(D159='Üldine info'!$C$5,$B159,\"\")","v":""},{"$f":"IF(E159='Üldine info'!$C$5,$B159,\"\")","v":""},{"$f":"IF(F159='Üldine info'!$C$5,$B159,\"\")","v":""},{"$f":"IF(G159='Üldine info'!$C$5,$B159,\"\")","v":""},{"$f":"IF(H159='Üldine info'!$C$5,$B159,\"\")","v":""},{"$f":"IF(I159='Üldine info'!$C$5,$B159,\"\")","v":""},{"$f":"IF(J159='Üldine info'!$C$5,$B159,\"\")","v":""}]
[null,"4D122",{"$f":"'Peterburi tee'!C160","v":"022-100L6-U1"},{"$f":"'Peterburi tee'!D160","v":"031-120RP-U1"},{"$f":"'Peterburi tee'!E160","v":"038-050C-U1"},{"$f":"'Peterburi tee'!F160","v":"1023-F200-U1"},{"$f":"'Peterburi tee'!G160","v":"1035-AH081SL-U1"},{"$f":"'Peterburi tee'!H160","v":"2022-150PL0-U1"},{"$f":"'Peterburi tee'!I160","v":"2035-120SL-U1"},{"$f":"'Peterburi tee'!J160","v":0},{"$f":"IF(C160='Üldine info'!$C$5,$B160,\"\")","v":""},{"$f":"IF(D160='Üldine info'!$C$5,$B160,\"\")","v":""},{"$f":"IF(E160='Üldine info'!$C$5,$B160,\"\")","v":""},{"$f":"IF(F160='Üldine info'!$C$5,$B160,\"\")","v":""},{"$f":"IF(G160='Üldine info'!$C$5,$B160,\"\")","v":""},{"$f":"IF(H160='Üldine info'!$C$5,$B160,\"\")","v":""},{"$f":"IF(I160='Üldine info'!$C$5,$B160,\"\")","v":""},{"$f":"IF(J160='Üldine info'!$C$5,$B160,\"\")","v":""}]
[null,"4D123",{"$f":"'Peterburi tee'!C161","v":"022-100L7-U1"},{"$f":"'Peterburi tee'!D161","v":"031-160C-U1"},{"$f":"'Peterburi tee'!E161","v":0},{"$f":"'Peterburi tee'!F161","v":0},{"$f":"'Peterburi tee'!G161","v":"1035-AH081SR-U1"},{"$f":"'Peterburi tee'!H161","v":"2022-150PR0-U1"},{"$f":"'Peterburi tee'!I161","v":"2035-120SR-U1"},{"$f":"'Peterburi tee'!J161","v":0},{"$f":"IF(C161='Üldine info'!$C$5,$B161,\"\")","v":""},{"$f":"IF(D161='Üldine info'!$C$5,$B161,\"\")","v":""},{"$f":"IF(E161='Üldine info'!$C$5,$B161,\"\")","v":""},{"$f":"IF(F161='Üldine info'!$C$5,$B161,\"\")","v":""},{"$f":"IF(G161='Üldine info'!$C$5,$B161,\"\")","v":""},{"$f":"IF(H161='Üldine info'!$C$5,$B161,\"\")","v":""},{"$f":"IF(I161='Üldine info'!$C$5,$B161,\"\")","v":""},{"$f":"IF(J161='Üldine info'!$C$5,$B161,\"\")","v":""}]
[null,"4D124",{"$f":"'Peterburi tee'!C162","v":"022-100L8-U1"},{"$f":"'Peterburi tee'!D162","v":"031-180C-U1"},{"$f":"'Peterburi tee'!E162","v":"038-072C-U1"},{"$f":"'Peterburi tee'!F162","v":"1023-FCM200-U1"},{"$f":"'Peterburi tee'!G162","v":"1036-026C-U1"},{"$f":"'Peterburi tee'!H162","v":"2022-150R0-U1"},{"$f":"'Peterburi tee'!I162","v":"2035-124L-U1"},{"$f":"'Peterburi tee'!J162","v":0},{"$f":"IF(C162='Üldine info'!$C$5,$B162,\"\")","v":""},{"$f":"IF(D162='Üldine info'!$C$5,$B162,\"\")","v":""},{"$f":"IF(E162='Üldine info'!$C$5,$B162,\"\")","v":""},{"$f":"IF(F162='Üldine info'!$C$5,$B162,\"\")","v":""},{"$f":"IF(G162='Üldine info'!$C$5,$B162,\"\")","v":""},{"$f":"IF(H162='Üldine info'!$C$5,$B162,\"\")","v":""},{"$f":"IF(I162='Üldine info'!$C$5,$B162,\"\")","v":""},{"$f":"IF(J162='Üldine info'!$C$5,$B162,\"\")","v":""}]
[null,"4D031",{"$f":"'Peterburi tee'!C163","v":"022-100L9-U1"},{"$f":"'Peterburi tee'!D163","v":"031-180L-U1"},{"$f":"'Peterburi tee'!E163","v":"038-088C-U1"},{"$f":"'Peterburi tee'!F163","v":"1023-FM200-U1"},{"$f":"'Peterburi tee'!G163","v":"1036-069C-U1"},{"$f":"'Peterburi tee'!H163","v":"2023-060C-U1"},{"$f":"'Peterburi tee'!I163","v":"2035-124R-U1"},{"$f":"'Peterburi tee'!J163","v":0},{"$f":"IF(C163='Üldine info'!$C$5,$B163,\"\")","v":""},{"$f":"IF(D163='Üldine info'!$C$5,$B163,\"\")","v":""},{"$f":"IF(E163='Üldine info'!$C$5,$B163,\"\")","v":""},{"$f":"IF(F163='Üldine info'!$C$5,$B163,\"\")","v":""},{"$f":"IF(G163='Üldine info'!$C$5,$B163,\"\")","v":""},{"$f":"IF(H163='Üldine info'!$C$5,$B163,\"\")","v":""},{"$f":"IF(I163='Üldine info'!$C$5,$B163,\"\")","v":""},{"$f":"IF(J163='Üldine info'!$C$5,$B163,\"\")","v":""}]
[null,"4D032",{"$f":"'Peterburi tee'!C164","v":"022-100LE3-U1"},{"$f":"'Peterburi tee'!D164","v":"031-180R-U1"},{"$f":"'Peterburi tee'!E164","v":"038-095L-U1"},{"$f":"'Peterburi tee'!F164","v":"1024-050C-U1"},{"$f":"'Peterburi tee'!G164","v":"1036-070C-U1"},{"$f":"'Peterburi tee'!H164","v":"2023-060F-U1"},{"$f":"'Peterburi tee'!I164","v":"2035-128L-U1"},{"$f":"'Peterburi tee'!J164","v":0},{"$f":"IF(C164='Üldine info'!$C$5,$B164,\"\")","v":""},{"$f":"IF(D164='Üldine info'!$C$5,$B164,\"\")","v":""},{"$f":"IF(E164='Üldine info'!$C$5,$B164,\"\")","v":""},{"$f":"IF(F164='Üldine info'!$C$5,$B164,\"\")","v":""},{"$f":"IF(G164='Üldine info'!$C$5,$B164,\"\")","v":""},{"$f":"IF(H164='Üldine info'!$C$5,$B164,\"\")","v":""},{"$f":"IF(I164='Üldine info'!$C$5,$B164,\"\")","v":""},{"$f":"IF(J164='Üldine info'!$C$5,$B164,\"\")","v":""}]
[null,"4D033",{"$f":"'Peterburi tee'!C165","v":"022-100R0-U1"},{"$f":"'Peterburi tee'!D165","v":"031-240D-U1"},{"$f":"'Peterburi tee'!E165","v":"038-095R-U1"},{"$f":"'Peterburi tee'!F165","v":"1024-075C-U1"},{"$f":"'Peterburi tee'!G165","v":"1036-080C-U1"},{"$f":"'Peterburi tee'!H165","v":"2023-080C-U1"},{"$f":"'Peterburi tee'!I165","v":"2035-128R-U1"},{"$f":"'Peterburi tee'!J165","v":0},{"$f":"IF(C165='Üldine info'!$C$5,$B165,\"\")","v":""},{"$f":"IF(D165='Üldine info'!$C$5,$B165,\"\")","v":""},{"$f":"IF(E165='Üldine info'!$C$5,$B165,\"\")","v":""},{"$f":"IF(F165='Üldine info'!$C$5,$B165,\"\")","v":""},{"$f":"IF(G165='Üldine info'!$C$5,$B165,\"\")","v":""},{"$f":"IF(H165='Üldine info'!$C$5,$B165,\"\")","v":""},{"$f":"IF(I165='Üldine info'!$C$5,$B165,\"\")","v":""},{"$f":"IF(J165='Üldine info'!$C$5,$B165,\"\")","v":""}]
[null,"4D034",{"$f":"'Peterburi tee'!C166","v":"022-100R11-U1"},{"$f":"'Peterburi tee'!D166","v":"031-320/3-U1"},{"$f":"'Peterburi tee'!E166","v":"038-100C-U1"},{"$f":"'Peterburi tee'!F166","v":"1024-090C-U1"},{"$f":"'Peterburi tee'!G166","v":"1036-084L-U1"},{"$f":"'Peterburi tee'!H166","v":"2023-080F-U1"},{"$f":"'Peterburi tee'!I166","v":"2035-137L-U1"},{"$f":"'Peterburi tee'!J166","v":0},{"$f":"IF(C166='Üldine info'!$C$5,$B166,\"\")","v":""},{"$f":"IF(D166='Üldine info'!$C$5,$B166,\"\")","v":""},{"$f":"IF(E166='Üldine info'!$C$5,$B166,\"\")","v":""},{"$f":"IF(F166='Üldine info'!$C$5,$B166,\"\")","v":""},{"$f":"IF(G166='Üldine info'!$C$5,$B166,\"\")","v":""},{"$f":"IF(H166='Üldine info'!$C$5,$B166,\"\")","v":""},{"$f":"IF(I166='Üldine info'!$C$5,$B166,\"\")","v":""},{"$f":"IF(J166='Üldine info'!$C$5,$B166,\"\")","v":""}]
[null,"4D041",{"$f":"'Peterburi tee'!C167","v":"022-100R1-U1"},{"$f":"'Peterburi tee'!D167","v":"031E-080CP-U1"},{"$f":"'Peterburi tee'!E167","v":"038-104C-U1"},{"$f":"'Peterburi tee'!F167","v":"1024-091C-U1"},{"$f":"'Peterburi tee'!G167","v":"1036-084R-U1"},{"$f":"'Peterburi tee'!H167","v":"2023-120C-U1"},{"$f":"'Peterburi tee'!I167","v":"2035-137R-U1"},{"$f":"'Peterburi tee'!J167","v":0},{"$f":"IF(C167='Üldine info'!$C$5,$B167,\"\")","v":""},{"$f":"IF(D167='Üldine info'!$C$5,$B167,\"\")","v":""},{"$f":"IF(E167='Üldine info'!$C$5,$B167,\"\")","v":""},{"$f":"IF(F167='Üldine info'!$C$5,$B167,\"\")","v":""},{"$f":"IF(G167='Üldine info'!$C$5,$B167,\"\")","v":""},{"$f":"IF(H167='Üldine info'!$C$5,$B167,\"\")","v":""},{"$f":"IF(I167='Üldine info'!$C$5,$B167,\"\")","v":""},{"$f":"IF(J167='Üldine info'!$C$5,$B167,\"\")","v":""}]
[null,"4D042",{"$f":"'Peterburi tee'!C168","v":"022-100R21-U1"},{"$f":"'Peterburi tee'!D168","v":"031E-240D-U1"},{"$f":"'Peterburi tee'!E168","v":"038-106C-U1"},{"$f":"'Peterburi tee'!F168","v":"1024-100C-U1"},{"$f":"'Peterburi tee'!G168","v":"1036-091L-U1"},{"$f":"'Peterburi tee'!H168","v":"2023-120D-U1"},{"$f":"'Peterburi tee'!I168","v":"2035-150L-U1"},{"$f":"'Peterburi tee'!J168","v":0},{"$f":"IF(C168='Üldine info'!$C$5,$B168,\"\")","v":""},{"$f":"IF(D168='Üldine info'!$C$5,$B168,\"\")","v":""},{"$f":"IF(E168='Üldine info'!$C$5,$B168,\"\")","v":""},{"$f":"IF(F168='Üldine info'!$C$5,$B168,\"\")","v":""},{"$f":"IF(G168='Üldine info'!$C$5,$B168,\"\")","v":""},{"$f":"IF(H168='Üldine info'!$C$5,$B168,\"\")","v":""},{"$f":"IF(I168='Üldine info'!$C$5,$B168,\"\")","v":""},{"$f":"IF(J168='Üldine info'!$C$5,$B168,\"\")","v":""}]
[null,"4D043",{"$f":"'Peterburi tee'!C169","v":"022-100R2-U1"},{"$f":"'Peterburi tee'!D169","v":"032-120C-U1"},{"$f":"'Peterburi tee'!E169","v":"038-120C-U1"},{"$f":"'Peterburi tee'!F169","v":"1024-120L-U1"},{"$f":"'Peterburi tee'!G169","v":"1036-091R-U1"},{"$f":"'Peterburi tee'!H169","v":"2023-120F-U1"},{"$f":"'Peterburi tee'!I169","v":"2035-150R-U1"},{"$f":"'Peterburi tee'!J169","v":0},{"$f":"IF(C169='Üldine info'!$C$5,$B169,\"\")","v":""},{"$f":"IF(D169='Üldine info'!$C$5,$B169,\"\")","v":""},{"$f":"IF(E169='Üldine info'!$C$5,$B169,\"\")","v":""},{"$f":"IF(F169='Üldine info'!$C$5,$B169,\"\")","v":""},{"$f":"IF(G169='Üldine info'!$C$5,$B169,\"\")","v":""},{"$f":"IF(H169='Üldine info'!$C$5,$B169,\"\")","v":""},{"$f":"IF(I169='Üldine info'!$C$5,$B169,\"\")","v":""},{"$f":"IF(J169='Üldine info'!$C$5,$B169,\"\")","v":""}]
[null,"4D044",{"$f":"'Peterburi tee'!C170","v":"022-100R31-U1"},{"$f":"'Peterburi tee'!D170","v":"032-200C-U1"},{"$f":"'Peterburi tee'!E170","v":"038-128L/2-U1"},{"$f":"'Peterburi tee'!F170","v":"1024-120R-U1"},{"$f":"'Peterburi tee'!G170","v":"1036-095R-U1"},{"$f":"'Peterburi tee'!H170","v":"2023-A200-U1"},{"$f":"'Peterburi tee'!I170","v":"2035-151L-U1"},{"$f":"'Peterburi tee'!J170","v":0},{"$f":"IF(C170='Üldine info'!$C$5,$B170,\"\")","v":""},{"$f":"IF(D170='Üldine info'!$C$5,$B170,\"\")","v":""},{"$f":"IF(E170='Üldine info'!$C$5,$B170,\"\")","v":""},{"$f":"IF(F170='Üldine info'!$C$5,$B170,\"\")","v":""},{"$f":"IF(G170='Üldine info'!$C$5,$B170,\"\")","v":""},{"$f":"IF(H170='Üldine info'!$C$5,$B170,\"\")","v":""},{"$f":"IF(I170='Üldine info'!$C$5,$B170,\"\")","v":""},{"$f":"IF(J170='Üldine info'!$C$5,$B170,\"\")","v":""}]
[null,"4D051",{"$f":"'Peterburi tee'!C171","v":"022-100R3-U1"},{"$f":"'Peterburi tee'!D171","v":"032-220C-U1"},{"$f":"'Peterburi tee'!E171","v":"038-128L-U1"},{"$f":"'Peterburi tee'!F171","v":"1024-150C-U1"},{"$f":"'Peterburi tee'!G171","v":"1036-096L-U1"},{"$f":"'Peterburi tee'!H171","v":"2023-AM200-U1"},{"$f":"'Peterburi tee'!I171","v":"2035-AH081L-U1"},{"$f":"'Peterburi tee'!J171","v":0},{"$f":"IF(C171='Üldine info'!$C$5,$B171,\"\")","v":""},{"$f":"IF(D171='Üldine info'!$C$5,$B171,\"\")","v":""},{"$f":"IF(E171='Üldine info'!$C$5,$B171,\"\")","v":""},{"$f":"IF(F171='Üldine info'!$C$5,$B171,\"\")","v":""},{"$f":"IF(G171='Üldine info'!$C$5,$B171,\"\")","v":""},{"$f":"IF(H171='Üldine info'!$C$5,$B171,\"\")","v":""},{"$f":"IF(I171='Üldine info'!$C$5,$B171,\"\")","v":""},{"$f":"IF(J171='Üldine info'!$C$5,$B171,\"\")","v":""}]
[null,"4D052",{"$f":"'Peterburi tee'!C172","v":"022-100R41-U1"},{"$f":"'Peterburi tee'!D172","v":"032-240C/2-U1"},{"$f":"'Peterburi tee'!E172","v":"038-128R/2-U1"},{"$f":"'Peterburi tee'!F172","v":"1024-A040-U1"},{"$f":"'Peterburi tee'!G172","v":"1036-096R-U1"},{"$f":"'Peterburi tee'!H172","v":"2023-C200-U1"},{"$f":"'Peterburi tee'!I172","v":"2035-AH081R-U1"},{"$f":"'Peterburi tee'!J172","v":0},{"$f":"IF(C172='Üldine info'!$C$5,$B172,\"\")","v":""},{"$f":"IF(D172='Üldine info'!$C$5,$B172,\"\")","v":""},{"$f":"IF(E172='Üldine info'!$C$5,$B172,\"\")","v":""},{"$f":"IF(F172='Üldine info'!$C$5,$B172,\"\")","v":""},{"$f":"IF(G172='Üldine info'!$C$5,$B172,\"\")","v":""},{"$f":"IF(H172='Üldine info'!$C$5,$B172,\"\")","v":""},{"$f":"IF(I172='Üldine info'!$C$5,$B172,\"\")","v":""},{"$f":"IF(J172='Üldine info'!$C$5,$B172,\"\")","v":""}]
[null,"4D053",{"$f":"'Peterburi tee'!C173","v":0},{"$f":"'Peterburi tee'!D173","v":0},{"$f":"'Peterburi tee'!E173","v":"038-128R-U1"},{"$f":"'Peterburi tee'!F173","v":"1024-A080-U1"},{"$f":"'Peterburi tee'!G173","v":"1036-098LS-U1"},{"$f":"'Peterburi tee'!H173","v":0},{"$f":"'Peterburi tee'!I173","v":"2035-AH081SL-U1"},{"$f":"'Peterburi tee'!J173","v":0},{"$f":"IF(C173='Üldine info'!$C$5,$B173,\"\")","v":""},{"$f":"IF(D173='Üldine info'!$C$5,$B173,\"\")","v":""},{"$f":"IF(E173='Üldine info'!$C$5,$B173,\"\")","v":""},{"$f":"IF(F173='Üldine info'!$C$5,$B173,\"\")","v":""},{"$f":"IF(G173='Üldine info'!$C$5,$B173,\"\")","v":""},{"$f":"IF(H173='Üldine info'!$C$5,$B173,\"\")","v":""},{"$f":"IF(I173='Üldine info'!$C$5,$B173,\"\")","v":""},{"$f":"IF(J173='Üldine info'!$C$5,$B173,\"\")","v":""}]
[null,"4D054",{"$f":"'Peterburi tee'!C174","v":0},{"$f":"'Peterburi tee'!D174","v":0},{"$f":"'Peterburi tee'!E174","v":0},{"$f":"'Peterburi tee'!F174","v":"1024-T060C-U1"},{"$f":"'Peterburi tee'!G174","v":"1036-098RS-U1"},{"$f":"'Peterburi tee'!H174","v":"2023-D200-U1"},{"$f":"'Peterburi tee'!I174","v":"2035-AH081SR-U1"},{"$f":"'Peterburi tee'!J174","v":0},{"$f":"IF(C174='Üldine info'!$C$5,$B174,\"\")","v":""},{"$f":"IF(D174='Üldine info'!$C$5,$B174,\"\")","v":""},{"$f":"IF(E174='Üldine info'!$C$5,$B174,\"\")","v":""},{"$f":"IF(F174='Üldine info'!$C$5,$B174,\"\")","v":""},{"$f":"IF(G174='Üldine info'!$C$5,$B174,\"\")","v":""},{"$f":"IF(H174='Üldine info'!$C$5,$B174,\"\")","v":""},{"$f":"IF(I174='Üldine info'!$C$5,$B174,\"\")","v":""},{"$f":"IF(J174='Üldine info'!$C$5,$B174,\"\")","v":""}]
[null,"4D061",{"$f":"'Peterburi tee'!C175","v":"022-100R6-U1"},{"$f":"'Peterburi tee'!D175","v":0},{"$f":"'Peterburi tee'!E175","v":"038-132C-U1"},{"$f":"'Peterburi tee'!F175","v":"1024-T080C-U1"},{"$f":"'Peterburi tee'!G175","v":"1036-099L-U1"},{"$f":"'Peterburi tee'!H175","v":"2023-DC200-U1"},{"$f":"'Peterburi tee'!I175","v":"2036-026C-U1"},{"$f":"'Peterburi tee'!J175","v":0},{"$f":"IF(C175='Üldine info'!$C$5,$B175,\"\")","v":""},{"$f":"IF(D175='Üldine info'!$C$5,$B175,\"\")","v":""},{"$f":"IF(E175='Üldine info'!$C$5,$B175,\"\")","v":""},{"$f":"IF(F175='Üldine info'!$C$5,$B175,\"\")","v":""},{"$f":"IF(G175='Üldine info'!$C$5,$B175,\"\")","v":""},{"$f":"IF(H175='Üldine info'!$C$5,$B175,\"\")","v":""},{"$f":"IF(I175='Üldine info'!$C$5,$B175,\"\")","v":""},{"$f":"IF(J175='Üldine info'!$C$5,$B175,\"\")","v":""}]
[null,"4D062",{"$f":"'Peterburi tee'!C176","v":"022-100R7-U1"},{"$f":"'Peterburi tee'!D176","v":"032-240L-U1"},{"$f":"'Peterburi tee'!E176","v":"038-170C-U1"},{"$f":"'Peterburi tee'!F176","v":"1024-T100L-U1"},{"$f":"'Peterburi tee'!G176","v":"1036-099R-U1"},{"$f":"'Peterburi tee'!H176","v":"2023-F200-U1"},{"$f":"'Peterburi tee'!I176","v":"2036-069C-U1"},{"$f":"'Peterburi tee'!J176","v":0},{"$f":"IF(C176='Üldine info'!$C$5,$B176,\"\")","v":""},{"$f":"IF(D176='Üldine info'!$C$5,$B176,\"\")","v":""},{"$f":"IF(E176='Üldine info'!$C$5,$B176,\"\")","v":""},{"$f":"IF(F176='Üldine info'!$C$5,$B176,\"\")","v":""},{"$f":"IF(G176='Üldine info'!$C$5,$B176,\"\")","v":""},{"$f":"IF(H176='Üldine info'!$C$5,$B176,\"\")","v":""},{"$f":"IF(I176='Üldine info'!$C$5,$B176,\"\")","v":""},{"$f":"IF(J176='Üldine info'!$C$5,$B176,\"\")","v":""}]
[null,"4D063",{"$f":"'Peterburi tee'!C177","v":"022-100R8-U1"},{"$f":"'Peterburi tee'!D177","v":"032-240R/2-U1"},{"$f":"'Peterburi tee'!E177","v":"038-412/1-U1"},{"$f":"'Peterburi tee'!F177","v":"1024-T100R-U1"},{"$f":"'Peterburi tee'!G177","v":"1036-109LS-U1"},{"$f":"'Peterburi tee'!H177","v":"2023-FC200-U1"},{"$f":"'Peterburi tee'!I177","v":"2036-070C-U1"},{"$f":"'Peterburi tee'!J177","v":0},{"$f":"IF(C177='Üldine info'!$C$5,$B177,\"\")","v":""},{"$f":"IF(D177='Üldine info'!$C$5,$B177,\"\")","v":""},{"$f":"IF(E177='Üldine info'!$C$5,$B177,\"\")","v":""},{"$f":"IF(F177='Üldine info'!$C$5,$B177,\"\")","v":""},{"$f":"IF(G177='Üldine info'!$C$5,$B177,\"\")","v":""},{"$f":"IF(H177='Üldine info'!$C$5,$B177,\"\")","v":""},{"$f":"IF(I177='Üldine info'!$C$5,$B177,\"\")","v":""},{"$f":"IF(J177='Üldine info'!$C$5,$B177,\"\")","v":""}]
[null,"4D064",{"$f":"'Peterburi tee'!C178","v":"022-100R9-U1"},{"$f":"'Peterburi tee'!D178","v":"032-240R-U1"},{"$f":"'Peterburi tee'!E178","v":"038-418/1-U1"},{"$f":"'Peterburi tee'!F178","v":"1024-T120C/2-U1"},{"$f":"'Peterburi tee'!G178","v":"1036-109L-U1"},{"$f":"'Peterburi tee'!H178","v":"2023-FCM200-U1"},{"$f":"'Peterburi tee'!I178","v":"2036-080C-U1"},{"$f":"'Peterburi tee'!J178","v":0},{"$f":"IF(C178='Üldine info'!$C$5,$B178,\"\")","v":""},{"$f":"IF(D178='Üldine info'!$C$5,$B178,\"\")","v":""},{"$f":"IF(E178='Üldine info'!$C$5,$B178,\"\")","v":""},{"$f":"IF(F178='Üldine info'!$C$5,$B178,\"\")","v":""},{"$f":"IF(G178='Üldine info'!$C$5,$B178,\"\")","v":""},{"$f":"IF(H178='Üldine info'!$C$5,$B178,\"\")","v":""},{"$f":"IF(I178='Üldine info'!$C$5,$B178,\"\")","v":""},{"$f":"IF(J178='Üldine info'!$C$5,$B178,\"\")","v":""}]
[null,"4D071",{"$f":"'Peterburi tee'!C179","v":"022-100RE3-U1"},{"$f":"'Peterburi tee'!D179","v":"032E-120C-U1"},{"$f":"'Peterburi tee'!E179","v":"038-418/2-U1"},{"$f":"'Peterburi tee'!F179","v":"1024-T120C-U1"},{"$f":"'Peterburi tee'!G179","v":"1036-109RS-U1"},{"$f":"'Peterburi tee'!H179","v":"2023-FM200-U1"},{"$f":"'Peterburi tee'!I179","v":"2036-084L-U1"},{"$f":"'Peterburi tee'!J179","v":0},{"$f":"IF(C179='Üldine info'!$C$5,$B179,\"\")","v":""},{"$f":"IF(D179='Üldine info'!$C$5,$B179,\"\")","v":""},{"$f":"IF(E179='Üldine info'!$C$5,$B179,\"\")","v":""},{"$f":"IF(F179='Üldine info'!$C$5,$B179,\"\")","v":""},{"$f":"IF(G179='Üldine info'!$C$5,$B179,\"\")","v":""},{"$f":"IF(H179='Üldine info'!$C$5,$B179,\"\")","v":""},{"$f":"IF(I179='Üldine info'!$C$5,$B179,\"\")","v":""},{"$f":"IF(J179='Üldine info'!$C$5,$B179,\"\")","v":""}]
[null,"4D072",{"$f":"'Peterburi tee'!C180","v":"022-100RE4-U1"},{"$f":"'Peterburi tee'!D180","v":"032E-200C-U1"},{"$f":"'Peterburi tee'!E180","v":"038-426/1-U1"},{"$f":"'Peterburi tee'!F180","v":"1024-T120L-U1"},{"$f":"'Peterburi tee'!G180","v":"1036-109R-U1"},{"$f":"'Peterburi tee'!H180","v":"2024-050C-U1"},{"$f":"'Peterburi tee'!I180","v":"2036-084R-U1"},{"$f":"'Peterburi tee'!J180","v":0},{"$f":"IF(C180='Üldine info'!$C$5,$B180,\"\")","v":""},{"$f":"IF(D180='Üldine info'!$C$5,$B180,\"\")","v":""},{"$f":"IF(E180='Üldine info'!$C$5,$B180,\"\")","v":""},{"$f":"IF(F180='Üldine info'!$C$5,$B180,\"\")","v":""},{"$f":"IF(G180='Üldine info'!$C$5,$B180,\"\")","v":""},{"$f":"IF(H180='Üldine info'!$C$5,$B180,\"\")","v":""},{"$f":"IF(I180='Üldine info'!$C$5,$B180,\"\")","v":""},{"$f":"IF(J180='Üldine info'!$C$5,$B180,\"\")","v":""}]
[null,"4D073",{"$f":"'Peterburi tee'!C181","v":"022-120C0-U1"},{"$f":"'Peterburi tee'!D181","v":"032E-240C-U1"},{"$f":"'Peterburi tee'!E181","v":"038-426/2-U1"},{"$f":"'Peterburi tee'!F181","v":"1024-T120R-U1"},{"$f":"'Peterburi tee'!G181","v":"1036-120/2.1.-U1"},{"$f":"'Peterburi tee'!H181","v":"2024-075C-U1"},{"$f":"'Peterburi tee'!I181","v":"2036-091L-U1"},{"$f":"'Peterburi tee'!J181","v":0},{"$f":"IF(C181='Üldine info'!$C$5,$B181,\"\")","v":""},{"$f":"IF(D181='Üldine info'!$C$5,$B181,\"\")","v":""},{"$f":"IF(E181='Üldine info'!$C$5,$B181,\"\")","v":""},{"$f":"IF(F181='Üldine info'!$C$5,$B181,\"\")","v":""},{"$f":"IF(G181='Üldine info'!$C$5,$B181,\"\")","v":""},{"$f":"IF(H181='Üldine info'!$C$5,$B181,\"\")","v":""},{"$f":"IF(I181='Üldine info'!$C$5,$B181,\"\")","v":""},{"$f":"IF(J181='Üldine info'!$C$5,$B181,\"\")","v":""}]
[null,"4D074",{"$f":"'Peterburi tee'!C182","v":"022-120C1-U1"},{"$f":"'Peterburi tee'!D182","v":0},{"$f":"'Peterburi tee'!E182","v":0},{"$f":"'Peterburi tee'!F182","v":"1024-T160L-U1"},{"$f":"'Peterburi tee'!G182","v":"1036-120/2-U1"},{"$f":"'Peterburi tee'!H182","v":"2024-090C-U1"},{"$f":"'Peterburi tee'!I182","v":"2036-091R-U1"},{"$f":"'Peterburi tee'!J182","v":0},{"$f":"IF(C182='Üldine info'!$C$5,$B182,\"\")","v":""},{"$f":"IF(D182='Üldine info'!$C$5,$B182,\"\")","v":""},{"$f":"IF(E182='Üldine info'!$C$5,$B182,\"\")","v":""},{"$f":"IF(F182='Üldine info'!$C$5,$B182,\"\")","v":""},{"$f":"IF(G182='Üldine info'!$C$5,$B182,\"\")","v":""},{"$f":"IF(H182='Üldine info'!$C$5,$B182,\"\")","v":""},{"$f":"IF(I182='Üldine info'!$C$5,$B182,\"\")","v":""},{"$f":"IF(J182='Üldine info'!$C$5,$B182,\"\")","v":""}]
[null,"4D081",{"$f":"'Peterburi tee'!C183","v":"022-120C2-U1"},{"$f":"'Peterburi tee'!D183","v":"032E-240R/2-U1"},{"$f":"'Peterburi tee'!E183","v":"038-434/1-U1"},{"$f":"'Peterburi tee'!F183","v":"1024-T160R-U1"},{"$f":"'Peterburi tee'!G183","v":"1036-120L-U1"},{"$f":"'Peterburi tee'!H183","v":"2024-091C-U1"},{"$f":"'Peterburi tee'!I183","v":"2036-095R-U1"},{"$f":"'Peterburi tee'!J183","v":0},{"$f":"IF(C183='Üldine info'!$C$5,$B183,\"\")","v":""},{"$f":"IF(D183='Üldine info'!$C$5,$B183,\"\")","v":""},{"$f":"IF(E183='Üldine info'!$C$5,$B183,\"\")","v":""},{"$f":"IF(F183='Üldine info'!$C$5,$B183,\"\")","v":""},{"$f":"IF(G183='Üldine info'!$C$5,$B183,\"\")","v":""},{"$f":"IF(H183='Üldine info'!$C$5,$B183,\"\")","v":""},{"$f":"IF(I183='Üldine info'!$C$5,$B183,\"\")","v":""},{"$f":"IF(J183='Üldine info'!$C$5,$B183,\"\")","v":""}]
[null,"4D082",{"$f":"'Peterburi tee'!C184","v":"022-120C3-U1"},{"$f":"'Peterburi tee'!D184","v":"032E-240R-U1"},{"$f":"'Peterburi tee'!E184","v":"038-434/2-U1"},{"$f":"'Peterburi tee'!F184","v":"1025-040C-U1"},{"$f":"'Peterburi tee'!G184","v":"1036-120R-U1"},{"$f":"'Peterburi tee'!H184","v":"2024-100C-U1"},{"$f":"'Peterburi tee'!I184","v":"2036-096L-U1"},{"$f":"'Peterburi tee'!J184","v":0},{"$f":"IF(C184='Üldine info'!$C$5,$B184,\"\")","v":""},{"$f":"IF(D184='Üldine info'!$C$5,$B184,\"\")","v":""},{"$f":"IF(E184='Üldine info'!$C$5,$B184,\"\")","v":""},{"$f":"IF(F184='Üldine info'!$C$5,$B184,\"\")","v":""},{"$f":"IF(G184='Üldine info'!$C$5,$B184,\"\")","v":""},{"$f":"IF(H184='Üldine info'!$C$5,$B184,\"\")","v":""},{"$f":"IF(I184='Üldine info'!$C$5,$B184,\"\")","v":""},{"$f":"IF(J184='Üldine info'!$C$5,$B184,\"\")","v":""}]
[null,"4D083",{"$f":"'Peterburi tee'!C185","v":"022-120C4-U1"},{"$f":"'Peterburi tee'!D185","v":"032-SD080-U1"},{"$f":"'Peterburi tee'!E185","v":"038-434/3-U1"},{"$f":"'Peterburi tee'!F185","v":"1025-C70C-U1"},{"$f":"'Peterburi tee'!G185","v":"1036-124L-U1"},{"$f":"'Peterburi tee'!H185","v":"2024-120L-U1"},{"$f":"'Peterburi tee'!I185","v":"2036-096R-U1"},{"$f":"'Peterburi tee'!J185","v":0},{"$f":"IF(C185='Üldine info'!$C$5,$B185,\"\")","v":""},{"$f":"IF(D185='Üldine info'!$C$5,$B185,\"\")","v":""},{"$f":"IF(E185='Üldine info'!$C$5,$B185,\"\")","v":""},{"$f":"IF(F185='Üldine info'!$C$5,$B185,\"\")","v":""},{"$f":"IF(G185='Üldine info'!$C$5,$B185,\"\")","v":""},{"$f":"IF(H185='Üldine info'!$C$5,$B185,\"\")","v":""},{"$f":"IF(I185='Üldine info'!$C$5,$B185,\"\")","v":""},{"$f":"IF(J185='Üldine info'!$C$5,$B185,\"\")","v":""}]
[null,"4D084",{"$f":"'Peterburi tee'!C186","v":"022-120C5-U1"},{"$f":"'Peterburi tee'!D186","v":"032-SM060-U1"},{"$f":"'Peterburi tee'!E186","v":"038-50990C-U1"},{"$f":"'Peterburi tee'!F186","v":0},{"$f":"'Peterburi tee'!G186","v":"1036-124R-U1"},{"$f":"'Peterburi tee'!H186","v":"2024-120R-U1"},{"$f":"'Peterburi tee'!I186","v":"2036-098LS-U1"},{"$f":"'Peterburi tee'!J186","v":0},{"$f":"IF(C186='Üldine info'!$C$5,$B186,\"\")","v":""},{"$f":"IF(D186='Üldine info'!$C$5,$B186,\"\")","v":""},{"$f":"IF(E186='Üldine info'!$C$5,$B186,\"\")","v":""},{"$f":"IF(F186='Üldine info'!$C$5,$B186,\"\")","v":""},{"$f":"IF(G186='Üldine info'!$C$5,$B186,\"\")","v":""},{"$f":"IF(H186='Üldine info'!$C$5,$B186,\"\")","v":""},{"$f":"IF(I186='Üldine info'!$C$5,$B186,\"\")","v":""},{"$f":"IF(J186='Üldine info'!$C$5,$B186,\"\")","v":""}]
[null,{"$f":"Vormiosakond!B3","v":"3XXXX"},{"$f":"Vormiosakond!C3","v":"1038-626/2-U1"},null,null,null,null,null,null,null,{"$f":"IF(C187='Üldine info'!$C$5,$B187,\"\")","v":""},null,null,null,null,null,null,null,{"$f":"CONCATENATE(K3,K4,K5,K6,K7,K8,K9,K10,K11,K12,K13,K14,K15,K16,K18,K17,K19,K21,K20,K22,K23,K24,K25,K26,K27,K28,K30,K29,K31,K32,K33,K34,K35,K36,K37,K38,K39,K40,K41,K42,K43,K44,K45,K46,K47,K48,K49,K50,K51,K52,K53,K54,K55,K56,K57,K58,K59,K61,K60,K62,K63,K64,K65,K66,K67,K68,K69,K70,K71,K72,K73,K74,K75,K76,K77,K78,K79,K81,K80,K82,K84,K83,K85,K86,K88,K87,K89,K90,K91,K92,K94,K93,K95,K96,K97,K98,K99,K100,K101,K103,K102,K104,K105,K107,K106,K108,K109,K110,K111,K112,K113,K114,K115,K116,K117,K119,K118,K120,K121,K122,K123,K125,K124,K126,K127,K128,K129,K130,K131,K132,K133,K134,K135,K136,K137,K138,K139,K140,K141,K142,K143,K144,K145,K147,K146,K148,K150,K149,K152,K151,K153,K154,K155,K156,K158,K157,K159,K160,K161,K162,K163,K164,K165,K166,K167,K168,K169,K170,K171,K173,K172,K174,K175,K176,K177,K178,K179,K180,K181,K182,K183,K184,K185,K186)","v":""}]
[null,{"$f":"Vormiosakond!B4","v":"3XXXX"},{"$f":"Vormiosakond!C4","v":"1038-626/3-U1"},null,null,null,null,null,null,null,{"$f":"IF(C188='Üldine info'!$C$5,$B188,\"\")","v":""}]
[null,{"$f":"Vormiosakond!B5","v":"3XXXX"},{"$f":"Vormiosakond!C5","v":0},null,null,null,null,null,null,null,{"$f":"IF(C189='Üldine info'!$C$5,$B189,\"\")","v":""}]
[null,{"$f":"Vormiosakond!B6","v":"3XXXX"},{"$f":"Vormiosakond!C6","v":"1038-630/2-U1"},null,null,null,null,null,null,null,{"$f":"IF(C190='Üldine info'!$C$5,$B190,\"\")","v":""}]
[null,{"$f":"Vormiosakond!B7","v":"3XXXX"},{"$f":"Vormiosakond!C7","v":0},null,null,null,null,null,null,null,{"$f":"IF(C191='Üldine info'!$C$5,$B191,\"\")","v":""}]
[null,{"$f":"Vormiosakond!B8","v":"3XXXX"},{"$f":"Vormiosakond!C8","v":"1038-634/1-U1"},null,null,null,null,null,null,null,{"$f":"IF(C192='Üldine info'!$C$5,$B192,\"\")","v":""}]
[null,{"$f":"Vormiosakond!B9","v":"3XXXX"},{"$f":"Vormiosakond!C9","v":"1038-634/2-U1"},null,null,null,null,null,null,null,{"$f":"IF(C193='Üldine info'!$C$5,$B193,\"\")","v":""}]
[null,{"$f":"Vormiosakond!B10","v":"3XXXX"},{"$f":"Vormiosakond!C10","v":"1038-634/3-U1"},null,null,null,null,null,null,null,{"$f":"IF(C194='Üldine info'!$C$5,$B194,\"\")","v":""}]
[null,{"$f":"Vormiosakond!B11","v":"3XXXX"},{"$f":"Vormiosakond!C11","v":"1038-GB128L-U1"},null,null,null,null,null,null,null,{"$f":"IF(C195='Üldine info'!$C$5,$B195,\"\")","v":""}]
[null,{"$f":"Vormiosakond!B12","v":"3XXXX"},{"$f":"Vormiosakond!C12","v":"1038-GB128R-U1"},null,null,null,null,null,null,null,{"$f":"IF(C196='Üldine info'!$C$5,$B196,\"\")","v":""}]
[null,{"$f":"Vormiosakond!B13","v":"3XXXX"},{"$f":"Vormiosakond!C13","v":"1038-P612/1-U1"},null,null,null,null,null,null,null,{"$f":"IF(C197='Üldine info'!$C$5,$B197,\"\")","v":""}]
[null,{"$f":"Vormiosakond!B14","v":"3XXXX"},{"$f":"Vormiosakond!C14","v":"1038-P618/1-U1"},null,null,null,null,null,null,null,{"$f":"IF(C198='Üldine info'!$C$5,$B198,\"\")","v":""}]
[null,{"$f":"Vormiosakond!B15","v":"3XXXX"},{"$f":"Vormiosakond!C15","v":"1038-P618/2-U1"},null,null,null,null,null,null,null,{"$f":"IF(C199='Üldine info'!$C$5,$B199,\"\")","v":""}]
[null,{"$f":"Vormiosakond!B16","v":"3XXXX"},{"$f":"Vormiosakond!C16","v":0},null,null,null,null,null,null,null,{"$f":"IF(C200='Üldine info'!$C$5,$B200,\"\")","v":""}]
[null,{"$f":"Vormiosakond!B17","v":"3XXXX"},{"$f":"Vormiosakond!C17","v":"1038-P626/2-U1"},null,null,null,null,null,null,null,{"$f":"IF(C201='Üldine info'!$C$5,$B201,\"\")","v":""}]
[null,{"$f":"Vormiosakond!B18","v":"3XXXX"},{"$f":"Vormiosakond!C18","v":"1038-P626/3-U1"},null,null,null,null,null,null,null,{"$f":"IF(C202='Üldine info'!$C$5,$B202,\"\")","v":""}]
[null,{"$f":"Vormiosakond!B19","v":"3XXXX"},{"$f":"Vormiosakond!C19","v":0},null,null,null,null,null,null,null,{"$f":"IF(C203='Üldine info'!$C$5,$B203,\"\")","v":""}]
[null,{"$f":"Vormiosakond!B20","v":"3XXXX"},{"$f":"Vormiosakond!C20","v":"1038-P634/2-U1"},null,null,null,null,null,null,null,{"$f":"IF(C204='Üldine info'!$C$5,$B204,\"\")","v":""}]
[null,{"$f":"Vormiosakond!B21","v":"3XXXX"},{"$f":"Vormiosakond!C21","v":"1038-P634/3-U1"},null,null,null,null,null,null,null,{"$f":"IF(C205='Üldine info'!$C$5,$B205,\"\")","v":""}]
[null,{"$f":"Vormiosakond!B22","v":"3XXXX"},{"$f":"Vormiosakond!C22","v":"1038-P634/4-U1"},null,null,null,null,null,null,null,{"$f":"IF(C206='Üldine info'!$C$5,$B206,\"\")","v":""}]
[null,{"$f":"Tootmine!B3","v":"1XXXX"},{"$f":"Tootmine!C3","v":"038-634/3-U1"},null,null,null,null,null,null,null,{"$f":"IF(C207='Üldine info'!$C$5,$B207,\"\")","v":""}]
[null,{"$f":"Tootmine!B4","v":"1XXXX"},{"$f":"Tootmine!C4","v":"038E-072C-U1"},null,null,null,null,null,null,null,{"$f":"IF(C208='Üldine info'!$C$5,$B208,\"\")","v":""}]
[null,{"$f":"Tootmine!B5","v":"1XXXX"},{"$f":"Tootmine!C5","v":"038E-132C-U1"},null,null,null,null,null,null,null,{"$f":"IF(C209='Üldine info'!$C$5,$B209,\"\")","v":""}]
[null,{"$f":"Tootmine!B6","v":"1XXXX"},{"$f":"Tootmine!C6","v":"038-GB128C-U1"},null,null,null,null,null,null,null,{"$f":"IF(C210='Üldine info'!$C$5,$B210,\"\")","v":""}]
[null,{"$f":"Tootmine!B7","v":"1XXXX"},{"$f":"Tootmine!C7","v":"038-GB128L-U1"},null,null,null,null,null,null,null,{"$f":"IF(C211='Üldine info'!$C$5,$B211,\"\")","v":""}]
[null,{"$f":"Tootmine!B8","v":"1XXXX"},{"$f":"Tootmine!C38","v":"038-GB128R-U1"},null,null,null,null,null,null,null,{"$f":"IF(C212='Üldine info'!$C$5,$B212,\"\")","v":""}]
[null,{"$f":"Tootmine!B9","v":"1XXXX"},{"$f":"Tootmine!C9","v":"038-P612/1-U1"},null,null,null,null,null,null,null,{"$f":"IF(C213='Üldine info'!$C$5,$B213,\"\")","v":""}]
[null,{"$f":"Tootmine!B10","v":"1XXXX"},{"$f":"Tootmine!C10","v":"038-P618/1-U1"},null,null,null,null,null,null,null,{"$f":"IF(C214='Üldine info'!$C$5,$B214,\"\")","v":""}]
[null,{"$f":"Tootmine!B11","v":"1XXXX"},{"$f":"Tootmine!C42","v":"038-P618/2-U1"},null,null,null,null,null,null,null,{"$f":"IF(C215='Üldine info'!$C$5,$B215,\"\")","v":""}]
[null,{"$f":"Tootmine!B12","v":"1XXXX"},{"$f":"Tootmine!C12","v":"038-P626/1-U1"},null,null,null,null,null,null,null,{"$f":"IF(C216='Üldine info'!$C$5,$B216,\"\")","v":""}]
[null,{"$f":"Tootmine!B13","v":"1XXXX"},{"$f":"Tootmine!C40","v":"038-P626/2-U1"},null,null,null,null,null,null,null,{"$f":"IF(C217='Üldine info'!$C$5,$B217,\"\")","v":""}]
[null,{"$f":"Tootmine!B14","v":"1XXXX"},{"$f":"Tootmine!C14","v":"038-P626/3-U1"},null,null,null,null,null,null,null,{"$f":"IF(C218='Üldine info'!$C$5,$B218,\"\")","v":""}]
[null,{"$f":"Tootmine!B15","v":"1XXXX"},{"$f":"Tootmine!C15","v":"038-P634/1-U1"},null,null,null,null,null,null,null,{"$f":"IF(C219='Üldine info'!$C$5,$B219,\"\")","v":""}]
[null,{"$f":"Tootmine!B16","v":"1XXXX"},{"$f":"Tootmine!C45","v":"038-P634/2-U1"},null,null,null,null,null,null,null,{"$f":"IF(C220='Üldine info'!$C$5,$B220,\"\")","v":""}]
[null,{"$f":"Tootmine!B17","v":"1XXXX"},{"$f":"Tootmine!C46","v":"038-P634/3-U1"},null,null,null,null,null,null,null,{"$f":"IF(C221='Üldine info'!$C$5,$B221,\"\")","v":""}]
[null,{"$f":"Tootmine!B18","v":"1XXXX"},{"$f":"Tootmine!C47","v":"038-P634/4-U1"},null,null,null,null,null,null,null,{"$f":"IF(C222='Üldine info'!$C$5,$B222,\"\")","v":""}]
[null,{"$f":"Tootmine!B19","v":"1XXXX"},{"$f":"Tootmine!C48","v":"038-P634/5-U1"},null,null,null,null,null,null,null,{"$f":"IF(C223='Üldine info'!$C$5,$B223,\"\")","v":""}]
[null,{"$f":"Tootmine!B20","v":"1XXXX"},{"$f":"Tootmine!C49","v":"038-T600-U1"},null,null,null,null,null,null,null,{"$f":"IF(C224='Üldine info'!$C$5,$B224,\"\")","v":""}]
[null,{"$f":"Tootmine!B21","v":"1XXXX"},{"$f":"Tootmine!C21","v":"038-T634-U1"},null,null,null,null,null,null,null,{"$f":"IF(C225='Üldine info'!$C$5,$B225,\"\")","v":""}]
[null,{"$f":"Tootmine!B22","v":"1XXXX"},{"$f":"Tootmine!C22","v":"039-060C-U1"},null,null,null,null,null,null,null,{"$f":"IF(C226='Üldine info'!$C$5,$B226,\"\")","v":""}]
[null,{"$f":"Tootmine!B23","v":"1XXXX"},{"$f":"Tootmine!C23","v":"040-100L-U1"},null,null,null,null,null,null,null,{"$f":"IF(C227='Üldine info'!$C$5,$B227,\"\")","v":""}]
[null,{"$f":"Tootmine!B24","v":"1XXXX"},{"$f":"Tootmine!C24","v":"040-100R-U1"},null,null,null,null,null,null,null,{"$f":"IF(C228='Üldine info'!$C$5,$B228,\"\")","v":""}]
[null,{"$f":"Tootmine!B25","v":"1XXXX"},{"$f":"Tootmine!C25","v":"050-185L-U1"},null,null,null,null,null,null,null,{"$f":"IF(C229='Üldine info'!$C$5,$B229,\"\")","v":""}]
[null,{"$f":"Tootmine!B26","v":"1XXXX"},{"$f":"Tootmine!C26","v":"050-185R-U1"},null,null,null,null,null,null,null,{"$f":"IF(C230='Üldine info'!$C$5,$B230,\"\")","v":""}]
[null,{"$f":"Tootmine!B27","v":"1XXXX"},{"$f":"Tootmine!C27","v":"050-215L-U1"},null,null,null,null,null,null,null,{"$f":"IF(C231='Üldine info'!$C$5,$B231,\"\")","v":""}]
[null,{"$f":"Tootmine!B28","v":"1XXXX"},{"$f":"Tootmine!C28","v":"050-215R-U1"},null,null,null,null,null,null,null,{"$f":"IF(C232='Üldine info'!$C$5,$B232,\"\")","v":""}]
[null,{"$f":"Tootmine!B29","v":"1XXXX"},{"$f":"Tootmine!C29","v":"06999-U1"},null,null,null,null,null,null,null,{"$f":"IF(C233='Üldine info'!$C$5,$B233,\"\")","v":""}]
[null,{"$f":"Tootmine!B30","v":"1XXXX"},{"$f":"Tootmine!C30","v":"090-291-U1"},null,null,null,null,null,null,null,{"$f":"IF(C234='Üldine info'!$C$5,$B234,\"\")","v":""}]
[null,{"$f":"Tootmine!B31","v":"1XXXX"},{"$f":"Tootmine!C31","v":"1005-053C2-U1"},null,null,null,null,null,null,null,{"$f":"IF(C235='Üldine info'!$C$5,$B235,\"\")","v":""}]
[null,{"$f":"Tootmine!B32","v":"1XXXX"},{"$f":"Tootmine!C32","v":"1005-053C-U1"},null,null,null,null,null,null,null,{"$f":"IF(C236='Üldine info'!$C$5,$B236,\"\")","v":""}]
[null,{"$f":"Tootmine!B33","v":"1XXXX"},{"$f":"Tootmine!C33","v":"1005-060C-U1"},null,null,null,null,null,null,null,{"$f":"IF(C237='Üldine info'!$C$5,$B237,\"\")","v":""}]
[null,{"$f":"Tootmine!B34","v":"1XXXX"},{"$f":"Tootmine!C34","v":"1005-080C-U1"},null,null,null,null,null,null,null,{"$f":"IF(C238='Üldine info'!$C$5,$B238,\"\")","v":""}]
[null,{"$f":"Tootmine!B35","v":"1XXXX"},{"$f":"Tootmine!C35","v":"1005-090L-U1"},null,null,null,null,null,null,null,{"$f":"IF(C239='Üldine info'!$C$5,$B239,\"\")","v":""}]
[null,{"$f":"Tootmine!B36","v":"1XXXX"},{"$f":"Tootmine!C36","v":"1005-090R-U1"},null,null,null,null,null,null,null,{"$f":"IF(C240='Üldine info'!$C$5,$B240,\"\")","v":""}]
[null,{"$f":"Tootmine!B37","v":"1XXXX"},{"$f":"Tootmine!C37","v":0},null,null,null,null,null,null,null,{"$f":"IF(C241='Üldine info'!$C$5,$B241,\"\")","v":""}]
[null,{"$f":"Tootmine!B38","v":"1XXXX"},{"$f":"Tootmine!C38","v":"038-GB128R-U1"},null,null,null,null,null,null,null,{"$f":"IF(C242='Üldine info'!$C$5,$B242,\"\")","v":""}]
[null,{"$f":"Tootmine!B39","v":"1XXXX"},{"$f":"Tootmine!C39","v":0},null,null,null,null,null,null,null,{"$f":"IF(C243='Üldine info'!$C$5,$B243,\"\")","v":""}]
[null,{"$f":"Tootmine!B40","v":"1XXXX"},{"$f":"Tootmine!C40","v":"038-P626/2-U1"},null,null,null,null,null,null,null,{"$f":"IF(C244='Üldine info'!$C$5,$B244,\"\")","v":""}]
[null,{"$f":"Tootmine!B41","v":"1XXXX"},{"$f":"Tootmine!C41","v":0},null,null,null,null,null,null,null,{"$f":"IF(C245='Üldine info'!$C$5,$B245,\"\")","v":""}]
[null,{"$f":"Tootmine!B42","v":"1XXXX"},{"$f":"Tootmine!C42","v":"038-P618/2-U1"},null,null,null,null,null,null,null,{"$f":"IF(C246='Üldine info'!$C$5,$B246,\"\")","v":""}]
[null,{"$f":"Tootmine!B43","v":"1XXXX"},{"$f":"Tootmine!C43","v":0},null,null,null,null,null,null,null,{"$f":"IF(C247='Üldine info'!$C$5,$B247,\"\")","v":""}]
[null,{"$f":"Tootmine!B44","v":"1XXXX"},{"$f":"Tootmine!C44","v":0},null,null,null,null,null,null,null,{"$f":"IF(C248='Üldine info'!$C$5,$B248,\"\")","v":""}]
[null,{"$f":"Tootmine!B45","v":"1XXXX"},{"$f":"Tootmine!C45","v":"038-P634/2-U1"},null,null,null,null,null,null,null,{"$f":"IF(C249='Üldine info'!$C$5,$B249,\"\")","v":""}]
[null,{"$f":"Tootmine!B46","v":"1XXXX"},{"$f":"Tootmine!C46","v":"038-P634/3-U1"},null,null,null,null,null,null,null,{"$f":"IF(C250='Üldine info'!$C$5,$B250,\"\")","v":""}]
[null,{"$f":"Tootmine!B47","v":"1XXXX"},{"$f":"Tootmine!C47","v":"038-P634/4-U1"},null,null,null,null,null,null,null,{"$f":"IF(C251='Üldine info'!$C$5,$B251,\"\")","v":""}]
[null,{"$f":"Tootmine!B48","v":"1XXXX"},{"$f":"Tootmine!C48","v":"038-P634/5-U1"},null,null,null,null,null,null,null,{"$f":"IF(C252='Üldine info'!$C$5,$B252,\"\")","v":""}]
[null,{"$f":"Tootmine!B49","v":"1XXXX"},{"$f":"Tootmine!C49","v":"038-T600-U1"},null,null,null,null,null,null,null,{"$f":"IF(C253='Üldine info'!$C$5,$B253,\"\")","v":""}]
[null,{"$f":"Tootmine!B50","v":"1XXXX"},{"$f":"Tootmine!C50","v":0},null,null,null,null,null,null,null,{"$f":"IF(C254='Üldine info'!$C$5,$B254,\"\")","v":""}]
[null,{"$f":"Tootmine!B51","v":"1XXXX"},{"$f":"Tootmine!C51","v":0},null,null,null,null,null,null,null,{"$f":"IF(C255='Üldine info'!$C$5,$B255,\"\")","v":""}]
[null,{"$f":"Tootmine!B52","v":"1XXXX"},{"$f":"Tootmine!C52","v":0},null,null,null,null,null,null,null,{"$f":"IF(C256='Üldine info'!$C$5,$B256,\"\")","v":""}]
[null,{"$f":"Tootmine!B53","v":"1XXXX"},{"$f":"Tootmine!C53","v":0},null,null,null,null,null,null,null,{"$f":"IF(C257='Üldine info'!$C$5,$B257,\"\")","v":""}]
[null,{"$f":"Tootmine!B54","v":"1XXXX"},{"$f":"Tootmine!C54","v":0},null,null,null,null,null,null,null,{"$f":"IF(C258='Üldine info'!$C$5,$B258,\"\")","v":""}]
[null,{"$f":"Tootmine!B55","v":"1XXXX"},{"$f":"Tootmine!C55","v":0},null,null,null,null,null,null,null,{"$f":"IF(C259='Üldine info'!$C$5,$B259,\"\")","v":""}]
[null,{"$f":"Tootmine!B56","v":"1XXXX"},{"$f":"Tootmine!C56","v":0},null,null,null,null,null,null,null,{"$f":"IF(C260='Üldine info'!$C$5,$B260,\"\")","v":""}]
[null,{"$f":"Tootmine!B57","v":"1XXXX"},{"$f":"Tootmine!C57","v":0},null,null,null,null,null,null,null,{"$f":"IF(C261='Üldine info'!$C$5,$B261,\"\")","v":""}]
[null,{"$f":"Tootmine!B58","v":"1XXXX"},{"$f":"Tootmine!C58","v":0},null,null,null,null,null,null,null,{"$f":"IF(C262='Üldine info'!$C$5,$B262,\"\")","v":""}]
[null,{"$f":"Tootmine!B59","v":"1XXXX"},{"$f":"Tootmine!C59","v":0},null,null,null,null,null,null,null,{"$f":"IF(C263='Üldine info'!$C$5,$B263,\"\")","v":""}]
[null,{"$f":"Tootmine!B60","v":"1XXXX"},{"$f":"Tootmine!C60","v":0},null,null,null,null,null,null,null,{"$f":"IF(C264='Üldine info'!$C$5,$B264,\"\")","v":""}]
[null,{"$f":"Tootmine!B61","v":"1XXXX"},{"$f":"Tootmine!C61","v":0},null,null,null,null,null,null,null,{"$f":"IF(C265='Üldine info'!$C$5,$B265,\"\")","v":""}]
[null,{"$f":"Tootmine!B62","v":"1XXXX"},{"$f":"Tootmine!C62","v":0},null,null,null,null,null,null,null,{"$f":"IF(C266='Üldine info'!$C$5,$B266,\"\")","v":""}]
[null,{"$f":"Tootmine!B63","v":"1XXXX"},{"$f":"Tootmine!C63","v":0},null,null,null,null,null,null,null,{"$f":"IF(C267='Üldine info'!$C$5,$B267,\"\")","v":""}]
[null,{"$f":"Tootmine!B64","v":"1XXXX"},{"$f":"Tootmine!C64","v":0},null,null,null,null,null,null,null,{"$f":"IF(C268='Üldine info'!$C$5,$B268,\"\")","v":""}]
[null,{"$f":"Tootmine!B65","v":"1XXXX"},{"$f":"Tootmine!C65","v":0},null,null,null,null,null,null,null,{"$f":"IF(C269='Üldine info'!$C$5,$B269,\"\")","v":""}]
[null,{"$f":"Tootmine!B66","v":"1XXXX"},{"$f":"Tootmine!C66","v":0},null,null,null,null,null,null,null,{"$f":"IF(C270='Üldine info'!$C$5,$B270,\"\")","v":""}]
[null,{"$f":"Tootmine!B67","v":"1XXXX"},{"$f":"Tootmine!C67","v":0},null,null,null,null,null,null,null,{"$f":"IF(C271='Üldine info'!$C$5,$B271,\"\")","v":""}]
[null,{"$f":"Tootmine!B68","v":"1XXXX"},{"$f":"Tootmine!C68","v":0},null,null,null,null,null,null,null,{"$f":"IF(C272='Üldine info'!$C$5,$B272,\"\")","v":""}]
[null,{"$f":"Tootmine!B69","v":"1XXXX"},{"$f":"Tootmine!C69","v":0},null,null,null,null,null,null,null,{"$f":"IF(C273='Üldine info'!$C$5,$B273,\"\")","v":""}]
[null,{"$f":"Tootmine!B70","v":"1XXXX"},{"$f":"Tootmine!C70","v":0},null,null,null,null,null,null,null,{"$f":"IF(C274='Üldine info'!$C$5,$B274,\"\")","v":""}]
[null,{"$f":"Tootmine!B71","v":"1XXXX"},{"$f":"Tootmine!C71","v":0},null,null,null,null,null,null,null,{"$f":"IF(C275='Üldine info'!$C$5,$B275,\"\")","v":""}]
[null,{"$f":"Tootmine!B72","v":"1XXXX"},{"$f":"Tootmine!C72","v":0},null,null,null,null,null,null,null,{"$f":"IF(C276='Üldine info'!$C$5,$B276,\"\")","v":""}]
[null,{"$f":"Tootmine!B73","v":"1XXXX"},{"$f":"Tootmine!C73","v":0},null,null,null,null,null,null,null,{"$f":"IF(C277='Üldine info'!$C$5,$B277,\"\")","v":""}]
[null,{"$f":"Tootmine!B74","v":"1XXXX"},{"$f":"Tootmine!C74","v":0},null,null,null,null,null,null,null,{"$f":"IF(C278='Üldine info'!$C$5,$B278,\"\")","v":""}]
[null,{"$f":"Tootmine!B75","v":"1XXXX"},{"$f":"Tootmine!C75","v":0},null,null,null,null,null,null,null,{"$f":"IF(C279='Üldine info'!$C$5,$B279,\"\")","v":""}]
[null,{"$f":"Tootmine!B76","v":"1XXXX"},{"$f":"Tootmine!C76","v":0},null,null,null,null,null,null,null,{"$f":"IF(C280='Üldine info'!$C$5,$B280,\"\")","v":""}]
[null,{"$f":"Tootmine!B77","v":"1XXXX"},{"$f":"Tootmine!C77","v":0},null,null,null,null,null,null,null,{"$f":"IF(C281='Üldine info'!$C$5,$B281,\"\")","v":""}]
[null,{"$f":"Tootmine!B78","v":"1XXXX"},{"$f":"Tootmine!C78","v":0},null,null,null,null,null,null,null,{"$f":"IF(C282='Üldine info'!$C$5,$B282,\"\")","v":""}]
[null,{"$f":"Tootmine!B79","v":"1XXXX"},{"$f":"Tootmine!C79","v":0},null,null,null,null,null,null,null,{"$f":"IF(C283='Üldine info'!$C$5,$B283,\"\")","v":""}]
[null,{"$f":"Tootmine!B80","v":"1XXXX"},{"$f":"Tootmine!C80","v":0},null,null,null,null,null,null,null,{"$f":"IF(C284='Üldine info'!$C$5,$B284,\"\")","v":""}]
[null,{"$f":"Tootmine!B81","v":"1XXXX"},{"$f":"Tootmine!C81","v":0},null,null,null,null,null,null,null,{"$f":"IF(C285='Üldine info'!$C$5,$B285,\"\")","v":""}]
[null,{"$f":"Tootmine!B82","v":"1XXXX"},{"$f":"Tootmine!C82","v":0},null,null,null,null,null,null,null,{"$f":"IF(C286='Üldine info'!$C$5,$B286,\"\")","v":""}]
[null,{"$f":"Tootmine!B83","v":"1XXXX"},{"$f":"Tootmine!C83","v":0},null,null,null,null,null,null,null,{"$f":"IF(C287='Üldine info'!$C$5,$B287,\"\")","v":""}]
[null,{"$f":"Tootmine!B84","v":"1XXXX"},{"$f":"Tootmine!C84","v":0},null,null,null,null,null,null,null,{"$f":"IF(C288='Üldine info'!$C$5,$B288,\"\")","v":""}]
[null,{"$f":"Tootmine!B85","v":"1XXXX"},{"$f":"Tootmine!C85","v":0},null,null,null,null,null,null,null,{"$f":"IF(C289='Üldine info'!$C$5,$B289,\"\")","v":""}]
[null,{"$f":"Tootmine!B86","v":"1XXXX"},{"$f":"Tootmine!C86","v":0},null,null,null,null,null,null,null,{"$f":"IF(C290='Üldine info'!$C$5,$B290,\"\")","v":""}]
[null,{"$f":"Tootmine!B87","v":"1XXXX"},{"$f":"Tootmine!C87","v":0},null,null,null,null,null,null,null,{"$f":"IF(C291='Üldine info'!$C$5,$B291,\"\")","v":""}]
[null,{"$f":"Tootmine!B88","v":"1XXXX"},{"$f":"Tootmine!C88","v":0},null,null,null,null,null,null,null,{"$f":"IF(C292='Üldine info'!$C$5,$B292,\"\")","v":""}]
[null,{"$f":"Tootmine!B89","v":"1XXXX"},{"$f":"Tootmine!C89","v":0},null,null,null,null,null,null,null,{"$f":"IF(C293='Üldine info'!$C$5,$B293,\"\")","v":""}]
[null,{"$f":"Tootmine!B90","v":"1XXXX"},{"$f":"Tootmine!C90","v":0},null,null,null,null,null,null,null,{"$f":"IF(C294='Üldine info'!$C$5,$B294,\"\")","v":""}]
[null,{"$f":"Tootmine!B91","v":"1XXXX"},{"$f":"Tootmine!C91","v":0},null,null,null,null,null,null,null,{"$f":"IF(C295='Üldine info'!$C$5,$B295,\"\")","v":""}]
[null,{"$f":"Tootmine!B92","v":"1XXXX"},{"$f":"Tootmine!C92","v":0},null,null,null,null,null,null,null,{"$f":"IF(C296='Üldine info'!$C$5,$B296,\"\")","v":""}]
[null,{"$f":"Tootmine!B93","v":"1XXXX"},{"$f":"Tootmine!C93","v":0},null,null,null,null,null,null,null,{"$f":"IF(C297='Üldine info'!$C$5,$B297,\"\")","v":""}]
[null,{"$f":"Tootmine!B94","v":"1XXXX"},{"$f":"Tootmine!C94","v":0},null,null,null,null,null,null,null,{"$f":"IF(C298='Üldine info'!$C$5,$B298,\"\")","v":""}]
[null,{"$f":"Tootmine!B95","v":"1XXXX"},{"$f":"Tootmine!C95","v":0},null,null,null,null,null,null,null,{"$f":"IF(C299='Üldine info'!$C$5,$B299,\"\")","v":""}]
[null,{"$f":"Tootmine!B96","v":"1XXXX"},{"$f":"Tootmine!C96","v":0},null,null,null,null,null,null,null,{"$f":"IF(C300='Üldine info'!$C$5,$B300,\"\")","v":""}]
[null,{"$f":"Tootmine!B97","v":"1XXXX"},{"$f":"Tootmine!C97","v":0},null,null,null,null,null,null,null,{"$f":"IF(C301='Üldine info'!$C$5,$B301,\"\")","v":""}]
[null,{"$f":"Tootmine!B98","v":"1XXXX"},{"$f":"Tootmine!C98","v":0},null,null,null,null,null,null,null,{"$f":"IF(C302='Üldine info'!$C$5,$B302,\"\")","v":""}]
[null,{"$f":"Tootmine!B99","v":"1XXXX"},{"$f":"Tootmine!C99","v":0},null,null,null,null,null,null,null,{"$f":"IF(C303='Üldine info'!$C$5,$B303,\"\")","v":""}]
[null,{"$f":"Tootmine!B100","v":"1XXXX"},{"$f":"Tootmine!C100","v":0},null,null,null,null,null,null,null,{"$f":"IF(C304='Üldine info'!$C$5,$B304,\"\")","v":""}]
[null,null,null,null,null,null,null,null,null,null,{"$f":"CONCATENATE(S187,K187,K188,K189,K190,K191,K192,K193,K194,K195,K196,K197,K198,K199,K200,K201,K202,K203,K204,K205,K206,K207,K208,K209,K210,K211,K212,K213,K214,K215,K216,K217,K218,K219,K220,K221,K222,K223,K224,K225,K226,K227,K228,K229,K230,K231,K232,K233,K234,K235,K236,K237,K238,K239,K240,K241,K242,K243,K244,K245,K246,K247,K248,K249,K250,K251,K252,K253,K254,K255,K256,K257,K258,K259,K260,K261,K262,K263,K264,K266,K265,K267,K268,K269,K270,K271,K272,K273,K274,K275,K276,K277,K278,K279,K280,K281,K282,K283,K284,K285,K286,K287,K288,K289,K290,K291,K292,K293,K294,K295,K296,K297,K298,K299,K300,K301,K302,K303,K304)","v":""},{"$f":"CONCATENATE(L3,L4,L5,L6,L7,L8,L9,L10,L11,L12,L13,L14,L15,L16,L18,L17,L19,L21,L20,L22,L23,L24,L25,L26,L27,L28,L30,L29,L31,L32,L33,L34,L35,L36,L37,L38,L39,L40,L41,L42,L43,L44,L45,L46,L47,L48,L49,L50,L51,L52,L53,L54,L55,L56,L57,L58,L59,L61,L60,L62,L63,L64,L65,L66,L67,L68,L69,L70,L71,L72,L73,L74,L75,L76,L77,L78,L79,L81,L80,L82,L84,L83,L85,L86,L88,L87,L89,L90,L91,L92,L94,L93,L95,L96,L97,L98,L99,L100,L101,L103,L102,L104,L105,L107,L106,L108,L109,L110,L111,L112,L113,L114,L115,L116,L117,L119,L118,L120,L121,L122,L123,L125,L124,L126,L127,L128,L129,L130,L131,L132,L133,L134,L135,L136,L137,L138,L139,L140,L141,L142,L143,L144,L145,L147,L146,L148,L150,L149,L152,L151,L153,L154,L155,L156,L158,L157,L159,L160,L161,L162,L163,L164,L165,L166,L167,L168,L169,L170,L171,L173,L172,L174,L175,L176,L177,L178,L179,L180,L181,L182,L183,L184,L185,L186,)","v":""},"4A0234A024","","","","",""]
[null,null,null,null,null,null,null,null,null,null,{"$f":"CONCATENATE(K305,L305,M305,N305,O305,P305,Q305,R305)","v":"4A0234A024"}]
[null,null,null,null,null,null,null,null,null,null,{"$f":"RIGHT(K306,5)","v":"4A024"}]
[null,null,null,null,null,null,null,null,null,null,{"$f":"IF(LEN(K306)=10,LEFT(K306,5),\"\")","v":"4A023"}]

{"sheet":"Artikli kirjeldus","index":5,"n_rows":1395,"n_cols":4,"rows_kept":1395,"cut":false,"hidden":false,"merged":[]}
[]
[null,"Artikkel","Kirjeldus","Otsimine"]
[null,"005-053C2-U1","Junior 2 valamu 53cm, U1",{"$f":"IF(B3='Üldine info'!$C$5,C3,\"\")","v":""}]
[null,"005-053C-U1","Junior valamu 53cm U1",{"$f":"IF(B4='Üldine info'!$C$5,C4,\"\")","v":""}]
[null,"005-060C-U1","Anne valamu 60cm, U1",{"$f":"IF(B5='Üldine info'!$C$5,C5,\"\")","v":""}]
[null,"005-080C-U1","Anne valamu 80cm, U1",{"$f":"IF(B6='Üldine info'!$C$5,C6,\"\")","v":""}]
[null,"005-090L-U1","Anne valamu 90cm, vasak, U1",{"$f":"IF(B7='Üldine info'!$C$5,C7,\"\")","v":""}]
[null,"005-090R-U1","Anne valamu 90cm, parem, U1",{"$f":"IF(B8='Üldine info'!$C$5,C8,\"\")","v":""}]
[null,"005-100L-U1","Anne valamu 100cm, vasak, U1",{"$f":"IF(B9='Üldine info'!$C$5,C9,\"\")","v":""}]
[null,"005-100R-U1","Anne valamu 100cm, parem, U1",{"$f":"IF(B10='Üldine info'!$C$5,C10,\"\")","v":""}]
[null,"005-120C-U1","Anne valamu 120cm, keskel, U1",{"$f":"IF(B11='Üldine info'!$C$5,C11,\"\")","v":""}]
[null,"005-120L-U1","Anne valamu 120cm, vasak, U1",{"$f":"IF(B12='Üldine info'!$C$5,C12,\"\")","v":""}]
[null,"005-120R-U1","Anne valamu 120cm, parem, U1",{"$f":"IF(B13='Üldine info'!$C$5,C13,\"\")","v":""}]
[null,"005-140C-U1","Anne valamu 140cm, keskel, U1",{"$f":"IF(B14='Üldine info'!$C$5,C14,\"\")","v":""}]
[null,"005-150D-U1","Anne valamu 150cm, kahene, U1",{"$f":"IF(B15='Üldine info'!$C$5,C15,\"\")","v":""}]
[null,"005-180C-U1","Anne valamu 180cm, keskel, U1",{"$f":"IF(B16='Üldine info'!$C$5,C16,\"\")","v":""}]
[null,"005-180L-U1","Anne valamu 180cm, vasak, U1",{"$f":"IF(B17='Üldine info'!$C$5,C17,\"\")","v":""}]
[null,"005-180R-U1","Anne valamu 180cm, parem, U1",{"$f":"IF(B18='Üldine info'!$C$5,C18,\"\")","v":""}]
[null,"005E-053C-U1","Junior valamu 53C, U1",{"$f":"IF(B19='Üldine info'!$C$5,C19,\"\")","v":""}]
[null,"005E-060C-U1","Anne valamu 60C, U1",{"$f":"IF(B20='Üldine info'!$C$5,C20,\"\")","v":""}]
[null,"005E-080C-U1","Anne valamu 80C, U1",{"$f":"IF(B21='Üldine info'!$C$5,C21,\"\")","v":""}]
[null,"005E-090L-U1","Anne valamu 90cm vasak U1",{"$f":"IF(B22='Üldine info'!$C$5,C22,\"\")","v":""}]
[null,"005E-090R-U1","Anne valamu 90R, U1",{"$f":"IF(B23='Üldine info'!$C$5,C23,\"\")","v":""}]
[null,"005E-100L-U1","Anne valamu 100cm vasak U1",{"$f":"IF(B24='Üldine info'!$C$5,C24,\"\")","v":""}]
[null,"005E-100R-U1","Anne valamu 100R, U1",{"$f":"IF(B25='Üldine info'!$C$5,C25,\"\")","v":""}]
[null,"005E-120C-U1","Anne valamu 120C, U1",{"$f":"IF(B26='Üldine info'!$C$5,C26,\"\")","v":""}]
[null,"005E-120L-U1","Anne valamu 120cm vasak U1",{"$f":"IF(B27='Üldine info'!$C$5,C27,\"\")","v":""}]
[null,"005E-120R-U1","Anne valamu 120R, U1",{"$f":"IF(B28='Üldine info'!$C$5,C28,\"\")","v":""}]
[null,"005E-140C-U1","Anne valamu 140C, U1",{"$f":"IF(B29='Üldine info'!$C$5,C29,\"\")","v":""}]
[null,"005E-180C-U1","Anne valamu 180C, U1",{"$f":"IF(B30='Üldine info'!$C$5,C30,\"\")","v":""}]
[null,"005E-180L-U1","Anne valamu 180L, U1",{"$f":"IF(B31='Üldine info'!$C$5,C31,\"\")","v":""}]
[null,"005E-180R-U1","Anne valamu 180R, U1",{"$f":"IF(B32='Üldine info'!$C$5,C32,\"\")","v":""}]
[null,"006-140C-U1","Abisko valamu 140cm, U1",{"$f":"IF(B33='Üldine info'!$C$5,C33,\"\")","v":""}]
[null,"007-150C-U1","Avangard valamu 150cm, U1",{"$f":"IF(B34='Üldine info'!$C$5,C34,\"\")","v":""}]
[null,"007-170C-U1","Avangard valamu 170cm, U1",{"$f":"IF(B35='Üldine info'!$C$5,C35,\"\")","v":""}]
[null,"008-060C-U1","Cl.Nova valamu 60cm, keskel,U1",{"$f":"IF(B36='Üldine info'!$C$5,C36,\"\")","v":""}]
[null,"008-080C-U1","Cl.Nova valamu 80, keskel, U1",{"$f":"IF(B37='Üldine info'!$C$5,C37,\"\")","v":""}]
[null,"008-090L-U1","Cl.Nova valamu 90cm, vasak, U1",{"$f":"IF(B38='Üldine info'!$C$5,C38,\"\")","v":""}]
[null,"008-090R-U1","Cl. Nova valamu 90, parem, U1",{"$f":"IF(B39='Üldine info'!$C$5,C39,\"\")","v":""}]
[null,"008-120C-U1","Cl.Nova valamu 120, keskel, U1",{"$f":"IF(B40='Üldine info'!$C$5,C40,\"\")","v":""}]
[null,"008-120D-U1","Cl.Nova valamu 120, kahene, U1",{"$f":"IF(B41='Üldine info'!$C$5,C41,\"\")","v":""}]
[null,"008E-060C-U1","Cl.Nova valamu 60C, U1",{"$f":"IF(B42='Üldine info'!$C$5,C42,\"\")","v":""}]
[null,"008E-080C-U1","Cl.Nova valamu 80C, U1",{"$f":"IF(B43='Üldine info'!$C$5,C43,\"\")","v":""}]
[null,"008E-090L-U1","Cl.Nova valamu 90L, U1",{"$f":"IF(B44='Üldine info'!$C$5,C44,\"\")","v":""}]
[null,"008E-090R-U1","Cl.Nova valamu 90R, U1",{"$f":"IF(B45='Üldine info'!$C$5,C45,\"\")","v":""}]
[null,"008E-120C-U1","Cl.Nova valamu 120C, U1",{"$f":"IF(B46='Üldine info'!$C$5,C46,\"\")","v":""}]
[null,"008E-120D-U1","Cl.Nova valamu 120D, U1",{"$f":"IF(B47='Üldine info'!$C$5,C47,\"\")","v":""}]
[null,"009-060C-U1","Eva valamu 60cm, keskel, U1",{"$f":"IF(B48='Üldine info'!$C$5,C48,\"\")","v":""}]
[null,"009-080C-U1","Eva valamu 80cm, keskel, U1",{"$f":"IF(B49='Üldine info'!$C$5,C49,\"\")","v":""}]
[null,"009E-060C-U1","Eva valamu 60C, U1",{"$f":"IF(B50='Üldine info'!$C$5,C50,\"\")","v":""}]
[null,"009E-080C-U1","Eva valamu 80cm, U1",{"$f":"IF(B51='Üldine info'!$C$5,C51,\"\")","v":""}]
[null,"014-060C-U1","Lähde valamu 60cm, keskel,  U1",{"$f":"IF(B52='Üldine info'!$C$5,C52,\"\")","v":""}]
[null,"014-100L-U1","Saga valamu 100cm, vasak, U1",{"$f":"IF(B53='Üldine info'!$C$5,C53,\"\")","v":""}]
[null,"014-100R-U1","Saga valamu 100cm, parem, U1",{"$f":"IF(B54='Üldine info'!$C$5,C54,\"\")","v":""}]
[null,"014-120L-U1","Saga valamu 120cm, vasak, U1",{"$f":"IF(B55='Üldine info'!$C$5,C55,\"\")","v":""}]
[null,"014-120R-U1","Saga valamu 120cm, parem, U1",{"$f":"IF(B56='Üldine info'!$C$5,C56,\"\")","v":""}]
[null,"014E-060C-U1","Lähde valamu 60cm, keskel, U1",{"$f":"IF(B57='Üldine info'!$C$5,C57,\"\")","v":""}]
[null,"014E-100L-U1","Saga valamu 100cm vasak U1",{"$f":"IF(B58='Üldine info'!$C$5,C58,\"\")","v":""}]
[null,"014E-120L-U1","Saga valamu 120L, U1",{"$f":"IF(B59='Üldine info'!$C$5,C59,\"\")","v":""}]
[null,"014E-120R-U1","Saga valamu 120R, U1",{"$f":"IF(B60='Üldine info'!$C$5,C60,\"\")","v":""}]
[null,"015-060C-U1","Ocean valamu 60cm, keskel, U1",{"$f":"IF(B61='Üldine info'!$C$5,C61,\"\")","v":""}]
[null,"015-080C-U1","Ocean valamu 80cm, keskel, U1",{"$f":"IF(B62='Üldine info'!$C$5,C62,\"\")","v":""}]
[null,"015-120C-U1","Ocean valamu 120cm, keskel, U1",{"$f":"IF(B63='Üldine info'!$C$5,C63,\"\")","v":""}]
[null,"015-140F-U1","Ocean valamu 140F, U1, valge",{"$f":"IF(B64='Üldine info'!$C$5,C64,\"\")","v":""}]
[null,"015E-060C-U1","Ocean valamu 60cm, keskel, U1",{"$f":"IF(B65='Üldine info'!$C$5,C65,\"\")","v":""}]
[null,"015E-120C-U1","Ocean valamu 120cm, keskel, U1",{"$f":"IF(B66='Üldine info'!$C$5,C66,\"\")","v":""}]
[null,"015E-140F-U1","Ocean F valamu 140cm U1",{"$f":"IF(B67='Üldine info'!$C$5,C67,\"\")","v":""}]
[null,"015-X-U1","Ocean Klapp Valge",{"$f":"IF(B68='Üldine info'!$C$5,C68,\"\")","v":""}]
[null,"017-061C-U1","Valamu ONYX/BARLO, 61cm, keske",{"$f":"IF(B69='Üldine info'!$C$5,C69,\"\")","v":""}]
[null,"017-061CY-U1","NYX/BARLO, 61cm, ülevooluga",{"$f":"IF(B70='Üldine info'!$C$5,C70,\"\")","v":""}]
[null,"017-078C-U1","Aqua valamu 78cm, U1",{"$f":"IF(B71='Üldine info'!$C$5,C71,\"\")","v":""}]
[null,"017-080C-U1","Aqua Plus valamu 80cm, U1",{"$f":"IF(B72='Üldine info'!$C$5,C72,\"\")","v":""}]
[null,"017-110L-U1","Aq.Plus valamu 110, vasak, U1",{"$f":"IF(B73='Üldine info'!$C$5,C73,\"\")","v":""}]
[null,"017-110R-U1","Aq.Plus valamu 110, parem, U1",{"$f":"IF(B74='Üldine info'!$C$5,C74,\"\")","v":""}]
[null,"017-120C-U1","Valamu ONYX/BARLO, 120cm, kesk",{"$f":"IF(B75='Üldine info'!$C$5,C75,\"\")","v":""}]
[null,"017-120CY-U1","ONYX/BARLO, 120cm, ülevooluga",{"$f":"IF(B76='Üldine info'!$C$5,C76,\"\")","v":""}]
[null,"017-140C-U1","Aq.Plus valamu 140, keskel, U1",{"$f":"IF(B77='Üldine info'!$C$5,C77,\"\")","v":""}]
[null,"017-141C-U1","Lunic valamu 141cm, keskel, U1",{"$f":"IF(B78='Üldine info'!$C$5,C78,\"\")","v":""}]
[null,"017E-080C-U1","Aqua Plus valamu 80cm, U1",{"$f":"IF(B79='Üldine info'!$C$5,C79,\"\")","v":""}]
[null,"017E-110L-U1","Aq.Plus valamu 110L, U1",{"$f":"IF(B80='Üldine info'!$C$5,C80,\"\")","v":""}]
[null,"017E-110R-U1","Aq.Plus valamu 110R, U1",{"$f":"IF(B81='Üldine info'!$C$5,C81,\"\")","v":""}]
[null,"017E-140C-U1","Aq.Plus valamu 140C, U1",{"$f":"IF(B82='Üldine info'!$C$5,C82,\"\")","v":""}]
[null,"017P-061C-U1","Onyx valamu 61cm, keskel, U1",{"$f":"IF(B83='Üldine info'!$C$5,C83,\"\")","v":""}]
[null,"017P-080C-U1","Aqua Plus valamu 80cm, U1",{"$f":"IF(B84='Üldine info'!$C$5,C84,\"\")","v":""}]
[null,"017P-090C-U1","Onyx valamu 90cm, U1",{"$f":"IF(B85='Üldine info'!$C$5,C85,\"\")","v":""}]
[null,"017P-090CY-U1","Onyx 90cm, U1, ülevooluga",{"$f":"IF(B86='Üldine info'!$C$5,C86,\"\")","v":""}]
[null,"017P-110L-U1","Aq.Plus valamu 110, vasak, U1",{"$f":"IF(B87='Üldine info'!$C$5,C87,\"\")","v":""}]
[null,"017P-110R-U1","Aq.Plus valamu 110, parem, U1",{"$f":"IF(B88='Üldine info'!$C$5,C88,\"\")","v":""}]
[null,"017P-120/2-U1","Onyx valamu 120cm, kahene, U1",{"$f":"IF(B89='Üldine info'!$C$5,C89,\"\")","v":""}]
[null,"017P-120/2Y-U1","Onyx 120cm, kahene, U1,ülevool",{"$f":"IF(B90='Üldine info'!$C$5,C90,\"\")","v":""}]
[null,"017P-120C-U1","Onyx valamu 120cm, keskel, U1",{"$f":"IF(B91='Üldine info'!$C$5,C91,\"\")","v":""}]
[null,"017P-140C-U1","Aq.Plus valamu 140, keskel, U1",{"$f":"IF(B92='Üldine info'!$C$5,C92,\"\")","v":""}]
[null,"017P-141C-U1","Lunic valamu 141cm, keskel, U1",{"$f":"IF(B93='Üldine info'!$C$5,C93,\"\")","v":""}]
[null,"018-060C-U1","Cl.Comfort valamu 60cm, U1",{"$f":"IF(B94='Üldine info'!$C$5,C94,\"\")","v":""}]
[null,"018-090L-U1","Cl.Comfort valamu 90, vas., U1",{"$f":"IF(B95='Üldine info'!$C$5,C95,\"\")","v":""}]
[null,"018-090R-U1","Cl.Comfort valamu 90, par., U1",{"$f":"IF(B96='Üldine info'!$C$5,C96,\"\")","v":""}]
[null,"018-120C-U1","Cl.Comfort valamu 120cm, U1",{"$f":"IF(B97='Üldine info'!$C$5,C97,\"\")","v":""}]
[null,"018E-090L-U1","Cl.Comfort valamu 90L, U1",{"$f":"IF(B98='Üldine info'!$C$5,C98,\"\")","v":""}]
[null,"019-060C-U1","Smart valamu 60cm, U1",{"$f":"IF(B99='Üldine info'!$C$5,C99,\"\")","v":""}]
[null,"019-090L-U1","Smart valamu 90cm, vasak, U1",{"$f":"IF(B100='Üldine info'!$C$5,C100,\"\")","v":""}]
[null,"019-090R-U1","Smart valamu 90cm, parem, U1",{"$f":"IF(B101='Üldine info'!$C$5,C101,\"\")","v":""}]
[null,"019-120C-U1","Smart valamu 120cm, keskel, U1",{"$f":"IF(B102='Üldine info'!$C$5,C102,\"\")","v":""}]
[null,"019E-060C-U1","Smart basin 60C, U1",{"$f":"IF(B103='Üldine info'!$C$5,C103,\"\")","v":""}]
[null,"019E-120C-U1","Smart valamu 120C, U1",{"$f":"IF(B104='Üldine info'!$C$5,C104,\"\")","v":""}]
[null,"021-107L-U1","Wb. 1072mm, TYPE 1, U1, vasak",{"$f":"IF(B105='Üldine info'!$C$5,C105,\"\")","v":""}]
[null,"021-120L-U1","Eagle 1198mm TYPE 2B U1 vasak",{"$f":"IF(B106='Üldine info'!$C$5,C106,\"\")","v":""}]
[null,"021-120LX-U1","Eagle 1198mm L, seebi alus-ta ",{"$f":"IF(B107='Üldine info'!$C$5,C107,\"\")","v":""}]
[null,"021-120R-U1","Eagle 1198mm TYPE 2A U1 parem",{"$f":"IF(B108='Üldine info'!$C$5,C108,\"\")","v":""}]
[null,"021-120RX-U1","Eagle 1198mm R, seebi alus-ta ",{"$f":"IF(B109='Üldine info'!$C$5,C109,\"\")","v":""}]
[null,"022-018C-U1","Pollux valamu P018 / 450mm",{"$f":"IF(B110='Üldine info'!$C$5,C110,\"\")","v":""}]
[null,"022-020C-U1","Pollux valamu, 33,5cm",{"$f":"IF(B111='Üldine info'!$C$5,C111,\"\")","v":""}]
[null,"022-039CL-U1","Luna valamu 39cm Vasak, U1",{"$f":"IF(B112='Üldine info'!$C$5,C112,\"\")","v":""}]
[null,"022-039CR-U1","Luna valamu 39cm Parem, U1",{"$f":"IF(B113='Üldine info'!$C$5,C113,\"\")","v":""}]
[null,"022-055C0-U1","Aino 80cm, U1, käepidemeta",{"$f":"IF(B114='Üldine info'!$C$5,C114,\"\")","v":""}]
[null,"022-060C0-U1","Senior 60, U1, käepidemeta",{"$f":"IF(B115='Üldine info'!$C$5,C115,\"\")","v":""}]
[null,"022-060C1-U1","Senior 60, U1, valge käepide",{"$f":"IF(B116='Üldine info'!$C$5,C116,\"\")","v":""}]
[null,"022-060C2-U1","Senior 60, U1, punane käepide",{"$f":"IF(B117='Üldine info'!$C$5,C117,\"\")","v":""}]
[null,"022-060C3-U1","Senior 60, U1, kollane käepide",{"$f":"IF(B118='Üldine info'!$C$5,C118,\"\")","v":""}]
[null,"022-060C4-U1","Senior 60, U1, hall käepide",{"$f":"IF(B119='Üldine info'!$C$5,C119,\"\")","v":""}]
[null,"022-060C5-U1","Senior 60, U1, kroom. käepide",{"$f":"IF(B120='Üldine info'!$C$5,C120,\"\")","v":""}]
[null,"022-073C0-U1","G.Hospital 73cm, käepidemeta",{"$f":"IF(B121='Üldine info'!$C$5,C121,\"\")","v":""}]
[null,"022-073C7-U1","G. Hospital 73, punane elast.k",{"$f":"IF(B122='Üldine info'!$C$5,C122,\"\")","v":""}]
[null,"022-073C8-U1","G. Hospital 73,kollane elast.k",{"$f":"IF(B123='Üldine info'!$C$5,C123,\"\")","v":""}]
[null,"022-073C9-U1","G. Hospital 73, hall elast.k.",{"$f":"IF(B124='Üldine info'!$C$5,C124,\"\")","v":""}]
[null,"022-073CE7-U1","G.Hosp,puna.elast.k,ülev-ta",{"$f":"IF(B125='Üldine info'!$C$5,C125,\"\")","v":""}]
[null,"022-073CE8-U1","G.Hosp,kollan.elast.k,ülev-ta",{"$f":"IF(B126='Üldine info'!$C$5,C126,\"\")","v":""}]
[null,"022-073CE9-U1","G.Hosp,hall.elast.k,ülev-ta",{"$f":"IF(B127='Üldine info'!$C$5,C127,\"\")","v":""}]
[null,"022-080L0-U1","G.Mini 80L,  U1, käepidemeta",{"$f":"IF(B128='Üldine info'!$C$5,C128,\"\")","v":""}]
[null,"022-080L1-U1","G.Mini 80L, U1, valge käepide",{"$f":"IF(B129='Üldine info'!$C$5,C129,\"\")","v":""}]
[null,"022-080L2-U1","G.Mini 80L, U1, punane käepide",{"$f":"IF(B130='Üldine info'!$C$5,C130,\"\")","v":""}]
[null,"022-080L3-U1","G.Mini 80L, U1,kollane käepide",{"$f":"IF(B131='Üldine info'!$C$5,C131,\"\")","v":""}]
[null,"022-080L4-U1","G.Mini 80L, U1, hall käepide",{"$f":"IF(B132='Üldine info'!$C$5,C132,\"\")","v":""}]
[null,"022-080R0-U1","G.Mini 80R, U1, käepidemeta",{"$f":"IF(B133='Üldine info'!$C$5,C133,\"\")","v":""}]
[null,"022-080R1-U1","G.Mini 80R, U1, valge käepide",{"$f":"IF(B134='Üldine info'!$C$5,C134,\"\")","v":""}]
[null,"022-080R2-U1","G.Mini 80R, U1, punane käepide",{"$f":"IF(B135='Üldine info'!$C$5,C135,\"\")","v":""}]
[null,"022-080R3-U1","G.Mini 80R, U1,kollane käepide",{"$f":"IF(B136='Üldine info'!$C$5,C136,\"\")","v":""}]
[null,"022-080R4-U1","G.Mini 80R, U1, hall käepide",{"$f":"IF(B137='Üldine info'!$C$5,C137,\"\")","v":""}]
[null,"022-090L0-U1","Senior 90L, U1, käepidemeta",{"$f":"IF(B138='Üldine info'!$C$5,C138,\"\")","v":""}]
[null,"022-090L1-U1","Senior 90L, U1, valge käepide",{"$f":"IF(B139='Üldine info'!$C$5,C139,\"\")","v":""}]
[null,"022-090L2-U1","Senior 90L, U1, punane käepide",{"$f":"IF(B140='Üldine info'!$C$5,C140,\"\")","v":""}]
[null,"022-090L3-U1","Senior 90L, U1,kollane käepide",{"$f":"IF(B141='Üldine info'!$C$5,C141,\"\")","v":""}]
[null,"022-090L4-U1","Senior 90L, U1, hall käepide",{"$f":"IF(B142='Üldine info'!$C$5,C142,\"\")","v":""}]
[null,"022-090L5-U1","Senior 90L, U1, kroom. käepide",{"$f":"IF(B143='Üldine info'!$C$5,C143,\"\")","v":""}]
[null,"022-090R0-U1","Senior 90R, U1, käepidemeta",{"$f":"IF(B144='Üldine info'!$C$5,C144,\"\")","v":""}]
[null,"022-090R1-U1","Senior 90R, U1, valge käepide",{"$f":"IF(B145='Üldine info'!$C$5,C145,\"\")","v":""}]
[null,"022-090R2-U1","Senior 90R, U1,punane käepide",{"$f":"IF(B146='Üldine info'!$C$5,C146,\"\")","v":""}]
[null,"022-090R3-U1","Senior 90R, U1,kollane käepide",{"$f":"IF(B147='Üldine info'!$C$5,C147,\"\")","v":""}]
[null,"022-090R4-U1","Senior 90R, U1, hall käepide",{"$f":"IF(B148='Üldine info'!$C$5,C148,\"\")","v":""}]
[null,"022-090R5-U1","Senior 90R, U1, kroom. käepide",{"$f":"IF(B149='Üldine info'!$C$5,C149,\"\")","v":""}]
[null,"022-100L0-U1","G.Original 100L,U1,käepidemeta",{"$f":"IF(B150='Üldine info'!$C$5,C150,\"\")","v":""}]
[null,"022-100L11-U1","G.Original 100cm vasak, valge",{"$f":"IF(B151='Üldine info'!$C$5,C151,\"\")","v":""}]
[null,"022-100L1-U1","G.Original 100L,U1,valge käep.",{"$f":"IF(B152='Üldine info'!$C$5,C152,\"\")","v":""}]
[null,"022-100L21-U1","G.Original 100cm vasak, punane",{"$f":"IF(B153='Üldine info'!$C$5,C153,\"\")","v":""}]
[null,"022-100L2-U1","G.Original 100L,U1,punane käep",{"$f":"IF(B154='Üldine info'!$C$5,C154,\"\")","v":""}]
[null,"022-100L31-U1","G.Original 100cm vasak, kollan",{"$f":"IF(B155='Üldine info'!$C$5,C155,\"\")","v":""}]
[null,"022-100L3-U1","G.Original 100L, kollane käep",{"$f":"IF(B156='Üldine info'!$C$5,C156,\"\")","v":""}]
[null,"022-100L41-U1","G.Original 100cm vasak, hall",{"$f":"IF(B157='Üldine info'!$C$5,C157,\"\")","v":""}]
[null,"022-100L4-U1","G.Original 100L, hall käepide",{"$f":"IF(B158='Üldine info'!$C$5,C158,\"\")","v":""}]
[null,"022-100L5-U1","G.Original 100L, kroom käepide",{"$f":"IF(B159='Üldine info'!$C$5,C159,\"\")","v":""}]
[null,"022-100L6-U1","G.Original 100L, RV käepide",{"$f":"IF(B160='Üldine info'!$C$5,C160,\"\")","v":""}]
[null,"022-100L7-U1","G.Original 100L, punane elast",{"$f":"IF(B161='Üldine info'!$C$5,C161,\"\")","v":""}]
[null,"022-100L8-U1","G.Original 100L, kollane elast",{"$f":"IF(B162='Üldine info'!$C$5,C162,\"\")","v":""}]
[null,"022-100L9-U1","G.Original 100L, U1,hall elast",{"$f":"IF(B163='Üldine info'!$C$5,C163,\"\")","v":""}]
[null,"022-100LE3-U1","G.Orig. 100L,kol.käep  ülev-ta",{"$f":"IF(B164='Üldine info'!$C$5,C164,\"\")","v":""}]
[null,"022-100R0-U1","G.Original 100R, käepidemeta",{"$f":"IF(B165='Üldine info'!$C$5,C165,\"\")","v":""}]
[null,"022-100R11-U1","G.Original 100cm parem, valge",{"$f":"IF(B166='Üldine info'!$C$5,C166,\"\")","v":""}]
[null,"022-100R1-U1","G.Original 100R, valge käepide",{"$f":"IF(B167='Üldine info'!$C$5,C167,\"\")","v":""}]
[null,"022-100R21-U1","G.Original 100cm parem, punane",{"$f":"IF(B168='Üldine info'!$C$5,C168,\"\")","v":""}]
[null,"022-100R2-U1","G.Original 100R,punane käepide",{"$f":"IF(B169='Üldine info'!$C$5,C169,\"\")","v":""}]
[null,"022-100R31-U1","G.Original 100cm parem,kollane",{"$f":"IF(B170='Üldine info'!$C$5,C170,\"\")","v":""}]
[null,"022-100R3-U1","G.Original 100R,kollane käe-de",{"$f":"IF(B171='Üldine info'!$C$5,C171,\"\")","v":""}]
[null,"022-100R41-U1","G.Original 100cm parem, hall",{"$f":"IF(B172='Üldine info'!$C$5,C172,\"\")","v":""}]
[null,"022-100R4-U1","G.Original 100R, hall käepide",{"$f":"IF(B173='Üldine info'!$C$5,C173,\"\")","v":""}]
[null,"022-100R5-U1","G.Original 100R, kroom.käepide",{"$f":"IF(B174='Üldine info'!$C$5,C174,\"\")","v":""}]
[null,"022-100R6-U1","G.Original 100R, RV käepide",{"$f":"IF(B175='Üldine info'!$C$5,C175,\"\")","v":""}]
[null,"022-100R7-U1","G.Original 100R, pun. elast.",{"$f":"IF(B176='Üldine info'!$C$5,C176,\"\")","v":""}]
[null,"022-100R8-U1","G.Original 100R, kollane elast",{"$f":"IF(B177='Üldine info'!$C$5,C177,\"\")","v":""}]
[null,"022-100R9-U1","G.Original 100R, hall elast",{"$f":"IF(B178='Üldine info'!$C$5,C178,\"\")","v":""}]
[null,"022-100RE3-U1","G.Orig. 100R,kol.käep  ülev-ta",{"$f":"IF(B179='Üldine info'!$C$5,C179,\"\")","v":""}]
[null,"022-100RE4-U1","G.Orig. 100R,hall käep. üle-ta",{"$f":"IF(B180='Üldine info'!$C$5,C180,\"\")","v":""}]
[null,"022-120C0-U1","Senior 120C, U1, käepidemeta",{"$f":"IF(B181='Üldine info'!$C$5,C181,\"\")","v":""}]
[null,"022-120C1-U1","Senior 120C, U1, valge käepide",{"$f":"IF(B182='Üldine info'!$C$5,C182,\"\")","v":""}]
[null,"022-120C2-U1","Senior 120C, U1,punane käepide",{"$f":"IF(B183='Üldine info'!$C$5,C183,\"\")","v":""}]
[null,"022-120C3-U1","Senior 120C,U1,kollane käepide",{"$f":"IF(B184='Üldine info'!$C$5,C184,\"\")","v":""}]
[null,"022-120C4-U1","Senior 120C, U1,hall käepide",{"$f":"IF(B185='Üldine info'!$C$5,C185,\"\")","v":""}]
[null,"022-120C5-U1","Senior 120C, U1,kroom. käepide",{"$f":"IF(B186='Üldine info'!$C$5,C186,\"\")","v":""}]
[null,"022-132R2-U1","Tupla 132cm,puna.käep, par. U1",{"$f":"IF(B187='Üldine info'!$C$5,C187,\"\")","v":""}]
[null,"022-132R3-U1","Tupla 132cm,koll.käep, par. U1",{"$f":"IF(B188='Üldine info'!$C$5,C188,\"\")","v":""}]
[null,"022-150L0-U1","G.Plus 150L, U1, käepidemeta",{"$f":"IF(B189='Üldine info'!$C$5,C189,\"\")","v":""}]
[null,"022-150L1-U1","G.Plus 150L, U1, valge käepide",{"$f":"IF(B190='Üldine info'!$C$5,C190,\"\")","v":""}]
[null,"022-150L2-U1","G.Plus 150L, U1,punane käepide",{"$f":"IF(B191='Üldine info'!$C$5,C191,\"\")","v":""}]
[null,"022-150L3-U1","G.Plus 150L, kollane käepide",{"$f":"IF(B192='Üldine info'!$C$5,C192,\"\")","v":""}]
[null,"022-150L4-U1","G.Plus 150L, U1, hall käepide",{"$f":"IF(B193='Üldine info'!$C$5,C193,\"\")","v":""}]
[null,"022-150L6-U1","G.Plus 150L, U1, RV käepide",{"$f":"IF(B194='Üldine info'!$C$5,C194,\"\")","v":""}]
[null,"022-150L7-U1","G.Plus 150L, U1, punane elast",{"$f":"IF(B195='Üldine info'!$C$5,C195,\"\")","v":""}]
[null,"022-150L8-U1","G.Plus 150L, U1, kollane elast",{"$f":"IF(B196='Üldine info'!$C$5,C196,\"\")","v":""}]
[null,"022-150L9-U1","G.Plus 150L, U1, hall elast",{"$f":"IF(B197='Üldine info'!$C$5,C197,\"\")","v":""}]
[null,"022-150LE4-U1","G.Plus 150L,hall käep. ülev-ta",{"$f":"IF(B198='Üldine info'!$C$5,C198,\"\")","v":""}]
[null,"022-150PL1-U1","G.Public 150L, valge käepide",{"$f":"IF(B199='Üldine info'!$C$5,C199,\"\")","v":""}]
[null,"022-150PL2-U1","G.Public 150L, punane käepide",{"$f":"IF(B200='Üldine info'!$C$5,C200,\"\")","v":""}]
[null,"022-150PL3-U1","G.Public 150L, kollane käepide",{"$f":"IF(B201='Üldine info'!$C$5,C201,\"\")","v":""}]
[null,"022-150PL4-U1","G.Public 150L, hall käepide",{"$f":"IF(B202='Üldine info'!$C$5,C202,\"\")","v":""}]
[null,"022-150PL6-U1","G.Public 150L, RVkäepide",{"$f":"IF(B203='Üldine info'!$C$5,C203,\"\")","v":""}]
[null,"022-150PL7-U1","G.Public  150L, punane elast",{"$f":"IF(B204='Üldine info'!$C$5,C204,\"\")","v":""}]
[null,"022-150PL8-U1","G.Public  150L, kollane elast",{"$f":"IF(B205='Üldine info'!$C$5,C205,\"\")","v":""}]
[null,"022-150PL9-U1","G.Public  150L, hall elast",{"$f":"IF(B206='Üldine info'!$C$5,C206,\"\")","v":""}]
[null,"022-150PLE6-U1","G.Pub 150L, RV käep. ülev-ta",{"$f":"IF(B207='Üldine info'!$C$5,C207,\"\")","v":""}]
[null,"022-150PR0-U1","G.Public  150R, U1,käepidemeta",{"$f":"IF(B208='Üldine info'!$C$5,C208,\"\")","v":""}]
[null,"022-150PR1-U1","G.Public  150R, valge käepide",{"$f":"IF(B209='Üldine info'!$C$5,C209,\"\")","v":""}]
[null,"022-150PR2-U1","G.Public  150R, punane käepide",{"$f":"IF(B210='Üldine info'!$C$5,C210,\"\")","v":""}]
[null,"022-150PR3-U1","G.Public  150R,kollane käepide",{"$f":"IF(B211='Üldine info'!$C$5,C211,\"\")","v":""}]
[null,"022-150PR4-U1","G.Public  150R, hall käepide",{"$f":"IF(B212='Üldine info'!$C$5,C212,\"\")","v":""}]
[null,"022-150PR6-U1","G.Public  150R, RV käepide",{"$f":"IF(B213='Üldine info'!$C$5,C213,\"\")","v":""}]
[null,"022-150PR7-U1","G.Public  150R, punane elast",{"$f":"IF(B214='Üldine info'!$C$5,C214,\"\")","v":""}]
[null,"022-150PR8-U1","G.Public  150R, kollane elast",{"$f":"IF(B215='Üldine info'!$C$5,C215,\"\")","v":""}]
[null,"022-150PR9-U1","G.Public  150R, hall elast",{"$f":"IF(B216='Üldine info'!$C$5,C216,\"\")","v":""}]
[null,"022-150PRE6-U1","G.Pub 150R, RV käep. ülev-ta",{"$f":"IF(B217='Üldine info'!$C$5,C217,\"\")","v":""}]
[null,"022-150R0-U1","G.Plus 150R, U1, käepidemeta",{"$f":"IF(B218='Üldine info'!$C$5,C218,\"\")","v":""}]
[null,"022-150R1-U1","G.Plus 150R, valge käepide",{"$f":"IF(B219='Üldine info'!$C$5,C219,\"\")","v":""}]
[null,"022-150R2-U1","G.Plus 150R, punane käepide",{"$f":"IF(B220='Üldine info'!$C$5,C220,\"\")","v":""}]
[null,"022-150R3-U1","G.Plus 150R, kollane käepide",{"$f":"IF(B221='Üldine info'!$C$5,C221,\"\")","v":""}]
[null,"022-150R4-U1","G.Plus 150R, hall käepide",{"$f":"IF(B222='Üldine info'!$C$5,C222,\"\")","v":""}]
[null,"022-150R6-U1","G.Plus 150R, RV käepide",{"$f":"IF(B223='Üldine info'!$C$5,C223,\"\")","v":""}]
[null,"022-150R7-U1","G.Plus 150R, punane elast",{"$f":"IF(B224='Üldine info'!$C$5,C224,\"\")","v":""}]
[null,"022-150R8-U1","G.Plus 150R, kollane elast",{"$f":"IF(B225='Üldine info'!$C$5,C225,\"\")","v":""}]
[null,"022-150R9-U1","G.Plus 150R, hall elast",{"$f":"IF(B226='Üldine info'!$C$5,C226,\"\")","v":""}]
[null,"022-150RE4-U1","G.Plus 150R,hall käep. ülev-ta",{"$f":"IF(B227='Üldine info'!$C$5,C227,\"\")","v":""}]
[null,"023-060C-U1","Alveus valamu 60cm, U1",{"$f":"IF(B228='Üldine info'!$C$5,C228,\"\")","v":""}]
[null,"023-060F-U1","Alveus valamu 60cm, U1",{"$f":"IF(B229='Üldine info'!$C$5,C229,\"\")","v":""}]
[null,"023-080C-U1","Alveus valamu 80cm, U1",{"$f":"IF(B230='Üldine info'!$C$5,C230,\"\")","v":""}]
[null,"023-080F-U1","Alveus F valamu 80, integ., U1",{"$f":"IF(B231='Üldine info'!$C$5,C231,\"\")","v":""}]
[null,"023-120C-U1","Alveus valamu 120cm, U1",{"$f":"IF(B232='Üldine info'!$C$5,C232,\"\")","v":""}]
[null,"023-120D-U1","Alveus  120, 2 segisti ava,U1",{"$f":"IF(B233='Üldine info'!$C$5,C233,\"\")","v":""}]
[null,"023-120F-U1","Alveus F 120, 2 segisti ava,U1",{"$f":"IF(B234='Üldine info'!$C$5,C234,\"\")","v":""}]
[null,"023-A200-U1","Inspira A valamu 43cm, U1",{"$f":"IF(B235='Üldine info'!$C$5,C235,\"\")","v":""}]
[null,"023-AM200-U1","Inspira A Maxi valamu 48cm, U1",{"$f":"IF(B236='Üldine info'!$C$5,C236,\"\")","v":""}]
[null,"023-C200-U1","Inspira C valamu 43cm, U1",{"$f":"IF(B237='Üldine info'!$C$5,C237,\"\")","v":""}]
[null,"023-CXS20-U1","Cuadrato XS valamu 46,5cm, U1",{"$f":"IF(B238='Üldine info'!$C$5,C238,\"\")","v":""}]
[null,"023-D200-U1","Inspira D valamu 43cm, U1",{"$f":"IF(B239='Üldine info'!$C$5,C239,\"\")","v":""}]
[null,"023-DC200-U1","Inspira DC valamu 43cm, U1",{"$f":"IF(B240='Üldine info'!$C$5,C240,\"\")","v":""}]
[null,"023E-060C-U1","Alveus 60C, U1",{"$f":"IF(B241='Üldine info'!$C$5,C241,\"\")","v":""}]
[null,"023E-120D-U1","Alveus  120, 2 segisti ava,U1",{"$f":"IF(B242='Üldine info'!$C$5,C242,\"\")","v":""}]
[null,"023E-A200-U1","Inspira A valamu 43cm, U1",{"$f":"IF(B243='Üldine info'!$C$5,C243,\"\")","v":""}]
[null,"023E-C200-U1","Inspira C valamu 43cm, U1",{"$f":"IF(B244='Üldine info'!$C$5,C244,\"\")","v":""}]
[null,"023E-CXS20-U1","Cuadrato XS valamu 46,5cm, U1",{"$f":"IF(B245='Üldine info'!$C$5,C245,\"\")","v":""}]
[null,"023E-DC200-U1","Inspira DC valamu 43cm, U1",{"$f":"IF(B246='Üldine info'!$C$5,C246,\"\")","v":""}]
[null,"023E-F200-U1","Inspira F valamu 43cm U1",{"$f":"IF(B247='Üldine info'!$C$5,C247,\"\")","v":""}]
[null,"023E-FC200-U1","Inspira FC valamu 43cm U1",{"$f":"IF(B248='Üldine info'!$C$5,C248,\"\")","v":""}]
[null,"023-F200-U1","Inspira F valamu 43cm, U1",{"$f":"IF(B249='Üldine info'!$C$5,C249,\"\")","v":""}]
[null,"023-FC200-U1","Inspira FC valamu 43cm, U1",{"$f":"IF(B250='Üldine info'!$C$5,C250,\"\")","v":""}]
[null,"023-FCM200-U1","Inspira FC Maxi valamu 48cm,U1",{"$f":"IF(B251='Üldine info'!$C$5,C251,\"\")","v":""}]
[null,"023-FM200-U1","Inspira F Maxi valamu 48cm, U1",{"$f":"IF(B252='Üldine info'!$C$5,C252,\"\")","v":""}]
[null,"023S-120F-U1","Alveus F 120, 2 seg.ava",{"$f":"IF(B253='Üldine info'!$C$5,C253,\"\")","v":""}]
[null,"024-050C-U1","Stone Tec valamu 50cm, U1",{"$f":"IF(B254='Üldine info'!$C$5,C254,\"\")","v":""}]
[null,"024-075C-U1","StoneTec valamu, 75cm, U1",{"$f":"IF(B255='Üldine info'!$C$5,C255,\"\")","v":""}]
[null,"024-090C-U1","Viva Style valamu 90cm, U1",{"$f":"IF(B256='Üldine info'!$C$5,C256,\"\")","v":""}]
[null,"024-091C-U1","Esprit valamu 90cm, keskel, U1",{"$f":"IF(B257='Üldine info'!$C$5,C257,\"\")","v":""}]
[null,"024-100C-U1","Quadrato valamu 100cm, U1",{"$f":"IF(B258='Üldine info'!$C$5,C258,\"\")","v":""}]
[null,"024-120L-U1","Viva Style valamu 120cm, vasak",{"$f":"IF(B259='Üldine info'!$C$5,C259,\"\")","v":""}]
[null,"024-120R-U1","Viva Style valamu 120cm, parem",{"$f":"IF(B260='Üldine info'!$C$5,C260,\"\")","v":""}]
[null,"024-150C-U1","Viva Style valamu 150cm, U1",{"$f":"IF(B261='Üldine info'!$C$5,C261,\"\")","v":""}]
[null,"024-A040-U1","Tamago ADP töötasapind 40cm,U1",{"$f":"IF(B262='Üldine info'!$C$5,C262,\"\")","v":""}]
[null,"024-A080-U1","Tamago ADP töötasapind 80cm,U1",{"$f":"IF(B263='Üldine info'!$C$5,C263,\"\")","v":""}]
[null,"024-T060C-U1","Tamago valamu 60cm, keskel, U1",{"$f":"IF(B264='Üldine info'!$C$5,C264,\"\")","v":""}]
[null,"024-T080C-U1","Tamago valamu 80cm,  keskel,U1",{"$f":"IF(B265='Üldine info'!$C$5,C265,\"\")","v":""}]
[null,"024-T100L-U1","Tamago valamu 100cm, vasak, U1",{"$f":"IF(B266='Üldine info'!$C$5,C266,\"\")","v":""}]
[null,"024-T100R-U1","Tamago valamu 100cm, parem, U1",{"$f":"IF(B267='Üldine info'!$C$5,C267,\"\")","v":""}]
[null,"024-T120C/2-U1","Tamago valamu 120,U1,2 seg.ava",{"$f":"IF(B268='Üldine info'!$C$5,C268,\"\")","v":""}]
[null,"024-T120C-U1","Tamago valamu 120cm, keskel,U1",{"$f":"IF(B269='Üldine info'!$C$5,C269,\"\")","v":""}]
[null,"024-T120L-U1","Tamago valamu 120cm, vasak, U1",{"$f":"IF(B270='Üldine info'!$C$5,C270,\"\")","v":""}]
[null,"024-T120R-U1","Tamago valamu 120cm, parem, U1",{"$f":"IF(B271='Üldine info'!$C$5,C271,\"\")","v":""}]
[null,"024-T160L-U1","Tamago valamu 160cm, vasak, U1",{"$f":"IF(B272='Üldine info'!$C$5,C272,\"\")","v":""}]
[null,"024-T160R-U1","Tamago valamu 160cm, parem, U1",{"$f":"IF(B273='Üldine info'!$C$5,C273,\"\")","v":""}]
[null,"025-040C-U1","MyEgo valamu 40cm, U1",{"$f":"IF(B274='Üldine info'!$C$5,C274,\"\")","v":""}]
[null,"025-C70C-U1","Cascade valamu 70cm, U1",{"$f":"IF(B275='Üldine info'!$C$5,C275,\"\")","v":""}]
[null,"025E-T030-U1","Töötasapind 30cm, U1",{"$f":"IF(B276='Üldine info'!$C$5,C276,\"\")","v":""}]
[null,"025E-V100L-U1","Vincent valamu 100L, U1",{"$f":"IF(B277='Üldine info'!$C$5,C277,\"\")","v":""}]
[null,"025E-V100R-U1","Vincent valamu 100R, U1",{"$f":"IF(B278='Üldine info'!$C$5,C278,\"\")","v":""}]
[null,"025-T030-U1","Tasapind 30cm, U1",{"$f":"IF(B279='Üldine info'!$C$5,C279,\"\")","v":""}]
[null,"025-T060-U1","Tasapind 60cm, U1",{"$f":"IF(B280='Üldine info'!$C$5,C280,\"\")","v":""}]
[null,"025-V100L-U1","Vincent valamu 100L, U1",{"$f":"IF(B281='Üldine info'!$C$5,C281,\"\")","v":""}]
[null,"025-V100R-U1","Vincent valamu 100R, U1",{"$f":"IF(B282='Üldine info'!$C$5,C282,\"\")","v":""}]
[null,"025-V150L-U1","Vincent valamu 150L, U1",{"$f":"IF(B283='Üldine info'!$C$5,C283,\"\")","v":""}]
[null,"025-V150R-U1","Vincent valamu 150R, U1",{"$f":"IF(B284='Üldine info'!$C$5,C284,\"\")","v":""}]
[null,"026-059C-U1","MATRIX valamu 59cm, U1",{"$f":"IF(B285='Üldine info'!$C$5,C285,\"\")","v":""}]
[null,"026-060C-U1","Kandi valamu 60cm, U1",{"$f":"IF(B286='Üldine info'!$C$5,C286,\"\")","v":""}]
[null,"026E-060C-U1","Kandi valamu 60cm U1",{"$f":"IF(B287='Üldine info'!$C$5,C287,\"\")","v":""}]
[null,"026-E060-U1","Linea valamu 60cm, U1",{"$f":"IF(B288='Üldine info'!$C$5,C288,\"\")","v":""}]
[null,"026-E080-U1","Linea valamu 80cm, U1",{"$f":"IF(B289='Üldine info'!$C$5,C289,\"\")","v":""}]
[null,"026E-F200-U1","Kandi Flexi valamu 201C, U1",{"$f":"IF(B290='Üldine info'!$C$5,C290,\"\")","v":""}]
[null,"026E-S060-U1","Kandi S valamu 60C, U1",{"$f":"IF(B291='Üldine info'!$C$5,C291,\"\")","v":""}]
[null,"026E-S080-U1","Kandi S valamu 80C, U1",{"$f":"IF(B292='Üldine info'!$C$5,C292,\"\")","v":""}]
[null,"026E-SS060-U1","Kandi SS valamu 60cm U1",{"$f":"IF(B293='Üldine info'!$C$5,C293,\"\")","v":""}]
[null,"026E-XS060-U1","Kandi XS valamu 60C, U1",{"$f":"IF(B294='Üldine info'!$C$5,C294,\"\")","v":""}]
[null,"026E-XS080-U1","Kandi XS 80cm, U1",{"$f":"IF(B295='Üldine info'!$C$5,C295,\"\")","v":""}]
[null,"026-F200-U1","Kandi Flexi valamu 201cm, U1",{"$f":"IF(B296='Üldine info'!$C$5,C296,\"\")","v":""}]
[null,"026-S060-U1","Kandi S valamu 60cm, U1",{"$f":"IF(B297='Üldine info'!$C$5,C297,\"\")","v":""}]
[null,"026-S080-U1","Kandi S valamu 80cm, U1",{"$f":"IF(B298='Üldine info'!$C$5,C298,\"\")","v":""}]
[null,"026-SS060-U1","Kandi SS valamu 60cm, U1",{"$f":"IF(B299='Üldine info'!$C$5,C299,\"\")","v":""}]
[null,"026-XS060-U1","Kandi XS valamu 60cm, U1",{"$f":"IF(B300='Üldine info'!$C$5,C300,\"\")","v":""}]
[null,"026-XS080-U1","Kandi XS valamu 80cm, U1",{"$f":"IF(B301='Üldine info'!$C$5,C301,\"\")","v":""}]
[null,"027-090C-U1","Alex valamu 90cm, U1",{"$f":"IF(B302='Üldine info'!$C$5,C302,\"\")","v":""}]
[null,"027-120C-U1","Alex valamu 120cm, U1",{"$f":"IF(B303='Üldine info'!$C$5,C303,\"\")","v":""}]
[null,"027-150/2-U1","Alex valamu 150cm, kahene, U1",{"$f":"IF(B304='Üldine info'!$C$5,C304,\"\")","v":""}]
[null,"027E-M090C-U1","Maria valamu 90cm keskel U1",{"$f":"IF(B305='Üldine info'!$C$5,C305,\"\")","v":""}]
[null,"027E-M120C-U1","Marija valamu 120C, U1",{"$f":"IF(B306='Üldine info'!$C$5,C306,\"\")","v":""}]
[null,"027E-M150/2-U1","Maria valamu 150cm, kahene, U1",{"$f":"IF(B307='Üldine info'!$C$5,C307,\"\")","v":""}]
[null,"027-M090C-U1","Maria valamu 90cm keskel, U1",{"$f":"IF(B308='Üldine info'!$C$5,C308,\"\")","v":""}]
[null,"027-M120C-U1","Maria valamu 120cm, U1",{"$f":"IF(B309='Üldine info'!$C$5,C309,\"\")","v":""}]
[null,"027-M150/2-U1","Maria valamu 150cm, kahene, U1",{"$f":"IF(B310='Üldine info'!$C$5,C310,\"\")","v":""}]
[null,"027N-120C-U1","Alex valamu 120cm, U1",{"$f":"IF(B311='Üldine info'!$C$5,C311,\"\")","v":""}]
[null,"028-033C-U1","Valamu C33, 40cm, keskel, U",{"$f":"IF(B312='Üldine info'!$C$5,C312,\"\")","v":""}]
[null,"028-037SL-U1","Riiul Brit.Fer-s 37,5cm, 2650L",{"$f":"IF(B313='Üldine info'!$C$5,C313,\"\")","v":""}]
[null,"028-037SR-U1","Riiul Brit.Fer-s 37,5cm, 2651R",{"$f":"IF(B314='Üldine info'!$C$5,C314,\"\")","v":""}]
[null,"028-044C-U1","Valamu Century 2, 44cm U1 /D44",{"$f":"IF(B315='Üldine info'!$C$5,C315,\"\")","v":""}]
[null,"028-050L-U1","VALAMU FERRIES 50L, 214L-500",{"$f":"IF(B316='Üldine info'!$C$5,C316,\"\")","v":""}]
[null,"028-050R-U1","VALAMU FERRIES 50R, 215R-500",{"$f":"IF(B317='Üldine info'!$C$5,C317,\"\")","v":""}]
[null,"028-078C-U1","Cosy Corner valamu 78cm, U1",{"$f":"IF(B318='Üldine info'!$C$5,C318,\"\")","v":""}]
[null,"028-078SL-U1","Riiul  Brit.Fer-s 78cm, 2657L",{"$f":"IF(B319='Üldine info'!$C$5,C319,\"\")","v":""}]
[null,"028-078SR-U1","Riiul Brit.Fer-s 78cm, 2658R",{"$f":"IF(B320='Üldine info'!$C$5,C320,\"\")","v":""}]
[null,"028-078T-U1","Viking Line 78cm",{"$f":"IF(B321='Üldine info'!$C$5,C321,\"\")","v":""}]
[null,"028-090L-U1","Cosy Corner valamu 90L, U1",{"$f":"IF(B322='Üldine info'!$C$5,C322,\"\")","v":""}]
[null,"028-090R-U1","Cosy Corner valamu 90R, U1",{"$f":"IF(B323='Üldine info'!$C$5,C323,\"\")","v":""}]
[null,"028-100L/0-U1","Viking Line L-1376,3A,TYPE 3B",{"$f":"IF(B324='Üldine info'!$C$5,C324,\"\")","v":""}]
[null,"028-100L-U1","Viking Line L-1376, 1A,TYPE 1B",{"$f":"IF(B325='Üldine info'!$C$5,C325,\"\")","v":""}]
[null,"028-100R/0-U1","Viking Line L-1376, 3B,TYPE 3A",{"$f":"IF(B326='Üldine info'!$C$5,C326,\"\")","v":""}]
[null,"028-100R-U1","Viking Line L-1376, 1B,TYPE 1A",{"$f":"IF(B327='Üldine info'!$C$5,C327,\"\")","v":""}]
[null,"028E-078C-U1","Cosy Corner valamu 78cm, U1",{"$f":"IF(B328='Üldine info'!$C$5,C328,\"\")","v":""}]
[null,"029-080C-U1","Step valamu 80cm, U1",{"$f":"IF(B329='Üldine info'!$C$5,C329,\"\")","v":""}]
[null,"029-120C-U1","Step valamu 120cm, U1",{"$f":"IF(B330='Üldine info'!$C$5,C330,\"\")","v":""}]
[null,"029-A070C-U1","Mania A valamu 70cm, U1",{"$f":"IF(B331='Üldine info'!$C$5,C331,\"\")","v":""}]
[null,"029-AB070C-U1","Mania AB valamu 70cm, U1",{"$f":"IF(B332='Üldine info'!$C$5,C332,\"\")","v":""}]
[null,"029E-080C-U1","Step valamu 80C, U1",{"$f":"IF(B333='Üldine info'!$C$5,C333,\"\")","v":""}]
[null,"029E-120C-U1","Step valamu 120cm, U1",{"$f":"IF(B334='Üldine info'!$C$5,C334,\"\")","v":""}]
[null,"029E-A070C-U1","Mania A valamu 70cm, U1",{"$f":"IF(B335='Üldine info'!$C$5,C335,\"\")","v":""}]
[null,"030-120C-U1","Mery tasap. 1200x450mm,valge",{"$f":"IF(B336='Üldine info'!$C$5,C336,\"\")","v":""}]
[null,"030-180L-U1","Consul valamu 180cm, vasak, U1",{"$f":"IF(B337='Üldine info'!$C$5,C337,\"\")","v":""}]
[null,"030-180R-U1","Consul valamu 180cm, parem, U1",{"$f":"IF(B338='Üldine info'!$C$5,C338,\"\")","v":""}]
[null,"031-080CP-U1","Amadeus valamu 80, külgpan.,U1",{"$f":"IF(B339='Üldine info'!$C$5,C339,\"\")","v":""}]
[null,"031-100CP-U1","Amadeus valamu 100,külgpan.,U1",{"$f":"IF(B340='Üldine info'!$C$5,C340,\"\")","v":""}]
[null,"031-120CP-U1","Amadeus valamu 120CP,U1",{"$f":"IF(B341='Üldine info'!$C$5,C341,\"\")","v":""}]
[null,"031-120C-U1","Amadeus valamu 120cm, U1",{"$f":"IF(B342='Üldine info'!$C$5,C342,\"\")","v":""}]
[null,"031-120LP-U1","Amadeus valamu 120LP, U1",{"$f":"IF(B343='Üldine info'!$C$5,C343,\"\")","v":""}]
[null,"031-120RP-U1","Amadeus valamu 120RP, U1",{"$f":"IF(B344='Üldine info'!$C$5,C344,\"\")","v":""}]
[null,"031-160C-U1","Lyon valamu 160cm, keskel, U1",{"$f":"IF(B345='Üldine info'!$C$5,C345,\"\")","v":""}]
[null,"031-180C-U1","Amadeus valamu 180, keskel, U1",{"$f":"IF(B346='Üldine info'!$C$5,C346,\"\")","v":""}]
[null,"031-180L-U1","Amadeus valamu 180cm, vasak,U1",{"$f":"IF(B347='Üldine info'!$C$5,C347,\"\")","v":""}]
[null,"031-180R-U1","Amadeus valamu 180cm, parem,U1",{"$f":"IF(B348='Üldine info'!$C$5,C348,\"\")","v":""}]
[null,"031-240D-U1","Amadeus valamu 240cm,kahene,U1",{"$f":"IF(B349='Üldine info'!$C$5,C349,\"\")","v":""}]
[null,"031-320/3-U1","Amadeus valamu 320, kolmene,U1",{"$f":"IF(B350='Üldine info'!$C$5,C350,\"\")","v":""}]
[null,"031E-080CP-U1","Amadeus valamu 80, külgpan.,U1",{"$f":"IF(B351='Üldine info'!$C$5,C351,\"\")","v":""}]
[null,"031E-240D-U1","Amadeus valamu 240cm,kahene,U1",{"$f":"IF(B352='Üldine info'!$C$5,C352,\"\")","v":""}]
[null,"032-120C-U1","Silvi valamu 120cm, U1 S=480",{"$f":"IF(B353='Üldine info'!$C$5,C353,\"\")","v":""}]
[null,"032-200C-U1","Silvi valamu 200cm, U1 S=490",{"$f":"IF(B354='Üldine info'!$C$5,C354,\"\")","v":""}]
[null,"032-220C-U1","Silvi valamu 220C U1 S=490",{"$f":"IF(B355='Üldine info'!$C$5,C355,\"\")","v":""}]
[null,"032-240C/2-U1","Silvi valamu 240cm, U1 S=500",{"$f":"IF(B356='Üldine info'!$C$5,C356,\"\")","v":""}]
[null,"032-240C/3-U1","Silvi valamu 240cm, U1 S=500",{"$f":"IF(B357='Üldine info'!$C$5,C357,\"\")","v":""}]
[null,"032-240C-U1","Silvi valamu 240cm, keskel, U1",{"$f":"IF(B358='Üldine info'!$C$5,C358,\"\")","v":""}]
[null,"032-240L/2-U1","Silvi valamu 240L, kahene, U1",{"$f":"IF(B359='Üldine info'!$C$5,C359,\"\")","v":""}]
[null,"032-240L-U1","Silvi valamu 240cm, vasak, U1",{"$f":"IF(B360='Üldine info'!$C$5,C360,\"\")","v":""}]
[null,"032-240R/2-U1","Silvi valamu 240R, kahene, U1",{"$f":"IF(B361='Üldine info'!$C$5,C361,\"\")","v":""}]
[null,"032-240R-U1","Silvi valamu, 240cm, parem, U1",{"$f":"IF(B362='Üldine info'!$C$5,C362,\"\")","v":""}]
[null,"032E-120C-U1","Silvi valamu 120C, U1",{"$f":"IF(B363='Üldine info'!$C$5,C363,\"\")","v":""}]
[null,"032E-200C-U1","Silvi valamu 200C, U1",{"$f":"IF(B364='Üldine info'!$C$5,C364,\"\")","v":""}]
[null,"032E-240C-U1","Silvi valamu 240C, U1",{"$f":"IF(B365='Üldine info'!$C$5,C365,\"\")","v":""}]
[null,"032E-240L-U1","Silvi valamu 240L, U1",{"$f":"IF(B366='Üldine info'!$C$5,C366,\"\")","v":""}]
[null,"032E-240R/2-U1","Silvi valamu 240R/2, U1",{"$f":"IF(B367='Üldine info'!$C$5,C367,\"\")","v":""}]
[null,"032E-240R-U1","Silvi valamu 240R, U1",{"$f":"IF(B368='Üldine info'!$C$5,C368,\"\")","v":""}]
[null,"032-SD080-U1","Dakota valamu 80cm, U1",{"$f":"IF(B369='Üldine info'!$C$5,C369,\"\")","v":""}]
[null,"032-SM060-U1","Montana valamu 60cm, U1",{"$f":"IF(B370='Üldine info'!$C$5,C370,\"\")","v":""}]
[null,"032-SN070-U1","New York valamu 70cm, U1",{"$f":"IF(B371='Üldine info'!$C$5,C371,\"\")","v":""}]
[null,"032-SN080-U1","New York valamu 80cm, U1",{"$f":"IF(B372='Üldine info'!$C$5,C372,\"\")","v":""}]
[null,"032-SN100-U1","New York valamu 100cm, U1",{"$f":"IF(B373='Üldine info'!$C$5,C373,\"\")","v":""}]
[null,"032-SN120-U1","New York valamu 120cm, U1",{"$f":"IF(B374='Üldine info'!$C$5,C374,\"\")","v":""}]
[null,"033-082L-U1","Valamu 2322L-82, vasak, U1",{"$f":"IF(B375='Üldine info'!$C$5,C375,\"\")","v":""}]
[null,"033-082R-U1","Valamu 2323R-82, parem, U1",{"$f":"IF(B376='Üldine info'!$C$5,C376,\"\")","v":""}]
[null,"033-085R-U1","Valamu SK 2329L-83, U1",{"$f":"IF(B377='Üldine info'!$C$5,C377,\"\")","v":"Valamu SK 2329L-83, U1"}]
[null,"033-A088C-U1","ADA,RWARD 10, 88cm, kesk",{"$f":"IF(B378='Üldine info'!$C$5,C378,\"\")","v":""}]
[null,"034-010C-U1","Century, 36,5cm,TOP 3,2140C-37",{"$f":"IF(B379='Üldine info'!$C$5,C379,\"\")","v":""}]
[null,"034-040C-U1","Valamu 40cm,U1,kesk.,M. Schiff",{"$f":"IF(B380='Üldine info'!$C$5,C380,\"\")","v":""}]
[null,"034-062C-U1","BRITANNY 62C, 218C-875",{"$f":"IF(B381='Üldine info'!$C$5,C381,\"\")","v":""}]
[null,"034-092L-U1","Deba SK4908, 918mm,2434L-92",{"$f":"IF(B382='Üldine info'!$C$5,C382,\"\")","v":""}]
[null,"034-092R-U1","Deba SK4909, 918mm,2435R-92",{"$f":"IF(B383='Üldine info'!$C$5,C383,\"\")","v":""}]
[null,"034-114L-U1","Century valamu L 2541L-115",{"$f":"IF(B384='Üldine info'!$C$5,C384,\"\")","v":""}]
[null,"034-114R-U1","Century valamu R 2542R-115",{"$f":"IF(B385='Üldine info'!$C$5,C385,\"\")","v":""}]
[null,"034-124L-U1","TYPE 5 MAKINEN valamu 82cm",{"$f":"IF(B386='Üldine info'!$C$5,C386,\"\")","v":""}]
[null,"034-124R-U1","TYPE 2 MAKINEN valamu 82cm",{"$f":"IF(B387='Üldine info'!$C$5,C387,\"\")","v":""}]
[null,"034-A082L-U1","Valamu FORWARD 13, 2324L-83",{"$f":"IF(B388='Üldine info'!$C$5,C388,\"\")","v":""}]
[null,"034-A082R-U1","Valamu FORWARD 14, 2325R-83",{"$f":"IF(B389='Üldine info'!$C$5,C389,\"\")","v":""}]
[null,"034-A105L-U1","TYPE 3 ALMACO 105cm,2110C-105",{"$f":"IF(B390='Üldine info'!$C$5,C390,\"\")","v":""}]
[null,"034-A105R-U1","TYPE 6 ALMACO 105cm,2110C-105",{"$f":"IF(B391='Üldine info'!$C$5,C391,\"\")","v":""}]
[null,"034-A124L-U1","TYPE 5 ALMACO 124cm,2426L-124",{"$f":"IF(B392='Üldine info'!$C$5,C392,\"\")","v":""}]
[null,"034-A124R-U1","TYPE 2 ALMACO 124cm,2427R-124",{"$f":"IF(B393='Üldine info'!$C$5,C393,\"\")","v":""}]
[null,"034-HR025S-U1","Stefano riiul 25x46x20cm",{"$f":"IF(B394='Üldine info'!$C$5,C394,\"\")","v":""}]
[null,"034-HR035S-U1","Stefano riiul 35x46x20cm",{"$f":"IF(B395='Üldine info'!$C$5,C395,\"\")","v":""}]
[null,"034-HR050S-U1","Stefano riiul 50x46x20cm",{"$f":"IF(B396='Üldine info'!$C$5,C396,\"\")","v":""}]
[null,"034-HR060S-U1","Stefano riiul 60x46x20cm",{"$f":"IF(B397='Üldine info'!$C$5,C397,\"\")","v":""}]
[null,"034-HR070S-U1","Stefano riiul 70x46x20cm",{"$f":"IF(B398='Üldine info'!$C$5,C398,\"\")","v":""}]
[null,"034-HR143L-U1","Stefano valamu 143cm, U1, vas.",{"$f":"IF(B399='Üldine info'!$C$5,C399,\"\")","v":""}]
[null,"034-HR143R-U1","Stefano valamu 143cm; U1, par.",{"$f":"IF(B400='Üldine info'!$C$5,C400,\"\")","v":""}]
[null,"034-HR185L-U1","Stefano valamu 185cm, U1, vas.",{"$f":"IF(B401='Üldine info'!$C$5,C401,\"\")","v":""}]
[null,"034-HR192L-U1","Stefano valamu 192cm, U1, vas.",{"$f":"IF(B402='Üldine info'!$C$5,C402,\"\")","v":""}]
[null,"034-HR192R-U1","Stefano valamu 192cm, U1, par.",{"$f":"IF(B403='Üldine info'!$C$5,C403,\"\")","v":""}]
[null,"034-HR220L-U1","Stefano valamu 220cm, U1, vas.",{"$f":"IF(B404='Üldine info'!$C$5,C404,\"\")","v":""}]
[null,"034-HR220R-U1","Stefano valamu 220cm, U1, par.",{"$f":"IF(B405='Üldine info'!$C$5,C405,\"\")","v":""}]
[null,"034-S187-U1","Riiul 187cm, U1, Mein Schiff",{"$f":"IF(B406='Üldine info'!$C$5,C406,\"\")","v":""}]
[null,"034-SA105-U1","Arizona/Nevada valamu 105cm,U1",{"$f":"IF(B407='Üldine info'!$C$5,C407,\"\")","v":""}]
[null,"034-SL40-U1","Little You valamu 40cm, U1",{"$f":"IF(B408='Üldine info'!$C$5,C408,\"\")","v":""}]
[null,"034-SM105-U1","Miami D valamu 105cm, U1",{"$f":"IF(B409='Üldine info'!$C$5,C409,\"\")","v":""}]
[null,"034-SS80-U1","Shiny/Regina valamu 80cm, U1",{"$f":"IF(B410='Üldine info'!$C$5,C410,\"\")","v":""}]
[null,"034-T187L-U1","Tasapind 187cm U1 Mein Schiff",{"$f":"IF(B411='Üldine info'!$C$5,C411,\"\")","v":""}]
[null,"034-T187R-U1","Tasapind 187cm U1 Mein Schiff",{"$f":"IF(B412='Üldine info'!$C$5,C412,\"\")","v":""}]
[null,"035-037C-U1","Valamu TOP 3, 37cm, 2140C-37",{"$f":"IF(B413='Üldine info'!$C$5,C413,\"\")","v":""}]
[null,"035-040C-U1","Celebrity valamu 40cm, U1",{"$f":"IF(B414='Üldine info'!$C$5,C414,\"\")","v":""}]
[null,"035-045L-U1","C2 (Disney Crew) 45cm,212L-450",{"$f":"IF(B415='Üldine info'!$C$5,C415,\"\")","v":""}]
[null,"035-045R-U1","C2 (Disney Crew) 45cm,213R-450",{"$f":"IF(B416='Üldine info'!$C$5,C416,\"\")","v":""}]
[null,"035-051L-U1","CC/CelebrityCrew 51cm,216L-515",{"$f":"IF(B417='Üldine info'!$C$5,C417,\"\")","v":""}]
[null,"035-051R-U1","CC/CelebrityCrew 51cm,217R-515",{"$f":"IF(B418='Üldine info'!$C$5,C418,\"\")","v":""}]
[null,"035-058C-U1","Britanny Almaco, 58cm2656C-58",{"$f":"IF(B419='Üldine info'!$C$5,C419,\"\")","v":""}]
[null,"035-060C-U1","Suite TA valamu, 60cm, U1",{"$f":"IF(B420='Üldine info'!$C$5,C420,\"\")","v":""}]
[null,"035-063C-U1","Suite BT valamu, 63cm, U1",{"$f":"IF(B421='Üldine info'!$C$5,C421,\"\")","v":""}]
[null,"035-068L-U1","AIDACara valamu 685mm vasak U1",{"$f":"IF(B422='Üldine info'!$C$5,C422,\"\")","v":""}]
[null,"035-068R-U1","AIDACara valamu 685mm parem U1",{"$f":"IF(B423='Üldine info'!$C$5,C423,\"\")","v":""}]
[null,"035-068SL-U1","AIDACara riiul 670*356mm U1",{"$f":"IF(B424='Üldine info'!$C$5,C424,\"\")","v":""}]
[null,"035-068SR-U1","AIDACara riiul 670*356mm U1",{"$f":"IF(B425='Üldine info'!$C$5,C425,\"\")","v":""}]
[null,"035-081L-U1","AIDAVita valamu 819*448/128mm",{"$f":"IF(B426='Üldine info'!$C$5,C426,\"\")","v":""}]
[null,"035-081R-U1","AIDAVita valamu 819*448/128mm",{"$f":"IF(B427='Üldine info'!$C$5,C427,\"\")","v":""}]
[null,"035-082L-U1","Valamu Outside 82cm, vasak, U1",{"$f":"IF(B428='Üldine info'!$C$5,C428,\"\")","v":""}]
[null,"035-082R-U1","Valamu Outside 82cm, parem, U1",{"$f":"IF(B429='Üldine info'!$C$5,C429,\"\")","v":""}]
[null,"035-084L-U1","C2-JO valamu 84cm,U1, 2117L-84",{"$f":"IF(B430='Üldine info'!$C$5,C430,\"\")","v":""}]
[null,"035-084R-U1","C2-JO valamu 84cm,U1,2118R-84",{"$f":"IF(B431='Üldine info'!$C$5,C431,\"\")","v":""}]
[null,"035-084SL-U1","C2-JO riiul 84cm,2654L (Aida)",{"$f":"IF(B432='Üldine info'!$C$5,C432,\"\")","v":""}]
[null,"035-084SR-U1","C2-JO riiul 84cm, U1,2655R",{"$f":"IF(B433='Üldine info'!$C$5,C433,\"\")","v":""}]
[null,"035-089L-U1","Valamu Deluxe 89cm, vasak, U1",{"$f":"IF(B434='Üldine info'!$C$5,C434,\"\")","v":""}]
[null,"035-089R-U1","Valamu Deluxe 89cm, parem, U1",{"$f":"IF(B435='Üldine info'!$C$5,C435,\"\")","v":""}]
[null,"035-089SL-U1","Shelf Type SO left, U1, 2652L",{"$f":"IF(B436='Üldine info'!$C$5,C436,\"\")","v":""}]
[null,"035-089SR-U1","Shelf Type SO right, U1, 2653R",{"$f":"IF(B437='Üldine info'!$C$5,C437,\"\")","v":""}]
[null,"035-090L-U1","TYPE OFF valamu 905mm,2414L-90",{"$f":"IF(B438='Üldine info'!$C$5,C438,\"\")","v":""}]
[null,"035-090R-U1","TYPE OFF valamu 905mm,2414R-90",{"$f":"IF(B439='Üldine info'!$C$5,C439,\"\")","v":""}]
[null,"035-091L-U1","TYPE SO valamu 918mm,2415L-92",{"$f":"IF(B440='Üldine info'!$C$5,C440,\"\")","v":""}]
[null,"035-091R-U1","TYPE SO valamu 918mm,2416R-92",{"$f":"IF(B441='Üldine info'!$C$5,C441,\"\")","v":""}]
[null,"035-095L-U1","Valamu 250 / 350 * 950 mm U1",{"$f":"IF(B442='Üldine info'!$C$5,C442,\"\")","v":""}]
[null,"035-095R-U1","Valamu 250 / 350 * 950 mm U1",{"$f":"IF(B443='Üldine info'!$C$5,C443,\"\")","v":""}]
[null,"035-095SL-U1","Riiul 200*950 mm U1",{"$f":"IF(B444='Üldine info'!$C$5,C444,\"\")","v":""}]
[null,"035-095SR-U1","Riiul 200*950 mm U1",{"$f":"IF(B445='Üldine info'!$C$5,C445,\"\")","v":""}]
[null,"035-119L-U1","Horizon 119cm, U1,2343L-120",{"$f":"IF(B446='Üldine info'!$C$5,C446,\"\")","v":""}]
[null,"035-119R-U1","Horizon 119cm, U1,2343R-120",{"$f":"IF(B447='Üldine info'!$C$5,C447,\"\")","v":""}]
[null,"035-120L-U1","TYPE 6B valamu 1198mm U1",{"$f":"IF(B448='Üldine info'!$C$5,C448,\"\")","v":""}]
[null,"035-120R-U1","TYPE 6A valamu 1198mm U1",{"$f":"IF(B449='Üldine info'!$C$5,C449,\"\")","v":""}]
[null,"035-120SL-U1","Horizon riiul, 120cm, 2661L",{"$f":"IF(B450='Üldine info'!$C$5,C450,\"\")","v":""}]
[null,"035-120SR-U1","Horizon riiul, 120cm, 2662R",{"$f":"IF(B451='Üldine info'!$C$5,C451,\"\")","v":""}]
[null,"035-124L-U1","SK4911 Deba124cm, U12438L-124",{"$f":"IF(B452='Üldine info'!$C$5,C452,\"\")","v":""}]
[null,"035-124R-U1","SK4910 Deba 124cm,2439R-124",{"$f":"IF(B453='Üldine info'!$C$5,C453,\"\")","v":""}]
[null,"035-128L-U1","Genesis 128cm, U1,2445L-280",{"$f":"IF(B454='Üldine info'!$C$5,C454,\"\")","v":""}]
[null,"035-128R-U1","Genesis 128cm, U1,2446R-280",{"$f":"IF(B455='Üldine info'!$C$5,C455,\"\")","v":""}]
[null,"035-137L-U1","Celebrity valamu 137cm,vas.,U1",{"$f":"IF(B456='Üldine info'!$C$5,C456,\"\")","v":""}]
[null,"035-137R-U1","Celebrity valamu 137cm,par.,U1",{"$f":"IF(B457='Üldine info'!$C$5,C457,\"\")","v":""}]
[null,"035-150L-U1","FORWARD 33, 2347C-150,SK 2866",{"$f":"IF(B458='Üldine info'!$C$5,C458,\"\")","v":""}]
[null,"035-150R-U1","FORWARD , 2347C-150,SK2858",{"$f":"IF(B459='Üldine info'!$C$5,C459,\"\")","v":""}]
[null,"035-151L-U1","Pax Balcony valamu, 151cm L U1",{"$f":"IF(B460='Üldine info'!$C$5,C460,\"\")","v":""}]
[null,"035-AH081L-U1","Aida SO Hyp. 812mm,vasak,U1",{"$f":"IF(B461='Üldine info'!$C$5,C461,\"\")","v":""}]
[null,"035-AH081R-U1","Aida SO Hyp. 812mm,parem,U1",{"$f":"IF(B462='Üldine info'!$C$5,C462,\"\")","v":""}]
[null,"035-AH081SL-U1","AIDA SO riiul V 812*382mm U1",{"$f":"IF(B463='Üldine info'!$C$5,C463,\"\")","v":""}]
[null,"035-AH081SR-U1","AIDA SO riiul P 812*382mm, U1",{"$f":"IF(B464='Üldine info'!$C$5,C464,\"\")","v":""}]
[null,"036-026C-U1","cladding 266x670mm, U1,GEHR",{"$f":"IF(B465='Üldine info'!$C$5,C465,\"\")","v":""}]
[null,"036-069C-U1","Nancy valamu, 69 cm, U1,Nancy",{"$f":"IF(B466='Üldine info'!$C$5,C466,\"\")","v":""}]
[null,"036-070C-U1","Even 700x510mm,Kuhfus",{"$f":"IF(B467='Üldine info'!$C$5,C467,\"\")","v":""}]
[null,"036-080C-U1","Valamu 800x410mm, U1 EHPAD",{"$f":"IF(B468='Üldine info'!$C$5,C468,\"\")","v":""}]
[null,"036-084L-U1","SK11518_05 valamu 840*645mm",{"$f":"IF(B469='Üldine info'!$C$5,C469,\"\")","v":""}]
[null,"036-084R-U1","SK11519_05 valamu 840*645mm",{"$f":"IF(B470='Üldine info'!$C$5,C470,\"\")","v":""}]
[null,"036-091L-U1","TYPE AMADEUS 915/465mm,GEHR",{"$f":"IF(B471='Üldine info'!$C$5,C471,\"\")","v":""}]
[null,"036-091R-U1","TYPE AMADEUS 915/465mm,GEHR",{"$f":"IF(B472='Üldine info'!$C$5,C472,\"\")","v":""}]
[null,"036-096L-U1","SK11520_05 valamu 950*515mm",{"$f":"IF(B473='Üldine info'!$C$5,C473,\"\")","v":""}]
[null,"036-096R-U1","SK11521_05 valamu 950*515mm",{"$f":"IF(B474='Üldine info'!$C$5,C474,\"\")","v":""}]
[null,"036-098LS-U1","Riiul 918/745mm,GEHR MINERVA",{"$f":"IF(B475='Üldine info'!$C$5,C475,\"\")","v":""}]
[null,"036-098RS-U1","Riiul 918/745mm,GEHR MINERVA",{"$f":"IF(B476='Üldine info'!$C$5,C476,\"\")","v":""}]
[null,"036-099L-U1","Reims,994x540mm /V, U1",{"$f":"IF(B477='Üldine info'!$C$5,C477,\"\")","v":""}]
[null,"036-099R-U1","Reims valamu 994x540mm /P, U1",{"$f":"IF(B478='Üldine info'!$C$5,C478,\"\")","v":""}]
[null,"036-109LS-U1","Gehr riiul 109cm, U1, vasak",{"$f":"IF(B479='Üldine info'!$C$5,C479,\"\")","v":""}]
[null,"036-109L-U1","Gehr 109cm,SK5636, 2432L-110",{"$f":"IF(B480='Üldine info'!$C$5,C480,\"\")","v":""}]
[null,"036-109RS-U1","Gehr riiul, 109cm, U1, parem",{"$f":"IF(B481='Üldine info'!$C$5,C481,\"\")","v":""}]
[null,"036-109R-U1","Gehr, 109cm,SK5625, 2433R-110",{"$f":"IF(B482='Üldine info'!$C$5,C482,\"\")","v":""}]
[null,"036-117R-U1","Valamu 1174mm SK 2437 R U1",{"$f":"IF(B483='Üldine info'!$C$5,C483,\"\")","v":""}]
[null,"036-120/2.1.-U1","Shark valamu 120 kahene U1",{"$f":"IF(B484='Üldine info'!$C$5,C484,\"\")","v":""}]
[null,"036-120/2.1-U1","Shark valamu 120cm, kahene, U1",{"$f":"IF(B485='Üldine info'!$C$5,C485,\"\")","v":""}]
[null,"036-120/2-U1","Even valamu 1200x510mm/2, U1",{"$f":"IF(B486='Üldine info'!$C$5,C486,\"\")","v":""}]
[null,"036-120L-U1","Staron valamu 120cm vasak U1",{"$f":"IF(B487='Üldine info'!$C$5,C487,\"\")","v":""}]
[null,"036-120R-U1","Staron valamu 120cm parem U1",{"$f":"IF(B488='Üldine info'!$C$5,C488,\"\")","v":""}]
[null,"036-124L-U1","Rennes 124, vasak, U1",{"$f":"IF(B489='Üldine info'!$C$5,C489,\"\")","v":""}]
[null,"036-124R-U1","Rennes valamu 124cm, parem U1",{"$f":"IF(B490='Üldine info'!$C$5,C490,\"\")","v":""}]
[null,"036-140/2-U1","Even valamu 1400x510mm/2, U1",{"$f":"IF(B491='Üldine info'!$C$5,C491,\"\")","v":""}]
[null,"036-142L-U1","Inside valamu 1422mm U1",{"$f":"IF(B492='Üldine info'!$C$5,C492,\"\")","v":""}]
[null,"036-142R-U1","Inside valamu 1422mm U1",{"$f":"IF(B493='Üldine info'!$C$5,C493,\"\")","v":""}]
[null,"036-143A-U1","Metz nurgavalamu 100x100cm",{"$f":"IF(B494='Üldine info'!$C$5,C494,\"\")","v":""}]
[null,"036-180/3-U1","Even valamu 1800x510mm/3, U1",{"$f":"IF(B495='Üldine info'!$C$5,C495,\"\")","v":""}]
[null,"036-210/3-U1","Even valamu 2100x510mm/3, U1",{"$f":"IF(B496='Üldine info'!$C$5,C496,\"\")","v":""}]
[null,"036-495L-U1","Heom, 60-95cm, U1, vasak",{"$f":"IF(B497='Üldine info'!$C$5,C497,\"\")","v":""}]
[null,"036-495R-U1","Heom, 60-95 cm, U1, parem",{"$f":"IF(B498='Üldine info'!$C$5,C498,\"\")","v":""}]
[null,"036-T090-U1","Tasapind 900x350",{"$f":"IF(B499='Üldine info'!$C$5,C499,\"\")","v":""}]
[null,"036-T120-U1","Tasapind 1200x350",{"$f":"IF(B500='Üldine info'!$C$5,C500,\"\")","v":""}]
[null,"036-W120/2-U1","Shark vee väljalaskeava 120cm",{"$f":"IF(B501='Üldine info'!$C$5,C501,\"\")","v":""}]
[null,"037-070C-U1","Publica valamu 70cm, keskel,U1",{"$f":"IF(B502='Üldine info'!$C$5,C502,\"\")","v":""}]
[null,"037-090L-U1","Publica valamu 90cm, vasak, U1",{"$f":"IF(B503='Üldine info'!$C$5,C503,\"\")","v":""}]
[null,"037-090R-U1","Publica valamu 90cm, parem, U1",{"$f":"IF(B504='Üldine info'!$C$5,C504,\"\")","v":""}]
[null,"037-110C-U1","Publica valamu 110cm,keskel,U1",{"$f":"IF(B505='Üldine info'!$C$5,C505,\"\")","v":""}]
[null,"037-120L-U1","Publica valamu 120, vasak, U1",{"$f":"IF(B506='Üldine info'!$C$5,C506,\"\")","v":""}]
[null,"037-120R-U1","Publica valamu 120, parem, U1",{"$f":"IF(B507='Üldine info'!$C$5,C507,\"\")","v":""}]
[null,"037-150/2-U1","Publica valamu 150, kahene, U1",{"$f":"IF(B508='Üldine info'!$C$5,C508,\"\")","v":""}]
[null,"037-240/3-U1","Publica valamu 240, kolmene,U1",{"$f":"IF(B509='Üldine info'!$C$5,C509,\"\")","v":""}]
[null,"037E-070C-U1","Publica valamu 70C, U1",{"$f":"IF(B510='Üldine info'!$C$5,C510,\"\")","v":""}]
[null,"037E-090L-U1","Publica valamu 90L, U1",{"$f":"IF(B511='Üldine info'!$C$5,C511,\"\")","v":""}]
[null,"037E-090R-U1","Publica valamu 90R, U1",{"$f":"IF(B512='Üldine info'!$C$5,C512,\"\")","v":""}]
[null,"037E-110C-U1","Publica valamu 110C, U1",{"$f":"IF(B513='Üldine info'!$C$5,C513,\"\")","v":""}]
[null,"037E-120L-U1","Publica valamu 120cm vasak U1",{"$f":"IF(B514='Üldine info'!$C$5,C514,\"\")","v":""}]
[null,"037E-120R-U1","Publica valamu 120cm parem U1",{"$f":"IF(B515='Üldine info'!$C$5,C515,\"\")","v":""}]
[null,"037E-150/2-U1","Publica valamu 150cm double U1",{"$f":"IF(B516='Üldine info'!$C$5,C516,\"\")","v":""}]
[null,"037E-240/3-U1","Publica valamu 240, kolmene,U1",{"$f":"IF(B517='Üldine info'!$C$5,C517,\"\")","v":""}]
[null,"037K-070C5-U1","G.Live 70cm U1 kroom käepide",{"$f":"IF(B518='Üldine info'!$C$5,C518,\"\")","v":""}]
[null,"037K-070C6-U1","G.Live 70cm U1 RV käepide",{"$f":"IF(B519='Üldine info'!$C$5,C519,\"\")","v":""}]
[null,"037K-070L5-U1","G.Live valamu 70cm U1 L-chrome",{"$f":"IF(B520='Üldine info'!$C$5,C520,\"\")","v":""}]
[null,"037K-070L6-U1","G.Live 70cm U1 L-RV käepide",{"$f":"IF(B521='Üldine info'!$C$5,C521,\"\")","v":""}]
[null,"037K-070R5-U1","G.Live valamu 70cm U1 L-kroom",{"$f":"IF(B522='Üldine info'!$C$5,C522,\"\")","v":""}]
[null,"037K-070R6-U1","G.Live 70cm U1 L-RV käepide",{"$f":"IF(B523='Üldine info'!$C$5,C523,\"\")","v":""}]
[null,"037K-090L5-U1","G.Live valamu 90cm U1 L-kroom",{"$f":"IF(B524='Üldine info'!$C$5,C524,\"\")","v":""}]
[null,"037K-090L6-U1","G.Life valamu 90cm U1 RV",{"$f":"IF(B525='Üldine info'!$C$5,C525,\"\")","v":""}]
[null,"037K-090R5-U1","G.Live valamu 90cm U1 L-kroom",{"$f":"IF(B526='Üldine info'!$C$5,C526,\"\")","v":""}]
[null,"037K-090R6-U1","G.Life valamu 90cm U1 RV",{"$f":"IF(B527='Üldine info'!$C$5,C527,\"\")","v":""}]
[null,"038-050C-U1","Sibylla valamukauss, 50cm",{"$f":"IF(B528='Üldine info'!$C$5,C528,\"\")","v":""}]
[null,"038-070C-U1","Albi valamu 70cm keskel U1",{"$f":"IF(B529='Üldine info'!$C$5,C529,\"\")","v":""}]
[null,"038-072C-U1","Egeo valamu 72cm, keskel, U1",{"$f":"IF(B530='Üldine info'!$C$5,C530,\"\")","v":""}]
[null,"038-088C-U1","Axiom valamu 88cm, keskel, U1",{"$f":"IF(B531='Üldine info'!$C$5,C531,\"\")","v":""}]
[null,"038-095L-U1","Silja Symphone 95cm, vasak, U1",{"$f":"IF(B532='Üldine info'!$C$5,C532,\"\")","v":""}]
[null,"038-095R-U1","Silja Symphone 95cm, parem, U1",{"$f":"IF(B533='Üldine info'!$C$5,C533,\"\")","v":""}]
[null,"038-100C-U1","Valamu Amiens 100x80x40 Valge",{"$f":"IF(B534='Üldine info'!$C$5,C534,\"\")","v":""}]
[null,"038-104C-U1","NEVERS valamu 104cm U1",{"$f":"IF(B535='Üldine info'!$C$5,C535,\"\")","v":""}]
[null,"038-106C-U1","NEVERS valamu 106cm U1",{"$f":"IF(B536='Üldine info'!$C$5,C536,\"\")","v":""}]
[null,"038-120C-U1","LUNEL valamu 120cm keskel U1",{"$f":"IF(B537='Üldine info'!$C$5,C537,\"\")","v":""}]
[null,"038-128L/2-U1","Albi valamu 128cm vasak kahene",{"$f":"IF(B538='Üldine info'!$C$5,C538,\"\")","v":""}]
[null,"038-128L-U1","Albi valamu 128cm vasak,",{"$f":"IF(B539='Üldine info'!$C$5,C539,\"\")","v":""}]
[null,"038-128R/2-U1","Albi valamu 128cm parem kahene",{"$f":"IF(B540='Üldine info'!$C$5,C540,\"\")","v":""}]
[null,"038-128R-U1","Albi valamu 128cm parem,",{"$f":"IF(B541='Üldine info'!$C$5,C541,\"\")","v":""}]
[null,"038-130C-U1","Axiom valamu 131cm, keskel, U1",{"$f":"IF(B542='Üldine info'!$C$5,C542,\"\")","v":""}]
[null,"038-132C-U1","Egeo valamu 132cm, keskel, U1",{"$f":"IF(B543='Üldine info'!$C$5,C543,\"\")","v":""}]
[null,"038-170C-U1","NOX valamu 170cm, U1",{"$f":"IF(B544='Üldine info'!$C$5,C544,\"\")","v":""}]
[null,"038-412/1-U1","Sibylla valamu, 60-120cm, U1",{"$f":"IF(B545='Üldine info'!$C$5,C545,\"\")","v":""}]
[null,"038-418/1-U1","Sibylla valamu, 120-180cm, U1",{"$f":"IF(B546='Üldine info'!$C$5,C546,\"\")","v":""}]
[null,"038-418/2-U1","Sibylla valamu 140-180cm",{"$f":"IF(B547='Üldine info'!$C$5,C547,\"\")","v":""}]
[null,"038-426/1-U1","Sibylla valamu, 180-260cm, U1",{"$f":"IF(B548='Üldine info'!$C$5,C548,\"\")","v":""}]
[null,"038-426/2-U1","Sibylla valamu, 180-260cm",{"$f":"IF(B549='Üldine info'!$C$5,C549,\"\")","v":""}]
[null,"038-426/3-U1","Sibylla valamu, 220-260cm",{"$f":"IF(B550='Üldine info'!$C$5,C550,\"\")","v":""}]
[null,"038-434/1-U1","Sibylla valamu, 260-340cm, U1",{"$f":"IF(B551='Üldine info'!$C$5,C551,\"\")","v":""}]
[null,"038-434/2-U1","Sibylla valamu, 260-340cm",{"$f":"IF(B552='Üldine info'!$C$5,C552,\"\")","v":""}]
[null,"038-434/3-U1","Sibylla valamu, 260-340cm",{"$f":"IF(B553='Üldine info'!$C$5,C553,\"\")","v":""}]
[null,"038-50990C-U1","Rene 500  99cm, keskel, U1",{"$f":"IF(B554='Üldine info'!$C$5,C554,\"\")","v":""}]
[null,"038-512/1-U1","Rene 500 valamu 60-120cm/1, U1",{"$f":"IF(B555='Üldine info'!$C$5,C555,\"\")","v":""}]
[null,"038-51440C-U1","Rene 500  140cm, keskel, U1",{"$f":"IF(B556='Üldine info'!$C$5,C556,\"\")","v":""}]
[null,"038-51440CX-U1","Rene 500  erimõõdud,keskel, U1",{"$f":"IF(B557='Üldine info'!$C$5,C557,\"\")","v":""}]
[null,"038-524/1-U1","Rene 500 valamu 121-240cm/1,U1",{"$f":"IF(B558='Üldine info'!$C$5,C558,\"\")","v":""}]
[null,"038-524/2-U1","Rene 500 valamu 121-240cm/2,U1",{"$f":"IF(B559='Üldine info'!$C$5,C559,\"\")","v":""}]
[null,"038-524/3-U1","Rene 500 valamu 121-240cm/3,U1",{"$f":"IF(B560='Üldine info'!$C$5,C560,\"\")","v":""}]
[null,"038-541600CE-U1","Rene 540 160cm ülevooluta, U1",{"$f":"IF(B561='Üldine info'!$C$5,C561,\"\")","v":""}]
[null,"038-541600C-U1","Rene 540 160cm, U1",{"$f":"IF(B562='Üldine info'!$C$5,C562,\"\")","v":""}]
[null,"038-612/1-U1","Sibylla valamu, 60-120cm, U1",{"$f":"IF(B563='Üldine info'!$C$5,C563,\"\")","v":""}]
[null,"038-61400C-U1","Rene 600  140cm, ülevooluta,U1",{"$f":"IF(B564='Üldine info'!$C$5,C564,\"\")","v":""}]
[null,"038-618/1-U1","Sibylla valamu, 120-180cm, U1",{"$f":"IF(B565='Üldine info'!$C$5,C565,\"\")","v":""}]
[null,"038-618/2-U1","Sibylla valamu, 140-180cm",{"$f":"IF(B566='Üldine info'!$C$5,C566,\"\")","v":""}]
[null,"038-624/1-U1","Rene 600 valamu 121-240cm/1,U1",{"$f":"IF(B567='Üldine info'!$C$5,C567,\"\")","v":""}]
[null,"038-624/2-U1","Rene 600 valamu 121-240cm/2,U1",{"$f":"IF(B568='Üldine info'!$C$5,C568,\"\")","v":""}]
[null,"038-626/1-U1","Sibylla valamu, 180-260cm, U1",{"$f":"IF(B569='Üldine info'!$C$5,C569,\"\")","v":""}]
[null,"038-626/2-U1","Sibylla valamu, 180-260cm",{"$f":"IF(B570='Üldine info'!$C$5,C570,\"\")","v":""}]
[null,"038-626/3-U1","Sibylla valamu, 220-260cm",{"$f":"IF(B571='Üldine info'!$C$5,C571,\"\")","v":""}]
[null,"038-630/1-U1","Rene 600 valamu 241-300cm/1,U1",{"$f":"IF(B572='Üldine info'!$C$5,C572,\"\")","v":""}]
[null,"038-630/2-U1","Rene 600 valamu 241-300cm/2,U1",{"$f":"IF(B573='Üldine info'!$C$5,C573,\"\")","v":""}]
[null,"038-630/3-U1","Rene 600 valamu 241-300cm/3,U1",{"$f":"IF(B574='Üldine info'!$C$5,C574,\"\")","v":""}]
[null,"038-634/1-U1","Sibylla valamu, 260-340cm, U1",{"$f":"IF(B575='Üldine info'!$C$5,C575,\"\")","v":""}]
[null,"038-634/2-U1","Sibylla valamu, 260-340cm",{"$f":"IF(B576='Üldine info'!$C$5,C576,\"\")","v":""}]
[null,"038-634/3-U1","Sibylla valamu, 260-340cm",{"$f":"IF(B577='Üldine info'!$C$5,C577,\"\")","v":""}]
[null,"038E-072C-U1","Egeo valamu 72cm keskel U1",{"$f":"IF(B578='Üldine info'!$C$5,C578,\"\")","v":""}]
[null,"038E-132C-U1","Egeo valamu 132cm keskel U1",{"$f":"IF(B579='Üldine info'!$C$5,C579,\"\")","v":""}]
[null,"038-GB128C-U1","Albi valamu GB 128cm keskel",{"$f":"IF(B580='Üldine info'!$C$5,C580,\"\")","v":""}]
[null,"038-GB128L-U1","Albi valamu GB 128cm vasak",{"$f":"IF(B581='Üldine info'!$C$5,C581,\"\")","v":""}]
[null,"038-GB128R-U1","Albi valamu GB 128cm parem",{"$f":"IF(B582='Üldine info'!$C$5,C582,\"\")","v":""}]
[null,"038-P612/1-U1","Sibylla P valamu, 60-120cm",{"$f":"IF(B583='Üldine info'!$C$5,C583,\"\")","v":""}]
[null,"038-P618/1-U1","Sibylla P valamu, 120-180cm,U1",{"$f":"IF(B584='Üldine info'!$C$5,C584,\"\")","v":""}]
[null,"038-P618/2-U1","Sibylla P valamu, 120-180cm",{"$f":"IF(B585='Üldine info'!$C$5,C585,\"\")","v":""}]
[null,"038-P626/1-U1","Sibylla P valamu, 180-260cm,U1",{"$f":"IF(B586='Üldine info'!$C$5,C586,\"\")","v":""}]
[null,"038-P626/2-U1","Sibylla P valamu, 180-260cm",{"$f":"IF(B587='Üldine info'!$C$5,C587,\"\")","v":""}]
[null,"038-P626/3-U1","Sibylla P valamu, 180-260cm",{"$f":"IF(B588='Üldine info'!$C$5,C588,\"\")","v":""}]
[null,"038-P634/1-U1","Sibylla P valamu, 260-340cm,U1",{"$f":"IF(B589='Üldine info'!$C$5,C589,\"\")","v":""}]
[null,"038-P634/2-U1","Sibylla P valamu, 260-340cm",{"$f":"IF(B590='Üldine info'!$C$5,C590,\"\")","v":""}]
[null,"038-P634/3-U1","Sibylla P valamu, 260-340cm",{"$f":"IF(B591='Üldine info'!$C$5,C591,\"\")","v":""}]
[null,"038-P634/4-U1","Sibylla P valamu, 260-340cm",{"$f":"IF(B592='Üldine info'!$C$5,C592,\"\")","v":""}]
[null,"038-P634/5-U1","Sibylla P valamu, 260-340cm",{"$f":"IF(B593='Üldine info'!$C$5,C593,\"\")","v":""}]
[null,"038-T600-U1","Sibylla tasapind, U1",{"$f":"IF(B594='Üldine info'!$C$5,C594,\"\")","v":""}]
[null,"038-T634-U1","Rene 600 taspind kuni 340cm U1",{"$f":"IF(B595='Üldine info'!$C$5,C595,\"\")","v":""}]
[null,"039-060C-U1","RehaCare 600cm, U1 Valge",{"$f":"IF(B596='Üldine info'!$C$5,C596,\"\")","v":""}]
[null,"040-100L-U1","Chantilly Orig. 100cm,left U1",{"$f":"IF(B597='Üldine info'!$C$5,C597,\"\")","v":""}]
[null,"040-100R-U1","Chantilly Orig. 100cm,right U1",{"$f":"IF(B598='Üldine info'!$C$5,C598,\"\")","v":""}]
[null,"050-185L-U1","Vann Petra 185x73,5x60cm;vasak",{"$f":"IF(B599='Üldine info'!$C$5,C599,\"\")","v":""}]
[null,"050-185R-U1","Vann Petra 185x73,5x60cm;parem",{"$f":"IF(B600='Üldine info'!$C$5,C600,\"\")","v":""}]
[null,"050-215L-U1","Vann Petra 215x76,5x60cm;vasak",{"$f":"IF(B601='Üldine info'!$C$5,C601,\"\")","v":""}]
[null,"050-215R-U1","Vann Petra 215x76,5x60cm;parem",{"$f":"IF(B602='Üldine info'!$C$5,C602,\"\")","v":""}]
[null,"06999-U1","Eagle valamu 1198mm U1 parem",{"$f":"IF(B603='Üldine info'!$C$5,C603,\"\")","v":""}]
[null,"090-291-U1","Urn Kandiline U1 Valge",{"$f":"IF(B604='Üldine info'!$C$5,C604,\"\")","v":""}]
[null,"1005-053C2-U1","Junior 2 valamu 53cm, U1",{"$f":"IF(B605='Üldine info'!$C$5,C605,\"\")","v":""}]
[null,"1005-053C-U1","Junior valamu 53cm U1",{"$f":"IF(B606='Üldine info'!$C$5,C606,\"\")","v":""}]
[null,"1005-060C-U1","Anne valamu 60cm, U1",{"$f":"IF(B607='Üldine info'!$C$5,C607,\"\")","v":""}]
[null,"1005-080C-U1","Anne valamu 80cm, U1",{"$f":"IF(B608='Üldine info'!$C$5,C608,\"\")","v":""}]
[null,"1005-090L-U1","Anne valamu 90cm, vasak, U1",{"$f":"IF(B609='Üldine info'!$C$5,C609,\"\")","v":""}]
[null,"1005-090R-U1","Anne valamu 90cm, parem, U1",{"$f":"IF(B610='Üldine info'!$C$5,C610,\"\")","v":""}]
[null,"1005-100L-U1","Anne valamu 100cm, vasak, U1",{"$f":"IF(B611='Üldine info'!$C$5,C611,\"\")","v":""}]
[null,"1005-100R-U1","Anne valamu 100cm, parem, U1",{"$f":"IF(B612='Üldine info'!$C$5,C612,\"\")","v":""}]
[null,"1005-120C-U1","Anne valamu 120cm, keskel, U1",{"$f":"IF(B613='Üldine info'!$C$5,C613,\"\")","v":""}]
[null,"1005-120L-U1","Anne valamu 120cm, vasak, U1",{"$f":"IF(B614='Üldine info'!$C$5,C614,\"\")","v":""}]
[null,"1005-120R-U1","Anne valamu 120cm, parem, U1",{"$f":"IF(B615='Üldine info'!$C$5,C615,\"\")","v":""}]
[null,"1005-140C-U1","Anne valamu 140cm, keskel, U1",{"$f":"IF(B616='Üldine info'!$C$5,C616,\"\")","v":""}]
[null,"1005-150D-U1","Anne valamu 150cm, kahene, U1",{"$f":"IF(B617='Üldine info'!$C$5,C617,\"\")","v":""}]
[null,"1005-180C-U1","Anne valamu 180cm, keskel, U1",{"$f":"IF(B618='Üldine info'!$C$5,C618,\"\")","v":""}]
[null,"1005-180L-U1","Anne valamu 180cm, vasak, U1",{"$f":"IF(B619='Üldine info'!$C$5,C619,\"\")","v":""}]
[null,"1005-180R-U1","Anne valamu 180cm, parem, U1",{"$f":"IF(B620='Üldine info'!$C$5,C620,\"\")","v":""}]
[null,"1006-140C-U1","Abisko valamu 140cm, U1",{"$f":"IF(B621='Üldine info'!$C$5,C621,\"\")","v":""}]
[null,"1007-150C-U1","Avangard valamu 150cm, U1",{"$f":"IF(B622='Üldine info'!$C$5,C622,\"\")","v":""}]
[null,"1007-170C-U1","Avangard valamu 170cm, U1",{"$f":"IF(B623='Üldine info'!$C$5,C623,\"\")","v":""}]
[null,"1008-060C-U1","Cl.Nova valamu 60cm, keskel,U1",{"$f":"IF(B624='Üldine info'!$C$5,C624,\"\")","v":""}]
[null,"1008-080C-U1","Cl.Nova valamu 80, keskel, U1",{"$f":"IF(B625='Üldine info'!$C$5,C625,\"\")","v":""}]
[null,"1008-090L-U1","Cl.Nova valamu 90cm, vasak, U1",{"$f":"IF(B626='Üldine info'!$C$5,C626,\"\")","v":""}]
[null,"1008-090R-U1","Cl. Nova valamu 90, parem, U1",{"$f":"IF(B627='Üldine info'!$C$5,C627,\"\")","v":""}]
[null,"1008-120C-U1","Cl.Nova valamu 120, keskel, U1",{"$f":"IF(B628='Üldine info'!$C$5,C628,\"\")","v":""}]
[null,"1008-120D-U1","Cl.Nova valamu 120, kahene, U1",{"$f":"IF(B629='Üldine info'!$C$5,C629,\"\")","v":""}]
[null,"1009-060C-U1","Eva valamu 60cm, keskel, U1",{"$f":"IF(B630='Üldine info'!$C$5,C630,\"\")","v":""}]
[null,"1009-080C-U1","Eva valamu 80cm, keskel, U1",{"$f":"IF(B631='Üldine info'!$C$5,C631,\"\")","v":""}]
[null,"1014-060C-U1","Lähde valamu 60cm, keskel,  U1",{"$f":"IF(B632='Üldine info'!$C$5,C632,\"\")","v":""}]
[null,"1014-100L-U1","Saga valamu 100cm, vasak, U1",{"$f":"IF(B633='Üldine info'!$C$5,C633,\"\")","v":""}]
[null,"1014-100R-U1","Saga valamu 100cm, parem, U1",{"$f":"IF(B634='Üldine info'!$C$5,C634,\"\")","v":""}]
[null,"1014-120L-U1","Saga valamu 120cm, vasak, U1",{"$f":"IF(B635='Üldine info'!$C$5,C635,\"\")","v":""}]
[null,"1014-120R-U1","Saga valamu 120cm, parem, U1",{"$f":"IF(B636='Üldine info'!$C$5,C636,\"\")","v":""}]
[null,"1015-060C-U1","Ocean valamu 60cm, keskel, U1",{"$f":"IF(B637='Üldine info'!$C$5,C637,\"\")","v":""}]
[null,"1015-080C-U1","Ocean valamu 80cm, keskel, U1",{"$f":"IF(B638='Üldine info'!$C$5,C638,\"\")","v":""}]
[null,"1015-120C-U1","Ocean valamu 120cm, keskel, U1",{"$f":"IF(B639='Üldine info'!$C$5,C639,\"\")","v":""}]
[null,"1015-140F-U1","Ocean valamu 140F, U1, valge",{"$f":"IF(B640='Üldine info'!$C$5,C640,\"\")","v":""}]
[null,"1015-X-U1","Ocean Klapp Valge",{"$f":"IF(B641='Üldine info'!$C$5,C641,\"\")","v":""}]
[null,"1017-061C-U1","Onyx valamu 61cm, keskel, U1",{"$f":"IF(B642='Üldine info'!$C$5,C642,\"\")","v":""}]
[null,"1017-078C-U1","Aqua valamu 78cm, U1",{"$f":"IF(B643='Üldine info'!$C$5,C643,\"\")","v":""}]
[null,"1017-080C-U1","Aqua Plus valamu 80cm, U1",{"$f":"IF(B644='Üldine info'!$C$5,C644,\"\")","v":""}]
[null,"1017-090C-U1","Onyx valamu 90cm, U1",{"$f":"IF(B645='Üldine info'!$C$5,C645,\"\")","v":""}]
[null,"1017-110L-U1","Aq.Plus valamu 110, vasak, U1",{"$f":"IF(B646='Üldine info'!$C$5,C646,\"\")","v":""}]
[null,"1017-110R-U1","Aq.Plus valamu 110, parem, U1",{"$f":"IF(B647='Üldine info'!$C$5,C647,\"\")","v":""}]
[null,"1017-120/2-U1","Onyx valamu 120cm, kahene, U1",{"$f":"IF(B648='Üldine info'!$C$5,C648,\"\")","v":""}]
[null,"1017-120C-U1","Onyx valamu 120cm, keskel, U1",{"$f":"IF(B649='Üldine info'!$C$5,C649,\"\")","v":""}]
[null,"1017-140C-U1","Aq.Plus valamu 140, keskel, U1",{"$f":"IF(B650='Üldine info'!$C$5,C650,\"\")","v":""}]
[null,"1017-141C-U1","Lunic valamu 141cm, keskel, U1",{"$f":"IF(B651='Üldine info'!$C$5,C651,\"\")","v":""}]
[null,"1018-060C-U1","Cl.Comfort valamu 60cm, U1",{"$f":"IF(B652='Üldine info'!$C$5,C652,\"\")","v":""}]
[null,"1018-090L-U1","Cl.Comfort valamu 90, vas., U1",{"$f":"IF(B653='Üldine info'!$C$5,C653,\"\")","v":""}]
[null,"1018-090R-U1","Cl.Comfort valamu 90, par., U1",{"$f":"IF(B654='Üldine info'!$C$5,C654,\"\")","v":""}]
[null,"1018-120C-U1","Cl.Comfort valamu 120cm, U1",{"$f":"IF(B655='Üldine info'!$C$5,C655,\"\")","v":""}]
[null,"1019-060C-U1","Smart valamu 60cm, U1",{"$f":"IF(B656='Üldine info'!$C$5,C656,\"\")","v":""}]
[null,"1019-090L-U1","Smart valamu 90cm, vasak, U1",{"$f":"IF(B657='Üldine info'!$C$5,C657,\"\")","v":""}]
[null,"1019-090R-U1","Smart valamu 90cm, parem, U1",{"$f":"IF(B658='Üldine info'!$C$5,C658,\"\")","v":""}]
[null,"1019-120C-U1","Smart valamu 120cm, keskel, U1",{"$f":"IF(B659='Üldine info'!$C$5,C659,\"\")","v":""}]
[null,"1021-107L-U1","Wb. 1072mm, TYPE 1, U1, vasak",{"$f":"IF(B660='Üldine info'!$C$5,C660,\"\")","v":""}]
[null,"1021-120L-U1","Eagle valamu 1198mm U1 vasak",{"$f":"IF(B661='Üldine info'!$C$5,C661,\"\")","v":""}]
[null,"1021-120R-U1","Eagle valamu 1198mm U1 parem",{"$f":"IF(B662='Üldine info'!$C$5,C662,\"\")","v":""}]
[null,"1022-018C-U1","Pollux valamu",{"$f":"IF(B663='Üldine info'!$C$5,C663,\"\")","v":""}]
[null,"1022-020C-U1","Pollux valamu",{"$f":"IF(B664='Üldine info'!$C$5,C664,\"\")","v":""}]
[null,"1022-039C-U1","Luna valamu 39cm U1",{"$f":"IF(B665='Üldine info'!$C$5,C665,\"\")","v":""}]
[null,"1022-055C0-U1","Aino 80cm, U1, käepidemeta",{"$f":"IF(B666='Üldine info'!$C$5,C666,\"\")","v":""}]
[null,"1022-060C0-U1","Senior 60, U1, käepidemeta",{"$f":"IF(B667='Üldine info'!$C$5,C667,\"\")","v":""}]
[null,"1022-060C1-U1","Senior 60, U1, valge käepide",{"$f":"IF(B668='Üldine info'!$C$5,C668,\"\")","v":""}]
[null,"1022-060C4-U1","Senior 60, U1, hall käepide",{"$f":"IF(B669='Üldine info'!$C$5,C669,\"\")","v":""}]
[null,"1022-073C0-U1","G.Hospital 73cm, käepidemeta",{"$f":"IF(B670='Üldine info'!$C$5,C670,\"\")","v":""}]
[null,"1022-080L0-U1","G.Mini 80L,  U1, käepidemeta",{"$f":"IF(B671='Üldine info'!$C$5,C671,\"\")","v":""}]
[null,"1022-080L1-U1","G.Mini 80L, U1, valge käepide",{"$f":"IF(B672='Üldine info'!$C$5,C672,\"\")","v":""}]
[null,"1022-080L2-U1","G.Mini 80L, U1, punane käepide",{"$f":"IF(B673='Üldine info'!$C$5,C673,\"\")","v":""}]
[null,"1022-080L3-U1","G.Mini 80L, U1,kollane käepide",{"$f":"IF(B674='Üldine info'!$C$5,C674,\"\")","v":""}]
[null,"1022-080L4-U1","G.Mini 80L, U1, hall käepide",{"$f":"IF(B675='Üldine info'!$C$5,C675,\"\")","v":""}]
[null,"1022-080R0-U1","G.Mini 80R, U1, käepidemeta",{"$f":"IF(B676='Üldine info'!$C$5,C676,\"\")","v":""}]
[null,"1022-080R1-U1","G.Mini 80R, U1, valge käepide",{"$f":"IF(B677='Üldine info'!$C$5,C677,\"\")","v":""}]
[null,"1022-080R2-U1","G.Mini 80R, U1, punane käepide",{"$f":"IF(B678='Üldine info'!$C$5,C678,\"\")","v":""}]
[null,"1022-080R3-U1","G.Mini 80R, U1,kollane käepide",{"$f":"IF(B679='Üldine info'!$C$5,C679,\"\")","v":""}]
[null,"1022-090L0-U1","Senior 90L, U1, käepidemeta",{"$f":"IF(B680='Üldine info'!$C$5,C680,\"\")","v":""}]
[null,"1022-090L1-U1","Senior 90L, U1, valge käepide",{"$f":"IF(B681='Üldine info'!$C$5,C681,\"\")","v":""}]
[null,"1022-090L4-U1","Senior 90L, U1, hall käepide",{"$f":"IF(B682='Üldine info'!$C$5,C682,\"\")","v":""}]
[null,"1022-090R0-U1","Senior 90R, U1, käepidemeta",{"$f":"IF(B683='Üldine info'!$C$5,C683,\"\")","v":""}]
[null,"1022-090R1-U1","Senior 90R, U1, valge käepide",{"$f":"IF(B684='Üldine info'!$C$5,C684,\"\")","v":""}]
[null,"1022-100L0-U1","G.Original 100L,U1,käepidemeta",{"$f":"IF(B685='Üldine info'!$C$5,C685,\"\")","v":""}]
[null,"1022-100L2-U1","G.Original 100L,U1,punane käep",{"$f":"IF(B686='Üldine info'!$C$5,C686,\"\")","v":""}]
[null,"1022-100R0-U1","G.Original 100R, käepidemeta",{"$f":"IF(B687='Üldine info'!$C$5,C687,\"\")","v":""}]
[null,"1022-100R2-U1","G.Original 100R,punane käepide",{"$f":"IF(B688='Üldine info'!$C$5,C688,\"\")","v":""}]
[null,"1022-120C0-U1","Senior 120C, U1, käepidemeta",{"$f":"IF(B689='Üldine info'!$C$5,C689,\"\")","v":""}]
[null,"1022-120C1-U1","Senior 120C, U1, valge käepide",{"$f":"IF(B690='Üldine info'!$C$5,C690,\"\")","v":""}]
[null,"1022-132C-U1","Tupla valamu 132cm U1",{"$f":"IF(B691='Üldine info'!$C$5,C691,\"\")","v":""}]
[null,"1022-150L0-U1","G.Public 150L, U1, käepidemeta",{"$f":"IF(B692='Üldine info'!$C$5,C692,\"\")","v":""}]
[null,"1022-150L1-U1","G.Plus 150L, U1, valge käepide",{"$f":"IF(B693='Üldine info'!$C$5,C693,\"\")","v":""}]
[null,"1022-150PL0-U1","G.Public 150L, käepidemeta",{"$f":"IF(B694='Üldine info'!$C$5,C694,\"\")","v":""}]
[null,"1022-150PL6-U1","G.Public 150L, RVkäepide",{"$f":"IF(B695='Üldine info'!$C$5,C695,\"\")","v":""}]
[null,"1022-150PR0-U1","G.Public  150R, U1,käepidemeta",{"$f":"IF(B696='Üldine info'!$C$5,C696,\"\")","v":""}]
[null,"1022-150R0-U1","G.Plus 150R, U1, käepidemeta",{"$f":"IF(B697='Üldine info'!$C$5,C697,\"\")","v":""}]
[null,"1022-150R1-U1","G.Plus 150R, valge käepide",{"$f":"IF(B698='Üldine info'!$C$5,C698,\"\")","v":""}]
[null,"1023-060C-U1","Alveus valamu 60cm, U1",{"$f":"IF(B699='Üldine info'!$C$5,C699,\"\")","v":""}]
[null,"1023-060F-U1","Alveus valamu 60cm, U1",{"$f":"IF(B700='Üldine info'!$C$5,C700,\"\")","v":""}]
[null,"1023-080C-U1","Alveus valamu 80cm, U1",{"$f":"IF(B701='Üldine info'!$C$5,C701,\"\")","v":""}]
[null,"1023-080F-U1","Alveus F valamu 80, integ., U1",{"$f":"IF(B702='Üldine info'!$C$5,C702,\"\")","v":""}]
[null,"1023-120C-U1","Alveus valamu 120cm, U1",{"$f":"IF(B703='Üldine info'!$C$5,C703,\"\")","v":""}]
[null,"1023-120D-U1","Alveus  120, 2 segisti ava,U1",{"$f":"IF(B704='Üldine info'!$C$5,C704,\"\")","v":""}]
[null,"1023-120F-U1","Alveus F 120, 2 segisti ava,U1",{"$f":"IF(B705='Üldine info'!$C$5,C705,\"\")","v":""}]
[null,"1023-A200-U1","Inspira A valamu 43cm, U1",{"$f":"IF(B706='Üldine info'!$C$5,C706,\"\")","v":""}]
[null,"1023-AM200-U1","Inspira A Maxi valamu 48cm, U1",{"$f":"IF(B707='Üldine info'!$C$5,C707,\"\")","v":""}]
[null,"1023-C200-U1","Inspira C valamu 43cm, U1",{"$f":"IF(B708='Üldine info'!$C$5,C708,\"\")","v":""}]
[null,"1023-CXS20-U1","Cuadrato XS valamu 46,5cm, U1",{"$f":"IF(B709='Üldine info'!$C$5,C709,\"\")","v":""}]
[null,"1023-D200-U1","Inspira D valamu 43cm, U1",{"$f":"IF(B710='Üldine info'!$C$5,C710,\"\")","v":""}]
[null,"1023-DC200-U1","Inspira DC valamu 43cm, U1",{"$f":"IF(B711='Üldine info'!$C$5,C711,\"\")","v":""}]
[null,"1023-F200-U1","Inspira F valamu 43cm, U1",{"$f":"IF(B712='Üldine info'!$C$5,C712,\"\")","v":""}]
[null,"1023-FC200-U1","Inspira FC valamu 43cm, U1",{"$f":"IF(B713='Üldine info'!$C$5,C713,\"\")","v":""}]
[null,"1023-FCM200-U1","Inspira FC Maxi valamu 48cm,U1",{"$f":"IF(B714='Üldine info'!$C$5,C714,\"\")","v":""}]
[null,"1023-FM200-U1","Inspira F Maxi valamu 48cm, U1",{"$f":"IF(B715='Üldine info'!$C$5,C715,\"\")","v":""}]
[null,"1024-050C-U1","StoneTec valamu 50cm, U1",{"$f":"IF(B716='Üldine info'!$C$5,C716,\"\")","v":""}]
[null,"1024-075C-U1","StoneTec valamu 75cm, U1",{"$f":"IF(B717='Üldine info'!$C$5,C717,\"\")","v":""}]
[null,"1024-090C-U1","Viva Style valamu 90cm, U1",{"$f":"IF(B718='Üldine info'!$C$5,C718,\"\")","v":""}]
[null,"1024-091C-U1","Esprit valamu 90cm, keskel, U1",{"$f":"IF(B719='Üldine info'!$C$5,C719,\"\")","v":""}]
[null,"1024-100C-U1","Quadrato valamu 100cm, U1",{"$f":"IF(B720='Üldine info'!$C$5,C720,\"\")","v":""}]
[null,"1024-120L-U1","Viva Style valamu 120cm, vasak",{"$f":"IF(B721='Üldine info'!$C$5,C721,\"\")","v":""}]
[null,"1024-120R-U1","Viva Style valamu 120cm, parem",{"$f":"IF(B722='Üldine info'!$C$5,C722,\"\")","v":""}]
[null,"1024-150C-U1","Viva Style valamu 150cm, U1",{"$f":"IF(B723='Üldine info'!$C$5,C723,\"\")","v":""}]
[null,"1024-A040-U1","Tamago ADP töötasapind 40cm,U1",{"$f":"IF(B724='Üldine info'!$C$5,C724,\"\")","v":""}]
[null,"1024-A080-U1","Tamago ADP töötasapind 80cm,U1",{"$f":"IF(B725='Üldine info'!$C$5,C725,\"\")","v":""}]
[null,"1024-T060C-U1","Tamago valamu 60cm, keskel, U1",{"$f":"IF(B726='Üldine info'!$C$5,C726,\"\")","v":""}]
[null,"1024-T080C-U1","Tamago valamu 80cm,  keskel,U1",{"$f":"IF(B727='Üldine info'!$C$5,C727,\"\")","v":""}]
[null,"1024-T100L-U1","Tamago valamu 100cm, vasak, U1",{"$f":"IF(B728='Üldine info'!$C$5,C728,\"\")","v":""}]
[null,"1024-T100R-U1","Tamago valamu 100cm, parem, U1",{"$f":"IF(B729='Üldine info'!$C$5,C729,\"\")","v":""}]
[null,"1024-T120C/2-U1","Tamago valamu 120,U1,2 seg.ava",{"$f":"IF(B730='Üldine info'!$C$5,C730,\"\")","v":""}]
[null,"1024-T120C-U1","Tamago valamu 120cm, keskel,U1",{"$f":"IF(B731='Üldine info'!$C$5,C731,\"\")","v":""}]
[null,"1024-T120L-U1","Tamago valamu 120cm, vasak, U1",{"$f":"IF(B732='Üldine info'!$C$5,C732,\"\")","v":""}]
[null,"1024-T120R-U1","Tamago valamu 120cm, parem, U1",{"$f":"IF(B733='Üldine info'!$C$5,C733,\"\")","v":""}]
[null,"1024-T160L-U1","Tamago valamu 160cm, vasak, U1",{"$f":"IF(B734='Üldine info'!$C$5,C734,\"\")","v":""}]
[null,"1024-T160R-U1","Tamago valamu 160cm, parem, U1",{"$f":"IF(B735='Üldine info'!$C$5,C735,\"\")","v":""}]
[null,"1025-040C-U1","MyEgo valamu 40cm, U1",{"$f":"IF(B736='Üldine info'!$C$5,C736,\"\")","v":""}]
[null,"1025-C70C-U1","Cascade valamu 70cm, U1",{"$f":"IF(B737='Üldine info'!$C$5,C737,\"\")","v":""}]
[null,"1025-T030-U1","Tasapind 30cm, U1",{"$f":"IF(B738='Üldine info'!$C$5,C738,\"\")","v":""}]
[null,"1025-T060-U1","Tasapind 60cm, U1",{"$f":"IF(B739='Üldine info'!$C$5,C739,\"\")","v":""}]
[null,"1025-V100L-U1","Vincent valamu 100, vasak, U1",{"$f":"IF(B740='Üldine info'!$C$5,C740,\"\")","v":""}]
[null,"1025-V100R-U1","Vincent valamu 100R, U1",{"$f":"IF(B741='Üldine info'!$C$5,C741,\"\")","v":""}]
[null,"1026-059C-U1","MATRIX valamu 59cm, U1",{"$f":"IF(B742='Üldine info'!$C$5,C742,\"\")","v":""}]
[null,"1026-060C-U1","Kandi valamu 60cm, U1",{"$f":"IF(B743='Üldine info'!$C$5,C743,\"\")","v":""}]
[null,"1026-E060-U1","Linea valamu 60cm, U1",{"$f":"IF(B744='Üldine info'!$C$5,C744,\"\")","v":""}]
[null,"1026-E080-U1","Linea valamu 80cm, U1",{"$f":"IF(B745='Üldine info'!$C$5,C745,\"\")","v":""}]
[null,"1026-F200-U1","Kandi Flexi valamu 201cm, U1",{"$f":"IF(B746='Üldine info'!$C$5,C746,\"\")","v":""}]
[null,"1026-S060-U1","Kandi S valamu 60cm, U1",{"$f":"IF(B747='Üldine info'!$C$5,C747,\"\")","v":""}]
[null,"1026-S080-U1","Kandi S valamu 80cm, U1",{"$f":"IF(B748='Üldine info'!$C$5,C748,\"\")","v":""}]
[null,"1026-SS060-U1","Kandi SS valamu 60cm, U1",{"$f":"IF(B749='Üldine info'!$C$5,C749,\"\")","v":""}]
[null,"1026-XS060-U1","Kandi XS valamu 60cm, U1",{"$f":"IF(B750='Üldine info'!$C$5,C750,\"\")","v":""}]
[null,"1026-XS080-U1","Kandi XS valamu 80cm, U1",{"$f":"IF(B751='Üldine info'!$C$5,C751,\"\")","v":""}]
[null,"1027-090C-U1","Alex valamu 90cm, U1",{"$f":"IF(B752='Üldine info'!$C$5,C752,\"\")","v":""}]
[null,"1027-120C-U1","Alex valamu 120cm, U1",{"$f":"IF(B753='Üldine info'!$C$5,C753,\"\")","v":""}]
[null,"1027-150/2-U1","Alex valamu 150cm, kahene, U1",{"$f":"IF(B754='Üldine info'!$C$5,C754,\"\")","v":""}]
[null,"1027-M090C-U1","Maria valamu 90cm keskel, U1",{"$f":"IF(B755='Üldine info'!$C$5,C755,\"\")","v":""}]
[null,"1027-M120C-U1","Maria valamu 120cm, U1",{"$f":"IF(B756='Üldine info'!$C$5,C756,\"\")","v":""}]
[null,"1027-M150/2-U1","Maria valamu 150cm, kahene, U1",{"$f":"IF(B757='Üldine info'!$C$5,C757,\"\")","v":""}]
[null,"1028-033C-U1","Valamu TOP 1, 40cm, keskel, U",{"$f":"IF(B758='Üldine info'!$C$5,C758,\"\")","v":""}]
[null,"1028-037SL-U1","Riiul Brit.Fer-s 37,5cm, 2650L",{"$f":"IF(B759='Üldine info'!$C$5,C759,\"\")","v":""}]
[null,"1028-037SR-U1","Riiul Brit.Fer-s 37,5cm, 2651R",{"$f":"IF(B760='Üldine info'!$C$5,C760,\"\")","v":""}]
[null,"1028-044C-U1","Valamu TOP 2, 44cm, keskel, U",{"$f":"IF(B761='Üldine info'!$C$5,C761,\"\")","v":""}]
[null,"1028-050L-U1","VALAMU FERRIES 50L, 214L-500",{"$f":"IF(B762='Üldine info'!$C$5,C762,\"\")","v":""}]
[null,"1028-050R-U1","VALAMU FERRIES 50R, 215R-500",{"$f":"IF(B763='Üldine info'!$C$5,C763,\"\")","v":""}]
[null,"1028-078C-U1","Cosy Corner valamu 78cm, U1",{"$f":"IF(B764='Üldine info'!$C$5,C764,\"\")","v":""}]
[null,"1028-078SL-U1","Riiul  Brit.Fer-s 78cm, 2657L",{"$f":"IF(B765='Üldine info'!$C$5,C765,\"\")","v":""}]
[null,"1028-078SR-U1","Riiul Brit.Fer-s 78cm, 2658R",{"$f":"IF(B766='Üldine info'!$C$5,C766,\"\")","v":""}]
[null,"1028-078T-U1","Viking Line 78cm",{"$f":"IF(B767='Üldine info'!$C$5,C767,\"\")","v":""}]
[null,"1028-090L-U1","Cosy Corner valamu 90L, U1",{"$f":"IF(B768='Üldine info'!$C$5,C768,\"\")","v":""}]
[null,"1028-090R-U1","Cosy Corner valamu 90R, U1",{"$f":"IF(B769='Üldine info'!$C$5,C769,\"\")","v":""}]
[null,"1028-100L/0-U1","Viking Line valamu L-1376, 3A",{"$f":"IF(B770='Üldine info'!$C$5,C770,\"\")","v":""}]
[null,"1028-100L-U1","Viking Line valamu L-1376, 1A",{"$f":"IF(B771='Üldine info'!$C$5,C771,\"\")","v":""}]
[null,"1028-100R/0-U1","Viking Line valamu L-1376, 3B",{"$f":"IF(B772='Üldine info'!$C$5,C772,\"\")","v":""}]
[null,"1028-100R-U1","Viking Line valamu L-1376, 1B",{"$f":"IF(B773='Üldine info'!$C$5,C773,\"\")","v":""}]
[null,"1028-128R-U1","Genesis valamu 128cm, parem",{"$f":"IF(B774='Üldine info'!$C$5,C774,\"\")","v":""}]
[null,"1029-080C-U1","Step valamu 80cm, U1",{"$f":"IF(B775='Üldine info'!$C$5,C775,\"\")","v":""}]
[null,"1029-120C-U1","Step valamu 120cm, U1",{"$f":"IF(B776='Üldine info'!$C$5,C776,\"\")","v":""}]
[null,"1029-A070C-U1","Mania A valamu 70cm, U1",{"$f":"IF(B777='Üldine info'!$C$5,C777,\"\")","v":""}]
[null,"1029-AB070C-U1","Mania AB valamu 70cm, U1",{"$f":"IF(B778='Üldine info'!$C$5,C778,\"\")","v":""}]
[null,"1030-120C-U1","Mery tasap. 1200x450mm, valge",{"$f":"IF(B779='Üldine info'!$C$5,C779,\"\")","v":""}]
[null,"1030-180L-U1","Consul valamu 180cm, vasak, U1",{"$f":"IF(B780='Üldine info'!$C$5,C780,\"\")","v":""}]
[null,"1030-180R-U1","Consul valamu 180cm, parem, U1",{"$f":"IF(B781='Üldine info'!$C$5,C781,\"\")","v":""}]
[null,"1031-080CP-U1","Amadeus valamu 80, külgpan.,U1",{"$f":"IF(B782='Üldine info'!$C$5,C782,\"\")","v":""}]
[null,"1031-100CP-U1","Amadeus valamu 100,külgpan.,U1",{"$f":"IF(B783='Üldine info'!$C$5,C783,\"\")","v":""}]
[null,"1031-120CP-U1","Amadeus valamu 120CP,U1",{"$f":"IF(B784='Üldine info'!$C$5,C784,\"\")","v":""}]
[null,"1031-120C-U1","Amadeus valamu 120cm, U1",{"$f":"IF(B785='Üldine info'!$C$5,C785,\"\")","v":""}]
[null,"1031-120LP-U1","Amadeus valamu 120LP, U1",{"$f":"IF(B786='Üldine info'!$C$5,C786,\"\")","v":""}]
[null,"1031-120RP-U1","Amadeus valamu 120RP, U1",{"$f":"IF(B787='Üldine info'!$C$5,C787,\"\")","v":""}]
[null,"1031-160C-U1","Leon valamu 160cm, keskel, U1",{"$f":"IF(B788='Üldine info'!$C$5,C788,\"\")","v":""}]
[null,"1031-180C-U1","Amadeus valamu 180, keskel, U1",{"$f":"IF(B789='Üldine info'!$C$5,C789,\"\")","v":""}]
[null,"1031-180L-U1","Amadeus valamu 180cm, vasak,U1",{"$f":"IF(B790='Üldine info'!$C$5,C790,\"\")","v":""}]
[null,"1031-180R-U1","Amadeus valamu 180cm, parem,U1",{"$f":"IF(B791='Üldine info'!$C$5,C791,\"\")","v":""}]
[null,"1031-240D-U1","Amadeus valamu 240cm,kahene,U1",{"$f":"IF(B792='Üldine info'!$C$5,C792,\"\")","v":""}]
[null,"1031-320/3-U1","Amadeus valamu 320, kolmene,U1",{"$f":"IF(B793='Üldine info'!$C$5,C793,\"\")","v":""}]
[null,"1032-120C-U1","Silvi valamu 120cm, U1",{"$f":"IF(B794='Üldine info'!$C$5,C794,\"\")","v":""}]
[null,"1032-200C-U1","Silvi valamu 200cm, keskel, U1",{"$f":"IF(B795='Üldine info'!$C$5,C795,\"\")","v":""}]
[null,"1032-220C-U1","Silvi valamu 220C, U1",{"$f":"IF(B796='Üldine info'!$C$5,C796,\"\")","v":""}]
[null,"1032-240C/2-U1","Silvi valamu 240cm, kahene, U1",{"$f":"IF(B797='Üldine info'!$C$5,C797,\"\")","v":""}]
[null,"1032-240C/3-U1","Silvi valamu 240cm, kolmene,U1",{"$f":"IF(B798='Üldine info'!$C$5,C798,\"\")","v":""}]
[null,"1032-240C-U1","Silvi valamu 240cm, keskel, U1",{"$f":"IF(B799='Üldine info'!$C$5,C799,\"\")","v":""}]
[null,"1032-240L/2-U1","Silvi valamu 240L, kahene, U1",{"$f":"IF(B800='Üldine info'!$C$5,C800,\"\")","v":""}]
[null,"1032-240L-U1","Silvi valamu 240cm, vasak, U1",{"$f":"IF(B801='Üldine info'!$C$5,C801,\"\")","v":""}]
[null,"1032-240R/2-U1","Silvi valamu 240R, kahene, U1",{"$f":"IF(B802='Üldine info'!$C$5,C802,\"\")","v":""}]
[null,"1032-240R-U1","Silvi valamu 240R, U1",{"$f":"IF(B803='Üldine info'!$C$5,C803,\"\")","v":""}]
[null,"1032-SD080-U1","Dakota valamu 80cm, U1",{"$f":"IF(B804='Üldine info'!$C$5,C804,\"\")","v":""}]
[null,"1032-SM060-U1","Montana valamu 60cm, U1",{"$f":"IF(B805='Üldine info'!$C$5,C805,\"\")","v":""}]
[null,"1032-SN070-U1","New York valamu 70cm, U1",{"$f":"IF(B806='Üldine info'!$C$5,C806,\"\")","v":""}]
[null,"1032-SN080-U1","New York valamu 80cm, U1",{"$f":"IF(B807='Üldine info'!$C$5,C807,\"\")","v":""}]
[null,"1032-SN100-U1","New York valamu 100cm, U1",{"$f":"IF(B808='Üldine info'!$C$5,C808,\"\")","v":""}]
[null,"1032-SN120-U1","New York valamu 120cm, U1",{"$f":"IF(B809='Üldine info'!$C$5,C809,\"\")","v":""}]
[null,"1033-082L-U1","Valamu FORWARD 11, 82cm, vasa",{"$f":"IF(B810='Üldine info'!$C$5,C810,\"\")","v":""}]
[null,"1033-082R-U1","Valamu FORWARD 12, 82cm, pare",{"$f":"IF(B811='Üldine info'!$C$5,C811,\"\")","v":""}]
[null,"1033-A088C-U1","Valamu ADA",{"$f":"IF(B812='Üldine info'!$C$5,C812,\"\")","v":""}]
[null,"1034-010C-U1","Century valamu, 36,5cm, U1",{"$f":"IF(B813='Üldine info'!$C$5,C813,\"\")","v":""}]
[null,"1034-040C-U1","Valamu 40cm,U1,kesk.,M. Schiff",{"$f":"IF(B814='Üldine info'!$C$5,C814,\"\")","v":""}]
[null,"1034-062C-U1","BRITANNY 62C, 218C-875",{"$f":"IF(B815='Üldine info'!$C$5,C815,\"\")","v":""}]
[null,"1034-092L-U1","Valamu FORWARD 23, 2434L-92",{"$f":"IF(B816='Üldine info'!$C$5,C816,\"\")","v":""}]
[null,"1034-092R-U1","Valamu FORWARD 24, 2435R-92",{"$f":"IF(B817='Üldine info'!$C$5,C817,\"\")","v":""}]
[null,"1034-114L-U1","Century valamu L",{"$f":"IF(B818='Üldine info'!$C$5,C818,\"\")","v":""}]
[null,"1034-114R-U1","Century valamu R",{"$f":"IF(B819='Üldine info'!$C$5,C819,\"\")","v":""}]
[null,"1034-124L-U1","TYPE 5 MAKINEN valamu 124cm",{"$f":"IF(B820='Üldine info'!$C$5,C820,\"\")","v":""}]
[null,"1034-124R-U1","TYPE 2 MAKINEN valamu 124cm",{"$f":"IF(B821='Üldine info'!$C$5,C821,\"\")","v":""}]
[null,"1034-A082L-U1","Valamu FORWARD 13, 2324L-83",{"$f":"IF(B822='Üldine info'!$C$5,C822,\"\")","v":""}]
[null,"1034-A082R-U1","Valamu FORWARD 14, 2325R-83",{"$f":"IF(B823='Üldine info'!$C$5,C823,\"\")","v":""}]
[null,"1034-A105L-U1","Valamu CORNER 9, 2110C-105",{"$f":"IF(B824='Üldine info'!$C$5,C824,\"\")","v":""}]
[null,"1034-A105R-U1","Valamu CORNER 9, 105cm, parem",{"$f":"IF(B825='Üldine info'!$C$5,C825,\"\")","v":""}]
[null,"1034-A124L-U1","Valamu FORWARD 16, 2426L-124",{"$f":"IF(B826='Üldine info'!$C$5,C826,\"\")","v":""}]
[null,"1034-A124R-U1","Valamu FORWARD 15, 2427R-124",{"$f":"IF(B827='Üldine info'!$C$5,C827,\"\")","v":""}]
[null,"1034-HR025S-U1","Stefano riiul 25x46x20cm",{"$f":"IF(B828='Üldine info'!$C$5,C828,\"\")","v":""}]
[null,"1034-HR035S-U1","Stefano riiul 35x46x20cm",{"$f":"IF(B829='Üldine info'!$C$5,C829,\"\")","v":""}]
[null,"1034-HR050S-U1","Stefano riiul 50x46x20cm",{"$f":"IF(B830='Üldine info'!$C$5,C830,\"\")","v":""}]
[null,"1034-HR060S-U1","Stefano riiul 60x46x20cm",{"$f":"IF(B831='Üldine info'!$C$5,C831,\"\")","v":""}]
[null,"1034-HR070S-U1","Stefano riiul 70x46x20cm",{"$f":"IF(B832='Üldine info'!$C$5,C832,\"\")","v":""}]
[null,"1034-HR143L-U1","Stefano valamu 143cm, U1, vas.",{"$f":"IF(B833='Üldine info'!$C$5,C833,\"\")","v":""}]
[null,"1034-HR143R-U1","Stefano valamu 143cm; U1, par.",{"$f":"IF(B834='Üldine info'!$C$5,C834,\"\")","v":""}]
[null,"1034-HR185L-U1","Stefano valamu 185cm, U1, vas.",{"$f":"IF(B835='Üldine info'!$C$5,C835,\"\")","v":""}]
[null,"1034-HR192L-U1","Stefano valamu 192cm, U1, vas.",{"$f":"IF(B836='Üldine info'!$C$5,C836,\"\")","v":""}]
[null,"1034-HR192R-U1","Stefano valamu 192cm, U1, par.",{"$f":"IF(B837='Üldine info'!$C$5,C837,\"\")","v":""}]
[null,"1034-HR220L-U1","Stefano valamu 220cm, U1, vas.",{"$f":"IF(B838='Üldine info'!$C$5,C838,\"\")","v":""}]
[null,"1034-HR220R-U1","Stefano valamu 220cm, U1, par.",{"$f":"IF(B839='Üldine info'!$C$5,C839,\"\")","v":""}]
[null,"1034-S187-U1","Riiul 187cm, U1, Mein Schiff",{"$f":"IF(B840='Üldine info'!$C$5,C840,\"\")","v":""}]
[null,"1034-SA105-U1","Arizona/Nevada valamu 105cm,U1",{"$f":"IF(B841='Üldine info'!$C$5,C841,\"\")","v":""}]
[null,"1034-SL40-U1","Little You valamu 40cm, U1",{"$f":"IF(B842='Üldine info'!$C$5,C842,\"\")","v":""}]
[null,"1034-SM105-U1","Miami D valamu 105cm, U1",{"$f":"IF(B843='Üldine info'!$C$5,C843,\"\")","v":""}]
[null,"1034-SS80-U1","Shiny/Regina valamu 80cm, U1",{"$f":"IF(B844='Üldine info'!$C$5,C844,\"\")","v":""}]
[null,"1034-T187-U1","Tasapind 187cm U1 Mein Schiff",{"$f":"IF(B845='Üldine info'!$C$5,C845,\"\")","v":""}]
[null,"1035-037C-U1","Valamu TOP 3, 37cm, 2140C-37",{"$f":"IF(B846='Üldine info'!$C$5,C846,\"\")","v":""}]
[null,"1035-040C-U1","Celebrity valamu 40cm, U1",{"$f":"IF(B847='Üldine info'!$C$5,C847,\"\")","v":""}]
[null,"1035-045L-U1","Valamu CORNER 1, 212L-450",{"$f":"IF(B848='Üldine info'!$C$5,C848,\"\")","v":""}]
[null,"1035-045R-U1","Valamu CORNER 2, 213R-450",{"$f":"IF(B849='Üldine info'!$C$5,C849,\"\")","v":""}]
[null,"1035-051L-U1","Valamu CORNER 5, 216L-515",{"$f":"IF(B850='Üldine info'!$C$5,C850,\"\")","v":""}]
[null,"1035-051R-U1","Valamu CORNER 6, 217R-515",{"$f":"IF(B851='Üldine info'!$C$5,C851,\"\")","v":""}]
[null,"1035-058C-U1","Riiul 6, 2656C-58",{"$f":"IF(B852='Üldine info'!$C$5,C852,\"\")","v":""}]
[null,"1035-060C-U1","Suite TA valamu, 60cm, U1",{"$f":"IF(B853='Üldine info'!$C$5,C853,\"\")","v":""}]
[null,"1035-063C-U1","Suite BT valamu, 63cm, U1",{"$f":"IF(B854='Üldine info'!$C$5,C854,\"\")","v":""}]
[null,"1035-068L-U1","AIDACara valamu 685mm vasak U1",{"$f":"IF(B855='Üldine info'!$C$5,C855,\"\")","v":""}]
[null,"1035-068R-U1","AIDACara valamu 685mm parem U1",{"$f":"IF(B856='Üldine info'!$C$5,C856,\"\")","v":""}]
[null,"1035-068SL-U1","AIDACara riiul 670*356mm U1",{"$f":"IF(B857='Üldine info'!$C$5,C857,\"\")","v":""}]
[null,"1035-068SR-U1","AIDACara riiul 670*356mm U1",{"$f":"IF(B858='Üldine info'!$C$5,C858,\"\")","v":""}]
[null,"1035-081L-U1","AIDAVita valamu 819*448/128mm",{"$f":"IF(B859='Üldine info'!$C$5,C859,\"\")","v":""}]
[null,"1035-081R-U1","AIDAVita valamu 819*448/128mm",{"$f":"IF(B860='Üldine info'!$C$5,C860,\"\")","v":""}]
[null,"1035-082L-U1","Valamu Outside 82cm, vasak, U1",{"$f":"IF(B861='Üldine info'!$C$5,C861,\"\")","v":""}]
[null,"1035-082R-U1","Valamu Outside 82cm, parem, U1",{"$f":"IF(B862='Üldine info'!$C$5,C862,\"\")","v":""}]
[null,"1035-084L-U1","Valamu FORWARD 7, 2117L-84",{"$f":"IF(B863='Üldine info'!$C$5,C863,\"\")","v":""}]
[null,"1035-084R-U1","Valamu FORWARD 8, 2118R-84",{"$f":"IF(B864='Üldine info'!$C$5,C864,\"\")","v":""}]
[null,"1035-084SL-U1","Riiul 4, 84cm, 2654L",{"$f":"IF(B865='Üldine info'!$C$5,C865,\"\")","v":""}]
[null,"1035-084SR-U1","Riiul 5, 84cm, 2655R",{"$f":"IF(B866='Üldine info'!$C$5,C866,\"\")","v":""}]
[null,"1035-089L-U1","Valamu Deluxe 89cm, vasak, U1",{"$f":"IF(B867='Üldine info'!$C$5,C867,\"\")","v":""}]
[null,"1035-089R-U1","Valamu Deluxe 89cm, parem, U1",{"$f":"IF(B868='Üldine info'!$C$5,C868,\"\")","v":""}]
[null,"1035-089SL-U1","Shelf Type SO left, U1, 2652L",{"$f":"IF(B869='Üldine info'!$C$5,C869,\"\")","v":""}]
[null,"1035-089SR-U1","Shelf Type SO right, U1, 2653R",{"$f":"IF(B870='Üldine info'!$C$5,C870,\"\")","v":""}]
[null,"1035-090L-U1","Valamu FORWARD 3, 2414L-90",{"$f":"IF(B871='Üldine info'!$C$5,C871,\"\")","v":""}]
[null,"1035-090R-U1","Valamu FORWARD 4, 2414R-90",{"$f":"IF(B872='Üldine info'!$C$5,C872,\"\")","v":""}]
[null,"1035-091L-U1","Valamu FORWARD 5, 2416L-92",{"$f":"IF(B873='Üldine info'!$C$5,C873,\"\")","v":""}]
[null,"1035-091R-U1","Valamu FORWARD 6, 2416R-92",{"$f":"IF(B874='Üldine info'!$C$5,C874,\"\")","v":""}]
[null,"1035-095L-U1","Valamu 250 / 350 * 950 mm U1",{"$f":"IF(B875='Üldine info'!$C$5,C875,\"\")","v":""}]
[null,"1035-095R-U1","Valamu 250 / 350 * 950 mm U1",{"$f":"IF(B876='Üldine info'!$C$5,C876,\"\")","v":""}]
[null,"1035-095SL-U1","Riiul 200*950 mm U1",{"$f":"IF(B877='Üldine info'!$C$5,C877,\"\")","v":""}]
[null,"1035-095SR-U1","Riiul 200*950 mm U1",{"$f":"IF(B878='Üldine info'!$C$5,C878,\"\")","v":""}]
[null,"1035-119L-U1","Valamu FORWARD 29, 2343L-120",{"$f":"IF(B879='Üldine info'!$C$5,C879,\"\")","v":""}]
[null,"1035-119R-U1","Valamu FORWARD 30, 2343R-120",{"$f":"IF(B880='Üldine info'!$C$5,C880,\"\")","v":""}]
[null,"1035-120L-U1","TYPE 6B valamu 1198, U1 Valge",{"$f":"IF(B881='Üldine info'!$C$5,C881,\"\")","v":""}]
[null,"1035-120R-U1","TYPE 6A valamu 1198, U1 Valge",{"$f":"IF(B882='Üldine info'!$C$5,C882,\"\")","v":""}]
[null,"1035-120SL-U1","Riiul 11, 120cm, 2661L,Horizon",{"$f":"IF(B883='Üldine info'!$C$5,C883,\"\")","v":""}]
[null,"1035-120SR-U1","Riiul 12, 120cm, 2662R,Horizon",{"$f":"IF(B884='Üldine info'!$C$5,C884,\"\")","v":""}]
[null,"1035-124L-U1","Valamu FORWARD 27, 2438L-124",{"$f":"IF(B885='Üldine info'!$C$5,C885,\"\")","v":""}]
[null,"1035-124R-U1","Valamu FORWARD 28, 2439R-124",{"$f":"IF(B886='Üldine info'!$C$5,C886,\"\")","v":""}]
[null,"1035-128L-U1","Valamu FORWARD 31, 2445L-280",{"$f":"IF(B887='Üldine info'!$C$5,C887,\"\")","v":""}]
[null,"1035-128R-U1","Valamu FORWARD 32, 2446R-280",{"$f":"IF(B888='Üldine info'!$C$5,C888,\"\")","v":""}]
[null,"1035-137L-U1","Celebrity valamu 137cm,vas.,U1",{"$f":"IF(B889='Üldine info'!$C$5,C889,\"\")","v":""}]
[null,"1035-137R-U1","Celebrity valamu 137cm,par.,U1",{"$f":"IF(B890='Üldine info'!$C$5,C890,\"\")","v":""}]
[null,"1035-150L-U1","Valamu FORWARD 33, 2347C-150,",{"$f":"IF(B891='Üldine info'!$C$5,C891,\"\")","v":""}]
[null,"1035-150R-U1","Valamu FORWARD , 2347C-150",{"$f":"IF(B892='Üldine info'!$C$5,C892,\"\")","v":""}]
[null,"1035-151L-U1","Pax Balcony valamu, 151cm L U1",{"$f":"IF(B893='Üldine info'!$C$5,C893,\"\")","v":""}]
[null,"1035-AH081L-U1","Aida SO Hyp. 812mm,vasak,U1",{"$f":"IF(B894='Üldine info'!$C$5,C894,\"\")","v":""}]
[null,"1035-AH081R-U1","Aida SO Hyp. 812mm,parem,U1",{"$f":"IF(B895='Üldine info'!$C$5,C895,\"\")","v":""}]
[null,"1035-AH081SL-U1","AIDA SO riiul V 812*382mm U1 ",{"$f":"IF(B896='Üldine info'!$C$5,C896,\"\")","v":""}]
[null,"1035-AH081SR-U1","AIDA SO riiul P 812*382mm U1 ",{"$f":"IF(B897='Üldine info'!$C$5,C897,\"\")","v":""}]
[null,"1036-026C-U1","Pillar cladding 266x670mm, U1",{"$f":"IF(B898='Üldine info'!$C$5,C898,\"\")","v":""}]
[null,"1036-069C-U1","Nancy valamu, 69 cm, U1",{"$f":"IF(B899='Üldine info'!$C$5,C899,\"\")","v":""}]
[null,"1036-070C-U1","Even valamu 700x510mm",{"$f":"IF(B900='Üldine info'!$C$5,C900,\"\")","v":""}]
[null,"1036-080C-U1","Valamu 800x410mm, U1 EHPAD",{"$f":"IF(B901='Üldine info'!$C$5,C901,\"\")","v":""}]
[null,"1036-084L-U1","SK11518_05 valamu 840*645mm",{"$f":"IF(B902='Üldine info'!$C$5,C902,\"\")","v":""}]
[null,"1036-084R-U1","SK11519_05 valamu 840*645mm",{"$f":"IF(B903='Üldine info'!$C$5,C903,\"\")","v":""}]
[null,"1036-091L-U1","TYPE AMADEUS valamu 915/465mm",{"$f":"IF(B904='Üldine info'!$C$5,C904,\"\")","v":""}]
[null,"1036-091R-U1","TYPE AMADEUS valamu 915/465mm",{"$f":"IF(B905='Üldine info'!$C$5,C905,\"\")","v":""}]
[null,"1036-095R-U1","Heom valamu, 95 cm, U1, parem",{"$f":"IF(B906='Üldine info'!$C$5,C906,\"\")","v":""}]
[null,"1036-096L-U1","SK11520_05 valamu 950*515mm",{"$f":"IF(B907='Üldine info'!$C$5,C907,\"\")","v":""}]
[null,"1036-096R-U1","SK11521_05 valamu 950*515mm",{"$f":"IF(B908='Üldine info'!$C$5,C908,\"\")","v":""}]
[null,"1036-098LS-U1","Riiul 918/745mm, U1",{"$f":"IF(B909='Üldine info'!$C$5,C909,\"\")","v":""}]
[null,"1036-098RS-U1","Riiul 918/745mm, U1",{"$f":"IF(B910='Üldine info'!$C$5,C910,\"\")","v":""}]
[null,"1036-099L-U1","Reims valamu 994x540mm /V, U1",{"$f":"IF(B911='Üldine info'!$C$5,C911,\"\")","v":""}]
[null,"1036-099R-U1","Reims valamu 994x540mm /P, U1",{"$f":"IF(B912='Üldine info'!$C$5,C912,\"\")","v":""}]
[null,"1036-109LS-U1","Gehr riiul 109cm, U1, vasak",{"$f":"IF(B913='Üldine info'!$C$5,C913,\"\")","v":""}]
[null,"1036-109L-U1","Gehr valamu 109cm, vasak, U1",{"$f":"IF(B914='Üldine info'!$C$5,C914,\"\")","v":""}]
[null,"1036-109RS-U1","Gehr riiul, 109cm, U1, parem",{"$f":"IF(B915='Üldine info'!$C$5,C915,\"\")","v":""}]
[null,"1036-109R-U1","Valamu Gehr, 109cm, U1, parem",{"$f":"IF(B916='Üldine info'!$C$5,C916,\"\")","v":""}]
[null,"1036-120/2.1.-U1","Shark valamu 120cm, kahene, U1",{"$f":"IF(B917='Üldine info'!$C$5,C917,\"\")","v":""}]
[null,"1036-120/2-U1","Even valamu 1200x510/2, U1",{"$f":"IF(B918='Üldine info'!$C$5,C918,\"\")","v":""}]
[null,"1036-120L-U1","Staron valamu, 120 cm, U1, L",{"$f":"IF(B919='Üldine info'!$C$5,C919,\"\")","v":""}]
[null,"1036-120R-U1","Staron valamu, 120 cm, U1, R",{"$f":"IF(B920='Üldine info'!$C$5,C920,\"\")","v":""}]
[null,"1036-124L-U1","Rennes 124 vasal U1",{"$f":"IF(B921='Üldine info'!$C$5,C921,\"\")","v":""}]
[null,"1036-124R-U1","Rennes valamu 124 Parem U1",{"$f":"IF(B922='Üldine info'!$C$5,C922,\"\")","v":""}]
[null,"1036-140/2-U1","Even valamu 140/2 U1 valge",{"$f":"IF(B923='Üldine info'!$C$5,C923,\"\")","v":""}]
[null,"1036-142L-U1","Inside valamu 1422mm U1",{"$f":"IF(B924='Üldine info'!$C$5,C924,\"\")","v":""}]
[null,"1036-142R-U1","Inside valamu 1422mm U1",{"$f":"IF(B925='Üldine info'!$C$5,C925,\"\")","v":""}]
[null,"1036-143A-U1","Metz nurgavalamu 100x100cm",{"$f":"IF(B926='Üldine info'!$C$5,C926,\"\")","v":""}]
[null,"1036-180/3-U1","Even valamu 1800x510mm/3, U1",{"$f":"IF(B927='Üldine info'!$C$5,C927,\"\")","v":""}]
[null,"1036-210/3-U1","Even valamu 2100x510mm/3, U1",{"$f":"IF(B928='Üldine info'!$C$5,C928,\"\")","v":""}]
[null,"1036-495L-U1","Heom , 60-95 cm, U1, vasak",{"$f":"IF(B929='Üldine info'!$C$5,C929,\"\")","v":""}]
[null,"1036-T090-U1","Tasapind 900x350 Valge",{"$f":"IF(B930='Üldine info'!$C$5,C930,\"\")","v":""}]
[null,"1036-T120-U1","Tasapind 1200x350 Valge",{"$f":"IF(B931='Üldine info'!$C$5,C931,\"\")","v":""}]
[null,"1036-W120/2-U1","Shark vee väljalaskeava 120cm",{"$f":"IF(B932='Üldine info'!$C$5,C932,\"\")","v":""}]
[null,"1037-070C-U1","Publica valamu 70cm, keskel,U1",{"$f":"IF(B933='Üldine info'!$C$5,C933,\"\")","v":""}]
[null,"1037-090L-U1","Publica valamu 90cm, vasak, U1",{"$f":"IF(B934='Üldine info'!$C$5,C934,\"\")","v":""}]
[null,"1037-090R-U1","Publica valamu 90cm, parem, U1",{"$f":"IF(B935='Üldine info'!$C$5,C935,\"\")","v":""}]
[null,"1037-110C-U1","Publica valamu 110cm,keskel,U1",{"$f":"IF(B936='Üldine info'!$C$5,C936,\"\")","v":""}]
[null,"1037-120L-U1","Publica valamu 120, vasak, U1",{"$f":"IF(B937='Üldine info'!$C$5,C937,\"\")","v":""}]
[null,"1037-120R-U1","Publica valamu 120, parem, U1",{"$f":"IF(B938='Üldine info'!$C$5,C938,\"\")","v":""}]
[null,"1037-150/2-U1","Publica valamu 150, kahene, U1",{"$f":"IF(B939='Üldine info'!$C$5,C939,\"\")","v":""}]
[null,"1037-240/3-U1","Publica valamu 240, kolmene,U1",{"$f":"IF(B940='Üldine info'!$C$5,C940,\"\")","v":""}]
[null,"1038-050C-U1","Sybilla valge müts",{"$f":"IF(B941='Üldine info'!$C$5,C941,\"\")","v":""}]
[null,"1038-070C-U1","Albi valamu 70cm keskel U1",{"$f":"IF(B942='Üldine info'!$C$5,C942,\"\")","v":""}]
[null,"1038-072C-U1","Egeo valamu 72cm, keskel, U1",{"$f":"IF(B943='Üldine info'!$C$5,C943,\"\")","v":""}]
[null,"1038-088C-U1","Axiom valamu 88cm, keskel, U1",{"$f":"IF(B944='Üldine info'!$C$5,C944,\"\")","v":""}]
[null,"1038-095L-U1","Silja Symphone 95cm, vasak, U1",{"$f":"IF(B945='Üldine info'!$C$5,C945,\"\")","v":""}]
[null,"1038-095R-U1","Silja Symphone 95cm, parem, U1",{"$f":"IF(B946='Üldine info'!$C$5,C946,\"\")","v":""}]
[null,"1038-100C-U1","Valamu Amiens 100x80x40 Valge",{"$f":"IF(B947='Üldine info'!$C$5,C947,\"\")","v":""}]
[null,"1038-104C-U1","NEVERS valamu 104cm U1",{"$f":"IF(B948='Üldine info'!$C$5,C948,\"\")","v":""}]
[null,"1038-106C-U1","NEVERS valamu 106cm U1",{"$f":"IF(B949='Üldine info'!$C$5,C949,\"\")","v":""}]
[null,"1038-120C-U1","LUNEL valamu 120cm keskel U1",{"$f":"IF(B950='Üldine info'!$C$5,C950,\"\")","v":""}]
[null,"1038-128L/2-U1","Albi valamu 128cm vasak kahene",{"$f":"IF(B951='Üldine info'!$C$5,C951,\"\")","v":""}]
[null,"1038-128L-U1","Albi 128x48x20 Vasak,U1",{"$f":"IF(B952='Üldine info'!$C$5,C952,\"\")","v":""}]
[null,"1038-128R/2-U1","Albi valamu 128cm parem kahene",{"$f":"IF(B953='Üldine info'!$C$5,C953,\"\")","v":""}]
[null,"1038-128R-U1","Albi 128x48x20 Parem,U1",{"$f":"IF(B954='Üldine info'!$C$5,C954,\"\")","v":""}]
[null,"1038-130C-U1","Axiom valamu 131cm, keskel, U1",{"$f":"IF(B955='Üldine info'!$C$5,C955,\"\")","v":""}]
[null,"1038-132C-U1","Egeo valamu 132cm, keskel, U1",{"$f":"IF(B956='Üldine info'!$C$5,C956,\"\")","v":""}]
[null,"1038-170C-U1","NOX valamu 170cm, U1",{"$f":"IF(B957='Üldine info'!$C$5,C957,\"\")","v":""}]
[null,"1038-412/1-U1","Sibylla valamu, 60-120cm, U1",{"$f":"IF(B958='Üldine info'!$C$5,C958,\"\")","v":""}]
[null,"1038-418/1-U1","Sibylla valamu, 120-180cm, U1",{"$f":"IF(B959='Üldine info'!$C$5,C959,\"\")","v":""}]
[null,"1038-418/2-U1","Sibylla valamu 140-180cm",{"$f":"IF(B960='Üldine info'!$C$5,C960,\"\")","v":""}]
[null,"1038-426/1-U1","Sibylla valamu, 180-260cm, U1",{"$f":"IF(B961='Üldine info'!$C$5,C961,\"\")","v":""}]
[null,"1038-426/2-U1","Sibylla valamu, 180-260cm",{"$f":"IF(B962='Üldine info'!$C$5,C962,\"\")","v":""}]
[null,"1038-426/3-U1","Sibylla valamu, 220-260cm",{"$f":"IF(B963='Üldine info'!$C$5,C963,\"\")","v":""}]
[null,"1038-434/1-U1","Sibylla valamu, 260-340cm, U1",{"$f":"IF(B964='Üldine info'!$C$5,C964,\"\")","v":""}]
[null,"1038-434/2-U1","Sibylla valamu, 260-340cm",{"$f":"IF(B965='Üldine info'!$C$5,C965,\"\")","v":""}]
[null,"1038-434/3-U1","Sibylla valamu, 260-340cm",{"$f":"IF(B966='Üldine info'!$C$5,C966,\"\")","v":""}]
[null,"1038-512/1-U1","Rene 500 valamu 60-120cm/1, U1",{"$f":"IF(B967='Üldine info'!$C$5,C967,\"\")","v":""}]
[null,"1038-51440CX-U1","Rene 500 erimõõdud, keskel, U1",{"$f":"IF(B968='Üldine info'!$C$5,C968,\"\")","v":""}]
[null,"1038-524/1-U1","Rene 500 valamu 121-240cm/1,U1",{"$f":"IF(B969='Üldine info'!$C$5,C969,\"\")","v":""}]
[null,"1038-524/2-U1","Rene 500 valamu 121-240cm/2,U1",{"$f":"IF(B970='Üldine info'!$C$5,C970,\"\")","v":""}]
[null,"1038-541600C-U1","Rene 540 160cm U1",{"$f":"IF(B971='Üldine info'!$C$5,C971,\"\")","v":""}]
[null,"1038-612/1-U1","Sibylla valamu, 60-120cm, U1",{"$f":"IF(B972='Üldine info'!$C$5,C972,\"\")","v":""}]
[null,"1038-618/1-U1","Sibylla valamu, 120-180cm, U1",{"$f":"IF(B973='Üldine info'!$C$5,C973,\"\")","v":""}]
[null,"1038-618/2-U1","Sibylla valamu, 140-180cm, kah",{"$f":"IF(B974='Üldine info'!$C$5,C974,\"\")","v":""}]
[null,"1038-624/1-U1","Rene 600 valamu 121-240cm/1,U1",{"$f":"IF(B975='Üldine info'!$C$5,C975,\"\")","v":""}]
[null,"1038-624/2-U1","Rene 600 Valamu 121-240cm/2 U1",{"$f":"IF(B976='Üldine info'!$C$5,C976,\"\")","v":""}]
[null,"1038-626/1-U1","Sibylla valamu, 180-260cm, U1",{"$f":"IF(B977='Üldine info'!$C$5,C977,\"\")","v":""}]
[null,"1038-626/2-U1","Sibylla valamu, 180-260cm, kah",{"$f":"IF(B978='Üldine info'!$C$5,C978,\"\")","v":""}]
[null,"1038-626/3-U1","Sibylla valamu, 220-260cm, kol",{"$f":"IF(B979='Üldine info'!$C$5,C979,\"\")","v":""}]
[null,"1038-630/1-U1","Rene 600 valamu 241-300cm/1,U1",{"$f":"IF(B980='Üldine info'!$C$5,C980,\"\")","v":""}]
[null,"1038-630/2-U1","Rene 600 valamu 241-300cm/2,U1",{"$f":"IF(B981='Üldine info'!$C$5,C981,\"\")","v":""}]
[null,"1038-630/3-U1","Rene 600 valamu 241-300cm/3,U1",{"$f":"IF(B982='Üldine info'!$C$5,C982,\"\")","v":""}]
[null,"1038-634/1-U1","Sibylla valamu, 260-340cm, U1",{"$f":"IF(B983='Üldine info'!$C$5,C983,\"\")","v":""}]
[null,"1038-634/2-U1","Sibylla valamu, 260-340cm, kah",{"$f":"IF(B984='Üldine info'!$C$5,C984,\"\")","v":""}]
[null,"1038-634/3-U1","Sibylla valamu, 260-340cm, kol",{"$f":"IF(B985='Üldine info'!$C$5,C985,\"\")","v":""}]
[null,"1038-GB128L-U1","Albi valamu GB 128cm vasak",{"$f":"IF(B986='Üldine info'!$C$5,C986,\"\")","v":""}]
[null,"1038-GB128R-U1","Albi valamu GB 128cm parem",{"$f":"IF(B987='Üldine info'!$C$5,C987,\"\")","v":""}]
[null,"1038-P612/1-U1","Sibylla P valamu, 60-120cm, U1",{"$f":"IF(B988='Üldine info'!$C$5,C988,\"\")","v":""}]
[null,"1038-P618/1-U1","Sibylla P valamu, 120-180cm, U",{"$f":"IF(B989='Üldine info'!$C$5,C989,\"\")","v":""}]
[null,"1038-P618/2-U1","Sibylla P valamu, 120-180cm, k",{"$f":"IF(B990='Üldine info'!$C$5,C990,\"\")","v":""}]
[null,"1038-P626/1-U1","Sibylla P valamu, 180-260cm, U",{"$f":"IF(B991='Üldine info'!$C$5,C991,\"\")","v":""}]
[null,"1038-P626/2-U1","Sibylla P valamu, 180-260cm, k",{"$f":"IF(B992='Üldine info'!$C$5,C992,\"\")","v":""}]
[null,"1038-P626/3-U1","Sibylla P valamu, 180-260cm, k",{"$f":"IF(B993='Üldine info'!$C$5,C993,\"\")","v":""}]
[null,"1038-P634/1-U1","Sibylla P valamu, 260-340cm, U",{"$f":"IF(B994='Üldine info'!$C$5,C994,\"\")","v":""}]
[null,"1038-P634/2-U1","Sibylla P valamu, 260-340cm, k",{"$f":"IF(B995='Üldine info'!$C$5,C995,\"\")","v":""}]
[null,"1038-P634/3-U1","Sibylla P valamu, 260-340cm, k",{"$f":"IF(B996='Üldine info'!$C$5,C996,\"\")","v":""}]
[null,"1038-P634/4-U1","Sibylla P valamu, 260-340cm, n",{"$f":"IF(B997='Üldine info'!$C$5,C997,\"\")","v":""}]
[null,"1038-P634/5-U1","Sibylla P valamu, 260-340cm, v",{"$f":"IF(B998='Üldine info'!$C$5,C998,\"\")","v":""}]
[null,"1039-060C-U1","RehaCare 600cm, U1 Valge",{"$f":"IF(B999='Üldine info'!$C$5,C999,\"\")","v":""}]
[null,"1040-100L-U1","Chantilly Orig. 100cm,left,U1",{"$f":"IF(B1000='Üldine info'!$C$5,C1000,\"\")","v":""}]
[null,"1040-100R-U1","Chantilly Orig. 100cm,right,U1",{"$f":"IF(B1001='Üldine info'!$C$5,C1001,\"\")","v":""}]
[null,"1090-291-U1","Urn Kandiline U1 Valge",{"$f":"IF(B1002='Üldine info'!$C$5,C1002,\"\")","v":""}]
[null,"1NAIDIS-U1","1NAIDIS-U1",{"$f":"IF(B1003='Üldine info'!$C$5,C1003,\"\")","v":""}]
[null,"2005-053C2-U1","Junior 2 valamu 53cm, U1",{"$f":"IF(B1004='Üldine info'!$C$5,C1004,\"\")","v":""}]
[null,"2005-053C-U1","Junior valamu 53cm U1",{"$f":"IF(B1005='Üldine info'!$C$5,C1005,\"\")","v":""}]
[null,"2005-060C-U1","Anne valamu 60cm, U1",{"$f":"IF(B1006='Üldine info'!$C$5,C1006,\"\")","v":""}]
[null,"2005-080C-U1","Anne valamu 80cm, U1",{"$f":"IF(B1007='Üldine info'!$C$5,C1007,\"\")","v":""}]
[null,"2005-090L-U1","Anne valamu 90cm, vasak, U1",{"$f":"IF(B1008='Üldine info'!$C$5,C1008,\"\")","v":""}]
[null,"2005-090R-U1","Anne valamu 90cm, parem, U1",{"$f":"IF(B1009='Üldine info'!$C$5,C1009,\"\")","v":""}]
[null,"2005-100L-U1","Anne valamu 100cm, vasak, U1",{"$f":"IF(B1010='Üldine info'!$C$5,C1010,\"\")","v":""}]
[null,"2005-100R-U1","Anne valamu 100cm, parem, U1",{"$f":"IF(B1011='Üldine info'!$C$5,C1011,\"\")","v":""}]
[null,"2005-120C-U1","Anne valamu 120cm, keskel, U1",{"$f":"IF(B1012='Üldine info'!$C$5,C1012,\"\")","v":""}]
[null,"2005-120L-U1","Anne valamu 120cm, vasak, U1",{"$f":"IF(B1013='Üldine info'!$C$5,C1013,\"\")","v":""}]
[null,"2005-120R-U1","Anne valamu 120cm, parem, U1",{"$f":"IF(B1014='Üldine info'!$C$5,C1014,\"\")","v":""}]
[null,"2005-140C-U1","Anne valamu 140cm, keskel, U1",{"$f":"IF(B1015='Üldine info'!$C$5,C1015,\"\")","v":""}]
[null,"2005-150D-U1","Anne valamu 150cm, kahene, U1",{"$f":"IF(B1016='Üldine info'!$C$5,C1016,\"\")","v":""}]
[null,"2005-180C-U1","Anne valamu 180cm, keskel, U1",{"$f":"IF(B1017='Üldine info'!$C$5,C1017,\"\")","v":""}]
[null,"2005-180L-U1","Anne valamu 180cm, vasak, U1",{"$f":"IF(B1018='Üldine info'!$C$5,C1018,\"\")","v":""}]
[null,"2005-180R-U1","Anne valamu 180cm, parem, U1",{"$f":"IF(B1019='Üldine info'!$C$5,C1019,\"\")","v":""}]
[null,"2006-040C-U1","Ovo valamu 40cm, U1",{"$f":"IF(B1020='Üldine info'!$C$5,C1020,\"\")","v":""}]
[null,"2006-045C-U1","Ovo valamu 45cm, U1",{"$f":"IF(B1021='Üldine info'!$C$5,C1021,\"\")","v":""}]
[null,"2006-050C-U1","Ovo valamu 50cm, U1",{"$f":"IF(B1022='Üldine info'!$C$5,C1022,\"\")","v":""}]
[null,"2006-140C-U1","Abisko valamu 140cm, U1",{"$f":"IF(B1023='Üldine info'!$C$5,C1023,\"\")","v":""}]
[null,"2007-150C-U1","Avangard valamu 150cm, U1",{"$f":"IF(B1024='Üldine info'!$C$5,C1024,\"\")","v":""}]
[null,"2007-170C-U1","Avangard valamu 170cm, U1",{"$f":"IF(B1025='Üldine info'!$C$5,C1025,\"\")","v":""}]
[null,"2008-060C-U1","Cl.Nova valamu 60cm, keskel,U1",{"$f":"IF(B1026='Üldine info'!$C$5,C1026,\"\")","v":""}]
[null,"2008-080C-U1","Cl.Nova valamu 80, keskel, U1",{"$f":"IF(B1027='Üldine info'!$C$5,C1027,\"\")","v":""}]
[null,"2008-090L-U1","Cl.Nova valamu 90cm, vasak, U1",{"$f":"IF(B1028='Üldine info'!$C$5,C1028,\"\")","v":""}]
[null,"2008-090R-U1","Cl. Nova valamu 90, parem, U1",{"$f":"IF(B1029='Üldine info'!$C$5,C1029,\"\")","v":""}]
[null,"2008-120C-U1","Cl.Nova valamu 120, keskel, U1",{"$f":"IF(B1030='Üldine info'!$C$5,C1030,\"\")","v":""}]
[null,"2008-120D-U1","Cl.Nova valamu 120, kahene, U1",{"$f":"IF(B1031='Üldine info'!$C$5,C1031,\"\")","v":""}]
[null,"2009-060C-U1","Eva valamu 60cm, keskel, U1",{"$f":"IF(B1032='Üldine info'!$C$5,C1032,\"\")","v":""}]
[null,"2009-080C-U1","Eva valamu 80cm, keskel, U1",{"$f":"IF(B1033='Üldine info'!$C$5,C1033,\"\")","v":""}]
[null,"2014-060C-U1","Lähde valamu 60cm, keskel,  U1",{"$f":"IF(B1034='Üldine info'!$C$5,C1034,\"\")","v":""}]
[null,"2014-100L-U1","Saga valamu 100cm, vasak, U1",{"$f":"IF(B1035='Üldine info'!$C$5,C1035,\"\")","v":""}]
[null,"2014-100R-U1","Saga valamu 100cm, parem, U1",{"$f":"IF(B1036='Üldine info'!$C$5,C1036,\"\")","v":""}]
[null,"2014-120L-U1","Saga valamu 120cm, vasak, U1",{"$f":"IF(B1037='Üldine info'!$C$5,C1037,\"\")","v":""}]
[null,"2014-120R-U1","Saga valamu 120cm, parem, U1",{"$f":"IF(B1038='Üldine info'!$C$5,C1038,\"\")","v":""}]
[null,"2015-060C-U1","Ocean valamu 60cm, keskel, U1",{"$f":"IF(B1039='Üldine info'!$C$5,C1039,\"\")","v":""}]
[null,"2015-080C-U1","Ocean valamu 80cm, keskel, U1",{"$f":"IF(B1040='Üldine info'!$C$5,C1040,\"\")","v":""}]
[null,"2015-120C-U1","Ocean valamu 120cm, keskel, U1",{"$f":"IF(B1041='Üldine info'!$C$5,C1041,\"\")","v":""}]
[null,"2015-140F-U1","Ocean valamu 140F, U1, valge",{"$f":"IF(B1042='Üldine info'!$C$5,C1042,\"\")","v":""}]
[null,"2015-X-U1","Ocean Klapp Valge",{"$f":"IF(B1043='Üldine info'!$C$5,C1043,\"\")","v":""}]
[null,"2017-061C-U1","Onyx valamu 61cm, keskel, U1",{"$f":"IF(B1044='Üldine info'!$C$5,C1044,\"\")","v":""}]
[null,"2017-078C-U1","Aqua valamu 78cm, U1",{"$f":"IF(B1045='Üldine info'!$C$5,C1045,\"\")","v":""}]
[null,"2017-080C-U1","Aqua Plus valamu 80cm, U1",{"$f":"IF(B1046='Üldine info'!$C$5,C1046,\"\")","v":""}]
[null,"2017-090C-U1","Onyx valamu 90cm, U1",{"$f":"IF(B1047='Üldine info'!$C$5,C1047,\"\")","v":""}]
[null,"2017-110L-U1","Aq.Plus valamu 110, vasak, U1",{"$f":"IF(B1048='Üldine info'!$C$5,C1048,\"\")","v":""}]
[null,"2017-110R-U1","Aq.Plus valamu 110, parem, U1",{"$f":"IF(B1049='Üldine info'!$C$5,C1049,\"\")","v":""}]
[null,"2017-120/2-U1","Onyx valamu 120cm, kahene, U1",{"$f":"IF(B1050='Üldine info'!$C$5,C1050,\"\")","v":""}]
[null,"2017-120C-U1","Onyx valamu 120cm, keskel, U1",{"$f":"IF(B1051='Üldine info'!$C$5,C1051,\"\")","v":""}]
[null,"2017-140C-U1","Aq.Plus valamu 140, keskel, U1",{"$f":"IF(B1052='Üldine info'!$C$5,C1052,\"\")","v":""}]
[null,"2017-141C-U1","Lunic valamu 141cm, keskel, U1",{"$f":"IF(B1053='Üldine info'!$C$5,C1053,\"\")","v":""}]
[null,"2018-060C-U1","Cl.Comfort valamu 60cm, U1",{"$f":"IF(B1054='Üldine info'!$C$5,C1054,\"\")","v":""}]
[null,"2018-090L-U1","Cl.Comfort valamu 90, vas., U1",{"$f":"IF(B1055='Üldine info'!$C$5,C1055,\"\")","v":""}]
[null,"2018-090R-U1","Cl.Comfort valamu 90, par., U1",{"$f":"IF(B1056='Üldine info'!$C$5,C1056,\"\")","v":""}]
[null,"2018-120C-U1","Cl.Comfort valamu 120cm, U1",{"$f":"IF(B1057='Üldine info'!$C$5,C1057,\"\")","v":""}]
[null,"2019-060C-U1","Smart valamu 60cm, U1",{"$f":"IF(B1058='Üldine info'!$C$5,C1058,\"\")","v":""}]
[null,"2019-090L-U1","Smart valamu 90cm, vasak, U1",{"$f":"IF(B1059='Üldine info'!$C$5,C1059,\"\")","v":""}]
[null,"2019-090R-U1","Smart valamu 90cm, parem, U1",{"$f":"IF(B1060='Üldine info'!$C$5,C1060,\"\")","v":""}]
[null,"2019-120C-U1","Smart valamu 120cm, keskel, U1",{"$f":"IF(B1061='Üldine info'!$C$5,C1061,\"\")","v":""}]
[null,"2021-107L-U1","Wb. 1072mm, TYPE 1, U1, vasak",{"$f":"IF(B1062='Üldine info'!$C$5,C1062,\"\")","v":""}]
[null,"2021-120L-U1","Eagle valamu 1198mm U1 vasak",{"$f":"IF(B1063='Üldine info'!$C$5,C1063,\"\")","v":""}]
[null,"2021-120R-U1","Eagle valamu 1198mm U1 parem",{"$f":"IF(B1064='Üldine info'!$C$5,C1064,\"\")","v":""}]
[null,"2022-018C-U1","Pollux valamu",{"$f":"IF(B1065='Üldine info'!$C$5,C1065,\"\")","v":""}]
[null,"2022-020C-U1","Pollux valamu",{"$f":"IF(B1066='Üldine info'!$C$5,C1066,\"\")","v":""}]
[null,"2022-039C-U1","Luna valamu 39cm U1",{"$f":"IF(B1067='Üldine info'!$C$5,C1067,\"\")","v":""}]
[null,"2022-055C0-U1","Aino 80cm, U1, käepidemeta",{"$f":"IF(B1068='Üldine info'!$C$5,C1068,\"\")","v":""}]
[null,"2022-060C0-U1","Senior 60, U1, käepidemeta",{"$f":"IF(B1069='Üldine info'!$C$5,C1069,\"\")","v":""}]
[null,"2022-073C0-U1","G.Hospital 73cm, käepidemeta",{"$f":"IF(B1070='Üldine info'!$C$5,C1070,\"\")","v":""}]
[null,"2022-080L0-U1","G.Mini 80L,  U1, käepidemeta",{"$f":"IF(B1071='Üldine info'!$C$5,C1071,\"\")","v":""}]
[null,"2022-080R0-U1","G.Mini 80R, U1, käepidemeta",{"$f":"IF(B1072='Üldine info'!$C$5,C1072,\"\")","v":""}]
[null,"2022-090L0-U1","Senior 90L, U1, käepidemeta",{"$f":"IF(B1073='Üldine info'!$C$5,C1073,\"\")","v":""}]
[null,"2022-090R0-U1","Senior 90R, U1, käepidemeta",{"$f":"IF(B1074='Üldine info'!$C$5,C1074,\"\")","v":""}]
[null,"2022-100L0-U1","G.Original 100L,U1,käepidemeta",{"$f":"IF(B1075='Üldine info'!$C$5,C1075,\"\")","v":""}]
[null,"2022-100R0-U1","G.Original 100R,U1 käepidemeta",{"$f":"IF(B1076='Üldine info'!$C$5,C1076,\"\")","v":""}]
[null,"2022-120C0-U1","Senior 120C, U1, käepidemeta",{"$f":"IF(B1077='Üldine info'!$C$5,C1077,\"\")","v":""}]
[null,"2022-132C-U1","Tupla 132cm, U1, käepidemeta",{"$f":"IF(B1078='Üldine info'!$C$5,C1078,\"\")","v":""}]
[null,"2022-150L0-U1","G.Plus 150L, U1, käepidemeta",{"$f":"IF(B1079='Üldine info'!$C$5,C1079,\"\")","v":""}]
[null,"2022-150PL0-U1","G.Public 150L, U1, käepidemeta",{"$f":"IF(B1080='Üldine info'!$C$5,C1080,\"\")","v":""}]
[null,"2022-150PR0-U1","G.Public  150R, U1,käepidemeta",{"$f":"IF(B1081='Üldine info'!$C$5,C1081,\"\")","v":""}]
[null,"2022-150R0-U1","G.Plus 150R, U1, käepidemeta",{"$f":"IF(B1082='Üldine info'!$C$5,C1082,\"\")","v":""}]
[null,"2023-060C-U1","Alveus valamu 60cm, U1",{"$f":"IF(B1083='Üldine info'!$C$5,C1083,\"\")","v":""}]
[null,"2023-060F-U1","Alveus valamu 60cm, U1",{"$f":"IF(B1084='Üldine info'!$C$5,C1084,\"\")","v":""}]
[null,"2023-080C-U1","Alveus valamu 80cm, U1",{"$f":"IF(B1085='Üldine info'!$C$5,C1085,\"\")","v":""}]
[null,"2023-080F-U1","Alveus F valamu 80, integ., U1",{"$f":"IF(B1086='Üldine info'!$C$5,C1086,\"\")","v":""}]
[null,"2023-120C-U1","Alveus valamu 120cm, U1",{"$f":"IF(B1087='Üldine info'!$C$5,C1087,\"\")","v":""}]
[null,"2023-120D-U1","Alveus  120, 2 segisti ava,U1",{"$f":"IF(B1088='Üldine info'!$C$5,C1088,\"\")","v":""}]
[null,"2023-120F-U1","Alveus F 120, 2 segisti ava,U1",{"$f":"IF(B1089='Üldine info'!$C$5,C1089,\"\")","v":""}]
[null,"2023-A200-U1","Inspira A valamu 43cm, U1",{"$f":"IF(B1090='Üldine info'!$C$5,C1090,\"\")","v":""}]
[null,"2023-AM200-U1","Inspira A Maxi valamu 48cm, U1",{"$f":"IF(B1091='Üldine info'!$C$5,C1091,\"\")","v":""}]
[null,"2023-C200-U1","Inspira C valamu 43cm, U1",{"$f":"IF(B1092='Üldine info'!$C$5,C1092,\"\")","v":""}]
[null,"2023-CXS20-U1","Cuadrato XS valamu 46,5cm, U1",{"$f":"IF(B1093='Üldine info'!$C$5,C1093,\"\")","v":""}]
[null,"2023-D200-U1","Inspira D valamu 43cm, U1",{"$f":"IF(B1094='Üldine info'!$C$5,C1094,\"\")","v":""}]
[null,"2023-DC200-U1","Inspira DC valamu 43cm, U1",{"$f":"IF(B1095='Üldine info'!$C$5,C1095,\"\")","v":""}]
[null,"2023-F200-U1","Inspira F valamu 43cm, U1",{"$f":"IF(B1096='Üldine info'!$C$5,C1096,\"\")","v":""}]
[null,"2023-FC200-U1","Inspira FC valamu 43cm, U1",{"$f":"IF(B1097='Üldine info'!$C$5,C1097,\"\")","v":""}]
[null,"2023-FCM200-U1","Inspira FC Maxi valamu 48cm,U1",{"$f":"IF(B1098='Üldine info'!$C$5,C1098,\"\")","v":""}]
[null,"2023-FM200-U1","Inspira F Maxi valamu 48cm, U1",{"$f":"IF(B1099='Üldine info'!$C$5,C1099,\"\")","v":""}]
[null,"2024-050C-U1","StoneTec valamu 50cm, U1",{"$f":"IF(B1100='Üldine info'!$C$5,C1100,\"\")","v":""}]
[null,"2024-075C-U1","StoneTec valamu 75cm, U1",{"$f":"IF(B1101='Üldine info'!$C$5,C1101,\"\")","v":""}]
[null,"2024-090C-U1","Viva Style valamu 90cm, U1",{"$f":"IF(B1102='Üldine info'!$C$5,C1102,\"\")","v":""}]
[null,"2024-091C-U1","Esprit valamu 90cm, keskel, U1",{"$f":"IF(B1103='Üldine info'!$C$5,C1103,\"\")","v":""}]
[null,"2024-100C-U1","Quadrato valamu 100cm, U1",{"$f":"IF(B1104='Üldine info'!$C$5,C1104,\"\")","v":""}]
[null,"2024-120L-U1","Viva Style valamu 120cm, vasak",{"$f":"IF(B1105='Üldine info'!$C$5,C1105,\"\")","v":""}]
[null,"2024-120R-U1","Viva Style valamu 120cm, parem",{"$f":"IF(B1106='Üldine info'!$C$5,C1106,\"\")","v":""}]
[null,"2024-150C-U1","Viva Style valamu 150cm, U1",{"$f":"IF(B1107='Üldine info'!$C$5,C1107,\"\")","v":""}]
[null,"2024-A040-U1","Tamago ADP töötasapind 40cm,U1",{"$f":"IF(B1108='Üldine info'!$C$5,C1108,\"\")","v":""}]
[null,"2024-A080-U1","Tamago ADP töötasapind 80cm,U1",{"$f":"IF(B1109='Üldine info'!$C$5,C1109,\"\")","v":""}]
[null,"2024-T060C-U1","Tamago valamu 60cm, keskel, U1",{"$f":"IF(B1110='Üldine info'!$C$5,C1110,\"\")","v":""}]
[null,"2024-T080C-U1","Tamago valamu 80cm,  keskel,U1",{"$f":"IF(B1111='Üldine info'!$C$5,C1111,\"\")","v":""}]
[null,"2024-T100L-U1","Tamago valamu 100cm, vasak, U1",{"$f":"IF(B1112='Üldine info'!$C$5,C1112,\"\")","v":""}]
[null,"2024-T100R-U1","Tamago valamu 100cm, parem, U1",{"$f":"IF(B1113='Üldine info'!$C$5,C1113,\"\")","v":""}]
[null,"2024-T120C/2-U1","Tamago valamu 120,U1,2 seg.ava",{"$f":"IF(B1114='Üldine info'!$C$5,C1114,\"\")","v":""}]
[null,"2024-T120C-U1","Tamago valamu 120cm, keskel,U1",{"$f":"IF(B1115='Üldine info'!$C$5,C1115,\"\")","v":""}]
[null,"2024-T120L-U1","Tamago valamu 120cm, vasak, U1",{"$f":"IF(B1116='Üldine info'!$C$5,C1116,\"\")","v":""}]
[null,"2024-T120R-U1","Tamago valamu 120cm, parem, U1",{"$f":"IF(B1117='Üldine info'!$C$5,C1117,\"\")","v":""}]
[null,"2024-T160L-U1","Tamago valamu 160cm, vasak, U1",{"$f":"IF(B1118='Üldine info'!$C$5,C1118,\"\")","v":""}]
[null,"2024-T160R-U1","Tamago valamu 160cm, parem, U1",{"$f":"IF(B1119='Üldine info'!$C$5,C1119,\"\")","v":""}]
[null,"2025-040C-U1","MyEgo valamu 40cm, U1",{"$f":"IF(B1120='Üldine info'!$C$5,C1120,\"\")","v":""}]
[null,"2025-C70C-U1","Cascade valamu 70cm, U1",{"$f":"IF(B1121='Üldine info'!$C$5,C1121,\"\")","v":""}]
[null,"2025-T030-U1","Tasapind 30cm, U1",{"$f":"IF(B1122='Üldine info'!$C$5,C1122,\"\")","v":""}]
[null,"2025-T060-U1","Tasapind 60cm, U1",{"$f":"IF(B1123='Üldine info'!$C$5,C1123,\"\")","v":""}]
[null,"2025-V100L-U1","Vincent valamu 100, vasak, U1",{"$f":"IF(B1124='Üldine info'!$C$5,C1124,\"\")","v":""}]
[null,"2025-V100R-U1","Vincent valamu 100R, U1",{"$f":"IF(B1125='Üldine info'!$C$5,C1125,\"\")","v":""}]
[null,"2026-059C-U1","MATRIX valamu 59cm, U1",{"$f":"IF(B1126='Üldine info'!$C$5,C1126,\"\")","v":""}]
[null,"2026-060C-U1","Kandi valamu 60cm, U1",{"$f":"IF(B1127='Üldine info'!$C$5,C1127,\"\")","v":""}]
[null,"2026-E060-U1","Linea valamu 60cm, U1",{"$f":"IF(B1128='Üldine info'!$C$5,C1128,\"\")","v":""}]
[null,"2026-E080-U1","Linea valamu 80cm, U1",{"$f":"IF(B1129='Üldine info'!$C$5,C1129,\"\")","v":""}]
[null,"2026-F200-U1","Kandi Flexi valamu 201cm, U1",{"$f":"IF(B1130='Üldine info'!$C$5,C1130,\"\")","v":""}]
[null,"2026-S060-U1","Kandi S valamu 60cm, U1",{"$f":"IF(B1131='Üldine info'!$C$5,C1131,\"\")","v":""}]
[null,"2026-S080-U1","Kandi S valamu 80cm, U1",{"$f":"IF(B1132='Üldine info'!$C$5,C1132,\"\")","v":""}]
[null,"2026-SS060-U1","Kandi SS valamu 60cm, U1",{"$f":"IF(B1133='Üldine info'!$C$5,C1133,\"\")","v":""}]
[null,"2026-XS060-U1","Kandi XS valamu 60cm, U1",{"$f":"IF(B1134='Üldine info'!$C$5,C1134,\"\")","v":""}]
[null,"2026-XS080-U1","Kandi XS valamu 80cm, U1",{"$f":"IF(B1135='Üldine info'!$C$5,C1135,\"\")","v":""}]
[null,"2027-090C-U1","Alex valamu 90cm, U1",{"$f":"IF(B1136='Üldine info'!$C$5,C1136,\"\")","v":""}]
[null,"2027-120C-U1","Alex valamu 120cm, U1",{"$f":"IF(B1137='Üldine info'!$C$5,C1137,\"\")","v":""}]
[null,"2027-150/2-U1","Alex valamu 150cm, kahene, U1",{"$f":"IF(B1138='Üldine info'!$C$5,C1138,\"\")","v":""}]
[null,"2027-M090C-U1","Maria valamu 90cm keskel, U1",{"$f":"IF(B1139='Üldine info'!$C$5,C1139,\"\")","v":""}]
[null,"2027-M120C-U1","Maria valamu 120cm, U1",{"$f":"IF(B1140='Üldine info'!$C$5,C1140,\"\")","v":""}]
[null,"2027-M150/2-U1","Maria valamu 150cm, kahene, U1",{"$f":"IF(B1141='Üldine info'!$C$5,C1141,\"\")","v":""}]
[null,"2028-033C-U1","C33 valamu, 40cm, keskel, U",{"$f":"IF(B1142='Üldine info'!$C$5,C1142,\"\")","v":""}]
[null,"2028-037SL-U1","Riiul Brit.Fer-s 37,5cm, 2650L",{"$f":"IF(B1143='Üldine info'!$C$5,C1143,\"\")","v":""}]
[null,"2028-037SR-U1","Riiul Brit.Fer-s 37,5cm, 2651R",{"$f":"IF(B1144='Üldine info'!$C$5,C1144,\"\")","v":""}]
[null,"2028-044C-U1","Valamu TOP 2, 44cm, keskel, U",{"$f":"IF(B1145='Üldine info'!$C$5,C1145,\"\")","v":""}]
[null,"2028-050L-U1","VALAMU FERRIES 50L, 214L-500",{"$f":"IF(B1146='Üldine info'!$C$5,C1146,\"\")","v":""}]
[null,"2028-050R-U1","VALAMU FERRIES 50R, 215R-500",{"$f":"IF(B1147='Üldine info'!$C$5,C1147,\"\")","v":""}]
[null,"2028-078C-U1","Cosy Corner valamu 78cm, U1",{"$f":"IF(B1148='Üldine info'!$C$5,C1148,\"\")","v":""}]
[null,"2028-078SL-U1","Riiul  Brit.Fer-s 78cm, 2657L",{"$f":"IF(B1149='Üldine info'!$C$5,C1149,\"\")","v":""}]
[null,"2028-078SR-U1","Riiul Brit.Fer-s 78cm, 2658R",{"$f":"IF(B1150='Üldine info'!$C$5,C1150,\"\")","v":""}]
[null,"2028-078T-U1","Viking Line 78cm",{"$f":"IF(B1151='Üldine info'!$C$5,C1151,\"\")","v":""}]
[null,"2028-090L-U1","Cosy Corner valamu 90L, U1",{"$f":"IF(B1152='Üldine info'!$C$5,C1152,\"\")","v":""}]
[null,"2028-090R-U1","Cosy Corner valamu 90R, U1",{"$f":"IF(B1153='Üldine info'!$C$5,C1153,\"\")","v":""}]
[null,"2028-100L/0-U1","Viking Line valamu L-1376, 3A",{"$f":"IF(B1154='Üldine info'!$C$5,C1154,\"\")","v":""}]
[null,"2028-100R/0-U1","Viking Line valamu L-1376, 3B",{"$f":"IF(B1155='Üldine info'!$C$5,C1155,\"\")","v":""}]
[null,"2029-080C-U1","Step valamu 80cm, U1",{"$f":"IF(B1156='Üldine info'!$C$5,C1156,\"\")","v":""}]
[null,"2029-120C-U1","Step valamu 120cm, U1",{"$f":"IF(B1157='Üldine info'!$C$5,C1157,\"\")","v":""}]
[null,"2029-A070C-U1","Mania A valamu 70cm, U1",{"$f":"IF(B1158='Üldine info'!$C$5,C1158,\"\")","v":""}]
[null,"2029-AB070C-U1","Mania AB valamu 70cm, U1",{"$f":"IF(B1159='Üldine info'!$C$5,C1159,\"\")","v":""}]
[null,"2030-120C-U1","Mery tasap. 1200x450mm, valge",{"$f":"IF(B1160='Üldine info'!$C$5,C1160,\"\")","v":""}]
[null,"2030-180L-U1","Consul valamu 180cm, vasak, U1",{"$f":"IF(B1161='Üldine info'!$C$5,C1161,\"\")","v":""}]
[null,"2030-180R-U1","Consul valamu 180cm, parem, U1",{"$f":"IF(B1162='Üldine info'!$C$5,C1162,\"\")","v":""}]
[null,"2031-080CP-U1","Amadeus valamu 80, külgpan.,U1",{"$f":"IF(B1163='Üldine info'!$C$5,C1163,\"\")","v":""}]
[null,"2031-100CP-U1","Amadeus valamu 100,külgpan.,U1",{"$f":"IF(B1164='Üldine info'!$C$5,C1164,\"\")","v":""}]
[null,"2031-120CP-U1","Amadeus valamu 120CP,U1",{"$f":"IF(B1165='Üldine info'!$C$5,C1165,\"\")","v":""}]
[null,"2031-120C-U1","Amadeus valamu 120cm, U1",{"$f":"IF(B1166='Üldine info'!$C$5,C1166,\"\")","v":""}]
[null,"2031-120LP-U1","Amadeus valamu 120LP, U1",{"$f":"IF(B1167='Üldine info'!$C$5,C1167,\"\")","v":""}]
[null,"2031-120RP-U1","Amadeus valamu 120RP, U1",{"$f":"IF(B1168='Üldine info'!$C$5,C1168,\"\")","v":""}]
[null,"2031-160C-U1","Leon valamu 160cm, keskel, U1",{"$f":"IF(B1169='Üldine info'!$C$5,C1169,\"\")","v":""}]
[null,"2031-180C-U1","Amadeus valamu 180, keskel, U1",{"$f":"IF(B1170='Üldine info'!$C$5,C1170,\"\")","v":""}]
[null,"2031-180L-U1","Amadeus valamu 180cm, vasak,U1",{"$f":"IF(B1171='Üldine info'!$C$5,C1171,\"\")","v":""}]
[null,"2031-180R-U1","Amadeus valamu 180cm, parem,U1",{"$f":"IF(B1172='Üldine info'!$C$5,C1172,\"\")","v":""}]
[null,"2031-240D-U1","Amadeus valamu 240cm,kahene,U1",{"$f":"IF(B1173='Üldine info'!$C$5,C1173,\"\")","v":""}]
[null,"2031-320/3-U1","Amadeus valamu 320, kolmene,U1",{"$f":"IF(B1174='Üldine info'!$C$5,C1174,\"\")","v":""}]
[null,"2032-120C-U1","Silvi valamu 120cm, U1",{"$f":"IF(B1175='Üldine info'!$C$5,C1175,\"\")","v":""}]
[null,"2032-200C-U1","Silvi valamu 200cm, keskel, U1",{"$f":"IF(B1176='Üldine info'!$C$5,C1176,\"\")","v":""}]
[null,"2032-220C-U1","Silvi valamu 220C, U1",{"$f":"IF(B1177='Üldine info'!$C$5,C1177,\"\")","v":""}]
[null,"2032-240C/2-U1","Silvi valamu 240cm, kahene, U1",{"$f":"IF(B1178='Üldine info'!$C$5,C1178,\"\")","v":""}]
[null,"2032-240C/3-U1","Silvi valamu 240cm, kolmene,U1",{"$f":"IF(B1179='Üldine info'!$C$5,C1179,\"\")","v":""}]
[null,"2032-240C-U1","Silvi valamu 240cm, keskel, U1",{"$f":"IF(B1180='Üldine info'!$C$5,C1180,\"\")","v":""}]
[null,"2032-240L/2-U1","Silvi valamu 240L, kahene, U1",{"$f":"IF(B1181='Üldine info'!$C$5,C1181,\"\")","v":""}]
[null,"2032-240L-U1","Silvi valamu 240cm, vasak, U1",{"$f":"IF(B1182='Üldine info'!$C$5,C1182,\"\")","v":""}]
[null,"2032-240R/2-U1","Silvi valamu 240R, kahene, U1",{"$f":"IF(B1183='Üldine info'!$C$5,C1183,\"\")","v":""}]
[null,"2032-240R-U1","Silvi valamu 240cm, parem, U1",{"$f":"IF(B1184='Üldine info'!$C$5,C1184,\"\")","v":""}]
[null,"2032-SD080-U1","Dakota valamu 80cm, U1",{"$f":"IF(B1185='Üldine info'!$C$5,C1185,\"\")","v":""}]
[null,"2032-SN070-U1","New York valamu 70cm, U1",{"$f":"IF(B1186='Üldine info'!$C$5,C1186,\"\")","v":""}]
[null,"2032-SN080-U1","New York valamu 80cm, U1",{"$f":"IF(B1187='Üldine info'!$C$5,C1187,\"\")","v":""}]
[null,"2032-SN100-U1","New York valamu 100cm, U1",{"$f":"IF(B1188='Üldine info'!$C$5,C1188,\"\")","v":""}]
[null,"2032-SN120-U1","New York valamu 120cm, U1",{"$f":"IF(B1189='Üldine info'!$C$5,C1189,\"\")","v":""}]
[null,"2033-082L-U1","Valamu FORWARD 11, 82cm, vasa",{"$f":"IF(B1190='Üldine info'!$C$5,C1190,\"\")","v":""}]
[null,"2033-082R-U1","Valamu FORWARD 12, 82cm, pare",{"$f":"IF(B1191='Üldine info'!$C$5,C1191,\"\")","v":""}]
[null,"2033-A088C-U1","Valamu ADA",{"$f":"IF(B1192='Üldine info'!$C$5,C1192,\"\")","v":""}]
[null,"2034-010C-U1","Century valamu, 36,5cm, U1 (TO",{"$f":"IF(B1193='Üldine info'!$C$5,C1193,\"\")","v":""}]
[null,"2034-010-U1","Century valamu, 36,5cm, U1",{"$f":"IF(B1194='Üldine info'!$C$5,C1194,\"\")","v":""}]
[null,"2034-040C-U1","Valamu 40cm,U1,kesk.,M. Schiff",{"$f":"IF(B1195='Üldine info'!$C$5,C1195,\"\")","v":""}]
[null,"2034-062C-U1","BRITANNY 62C, 218C-875",{"$f":"IF(B1196='Üldine info'!$C$5,C1196,\"\")","v":""}]
[null,"2034-092L-U1","Valamu FORWARD 23, 2434L-92",{"$f":"IF(B1197='Üldine info'!$C$5,C1197,\"\")","v":""}]
[null,"2034-092R-U1","Valamu FORWARD 24, 2435R-92",{"$f":"IF(B1198='Üldine info'!$C$5,C1198,\"\")","v":""}]
[null,"2034-114L-U1","Century valamu L",{"$f":"IF(B1199='Üldine info'!$C$5,C1199,\"\")","v":""}]
[null,"2034-114R-U1","Century valamu R",{"$f":"IF(B1200='Üldine info'!$C$5,C1200,\"\")","v":""}]
[null,"2034-124L-U1","TYPE 5 MAKINEN valamu 124cm",{"$f":"IF(B1201='Üldine info'!$C$5,C1201,\"\")","v":""}]
[null,"2034-124R-U1","TYPE 2 MAKINEN valamu 124cm",{"$f":"IF(B1202='Üldine info'!$C$5,C1202,\"\")","v":""}]
[null,"2034-A082L-U1","Valamu FORWARD 13, 2324L-83",{"$f":"IF(B1203='Üldine info'!$C$5,C1203,\"\")","v":""}]
[null,"2034-A082R-U1","Valamu FORWARD 14, 2325R-83",{"$f":"IF(B1204='Üldine info'!$C$5,C1204,\"\")","v":""}]
[null,"2034-A105L-U1","Valamu CORNER 9, 2110C-105",{"$f":"IF(B1205='Üldine info'!$C$5,C1205,\"\")","v":""}]
[null,"2034-A105R-U1","Valamu CORNER 9, 105cm, parem,",{"$f":"IF(B1206='Üldine info'!$C$5,C1206,\"\")","v":""}]
[null,"2034-A124L-U1","Valamu FORWARD 16, 2426L-124",{"$f":"IF(B1207='Üldine info'!$C$5,C1207,\"\")","v":""}]
[null,"2034-A124R-U1","Valamu FORWARD 15, 2427R-124",{"$f":"IF(B1208='Üldine info'!$C$5,C1208,\"\")","v":""}]
[null,"2034-HR025S-U1","Stefano riiul 25x46x20cm",{"$f":"IF(B1209='Üldine info'!$C$5,C1209,\"\")","v":""}]
[null,"2034-HR035S-U1","Stefano riiul 35x46x20cm",{"$f":"IF(B1210='Üldine info'!$C$5,C1210,\"\")","v":""}]
[null,"2034-HR050S-U1","Stefano riiul 50x46x20cm",{"$f":"IF(B1211='Üldine info'!$C$5,C1211,\"\")","v":""}]
[null,"2034-HR060S-U1","Stefano riiul 60x46x20cm",{"$f":"IF(B1212='Üldine info'!$C$5,C1212,\"\")","v":""}]
[null,"2034-HR070S-U1","Stefano riiul 70x46x20cm",{"$f":"IF(B1213='Üldine info'!$C$5,C1213,\"\")","v":""}]
[null,"2034-HR143L-U1","Stefano valamu 143cm; U1, vas.",{"$f":"IF(B1214='Üldine info'!$C$5,C1214,\"\")","v":""}]
[null,"2034-HR143R-U1","Stefano valamu 143cm; U1, par.",{"$f":"IF(B1215='Üldine info'!$C$5,C1215,\"\")","v":""}]
[null,"2034-HR185L-U1","Stefano valamu 185cm, U1, vas.",{"$f":"IF(B1216='Üldine info'!$C$5,C1216,\"\")","v":""}]
[null,"2034-HR192L-U1","Stefano valamu 192cm, U1, vas.",{"$f":"IF(B1217='Üldine info'!$C$5,C1217,\"\")","v":""}]
[null,"2034-HR192R-U1","Stefano valamu 192cm, U1, par.",{"$f":"IF(B1218='Üldine info'!$C$5,C1218,\"\")","v":""}]
[null,"2034-HR220L-U1","Stefano valamu 220cm, U1, vas.",{"$f":"IF(B1219='Üldine info'!$C$5,C1219,\"\")","v":""}]
[null,"2034-HR220R-U1","Stefano valamu 220cm, U1, par.",{"$f":"IF(B1220='Üldine info'!$C$5,C1220,\"\")","v":""}]
[null,"2034-S187-U1","Riiul 187cm, U1, Mein Schiff",{"$f":"IF(B1221='Üldine info'!$C$5,C1221,\"\")","v":""}]
[null,"2034-SA105-U1","Arizona/Nevada valamu 105cm,U1",{"$f":"IF(B1222='Üldine info'!$C$5,C1222,\"\")","v":""}]
[null,"2034-SL40-U1","Little You valamu 40cm, U1",{"$f":"IF(B1223='Üldine info'!$C$5,C1223,\"\")","v":""}]
[null,"2034-SM105-U1","Miami D valamu 105cm, U1",{"$f":"IF(B1224='Üldine info'!$C$5,C1224,\"\")","v":""}]
[null,"2034-SS80-U1","Shiny/Regina valamu 80cm, U1",{"$f":"IF(B1225='Üldine info'!$C$5,C1225,\"\")","v":""}]
[null,"2034-T187-U1","Tasapind 187cm U1 Mein Schiff",{"$f":"IF(B1226='Üldine info'!$C$5,C1226,\"\")","v":""}]
[null,"2035-037C-U1","Valamu TOP 3, 37cm, 2140C-37",{"$f":"IF(B1227='Üldine info'!$C$5,C1227,\"\")","v":""}]
[null,"2035-040C-U1","Celebrity valamu 40cm, U1",{"$f":"IF(B1228='Üldine info'!$C$5,C1228,\"\")","v":""}]
[null,"2035-045L-U1","Valamu CORNER 1, 212L-450",{"$f":"IF(B1229='Üldine info'!$C$5,C1229,\"\")","v":""}]
[null,"2035-045R-U1","Valamu CORNER 2, 213R-450",{"$f":"IF(B1230='Üldine info'!$C$5,C1230,\"\")","v":""}]
[null,"2035-051L-U1","Valamu CORNER 5, 216L-515",{"$f":"IF(B1231='Üldine info'!$C$5,C1231,\"\")","v":""}]
[null,"2035-051R-U1","Valamu CORNER 6, 217R-515",{"$f":"IF(B1232='Üldine info'!$C$5,C1232,\"\")","v":""}]
[null,"2035-058C-U1","Riiul 6, 2656C-58",{"$f":"IF(B1233='Üldine info'!$C$5,C1233,\"\")","v":""}]
[null,"2035-060C-U1","Suite TA valamu, 60cm, U1",{"$f":"IF(B1234='Üldine info'!$C$5,C1234,\"\")","v":""}]
[null,"2035-063C-U1","Suite BT valamu, 63cm, U1",{"$f":"IF(B1235='Üldine info'!$C$5,C1235,\"\")","v":""}]
[null,"2035-068L-U1","AIDACara valamu 685mm vasak U1",{"$f":"IF(B1236='Üldine info'!$C$5,C1236,\"\")","v":""}]
[null,"2035-068R-U1","AIDACara valamu 685mm parem U1",{"$f":"IF(B1237='Üldine info'!$C$5,C1237,\"\")","v":""}]
[null,"2035-068SL-U1","AIDACara riiul 670*365mm U1 ",{"$f":"IF(B1238='Üldine info'!$C$5,C1238,\"\")","v":""}]
[null,"2035-068SR-U1","AIDACara riiul 670*365mm U1",{"$f":"IF(B1239='Üldine info'!$C$5,C1239,\"\")","v":""}]
[null,"2035-081L-U1","AIDAVita valamu 819*448/128mm",{"$f":"IF(B1240='Üldine info'!$C$5,C1240,\"\")","v":""}]
[null,"2035-081R-U1","AIDAVita valamu 819*448/128mm",{"$f":"IF(B1241='Üldine info'!$C$5,C1241,\"\")","v":""}]
[null,"2035-082L-U1","Valamu Outside 82cm, vasak, U1",{"$f":"IF(B1242='Üldine info'!$C$5,C1242,\"\")","v":""}]
[null,"2035-082R-U1","Valamu Outside 82cm, parem, U1",{"$f":"IF(B1243='Üldine info'!$C$5,C1243,\"\")","v":""}]
[null,"2035-084L-U1","C2 Valamu FORWARD 7, 2117L-84",{"$f":"IF(B1244='Üldine info'!$C$5,C1244,\"\")","v":""}]
[null,"2035-084R-U1","C2 Valamu FORWARD 8, 2118R-84",{"$f":"IF(B1245='Üldine info'!$C$5,C1245,\"\")","v":""}]
[null,"2035-084SL-U1","C2 Riiul 4, 84cm, 2654L",{"$f":"IF(B1246='Üldine info'!$C$5,C1246,\"\")","v":""}]
[null,"2035-084SR-U1","C2 Riiul 5, 84cm, 2655R",{"$f":"IF(B1247='Üldine info'!$C$5,C1247,\"\")","v":""}]
[null,"2035-089L-U1","Valamu Deluxe 89cm, vasak, U1",{"$f":"IF(B1248='Üldine info'!$C$5,C1248,\"\")","v":""}]
[null,"2035-089R-U1","Valamu Deluxe 89cm, parem, U1",{"$f":"IF(B1249='Üldine info'!$C$5,C1249,\"\")","v":""}]
[null,"2035-089SL-U1","Shelf Type SO left, U1, 2652L",{"$f":"IF(B1250='Üldine info'!$C$5,C1250,\"\")","v":""}]
[null,"2035-089SR-U1","Shelf Type SO right, U1, 2653R",{"$f":"IF(B1251='Üldine info'!$C$5,C1251,\"\")","v":""}]
[null,"2035-090L-U1","Valamu FORWARD 3, 2414L-90",{"$f":"IF(B1252='Üldine info'!$C$5,C1252,\"\")","v":""}]
[null,"2035-090R-U1","Valamu FORWARD 4, 2414R-90",{"$f":"IF(B1253='Üldine info'!$C$5,C1253,\"\")","v":""}]
[null,"2035-091L-U1","Valamu FORWARD 5, 2416L-92",{"$f":"IF(B1254='Üldine info'!$C$5,C1254,\"\")","v":""}]
[null,"2035-091R-U1","Valamu FORWARD 6, 2416R-92",{"$f":"IF(B1255='Üldine info'!$C$5,C1255,\"\")","v":""}]
[null,"2035-095L-U1","Valamu 250 / 350 * 950 mm U1",{"$f":"IF(B1256='Üldine info'!$C$5,C1256,\"\")","v":""}]
[null,"2035-095R-U1","Valamu 250 / 350 * 950 mm U1",{"$f":"IF(B1257='Üldine info'!$C$5,C1257,\"\")","v":""}]
[null,"2035-095SL-U1","Riiul 200*950 mm U1",{"$f":"IF(B1258='Üldine info'!$C$5,C1258,\"\")","v":""}]
[null,"2035-095SR-U1","Riiul 200*950 mm U1",{"$f":"IF(B1259='Üldine info'!$C$5,C1259,\"\")","v":""}]
[null,"2035-119L-U1","Valamu FORWARD 29, 2343L-120",{"$f":"IF(B1260='Üldine info'!$C$5,C1260,\"\")","v":""}]
[null,"2035-119R-U1","Valamu FORWARD 30, 2343R-120",{"$f":"IF(B1261='Üldine info'!$C$5,C1261,\"\")","v":""}]
[null,"2035-120L-U1","TYPE 6B valamu 1198, U1 Valge",{"$f":"IF(B1262='Üldine info'!$C$5,C1262,\"\")","v":""}]
[null,"2035-120R-U1","TYPE 6A valamu 1198, U1 Valge",{"$f":"IF(B1263='Üldine info'!$C$5,C1263,\"\")","v":""}]
[null,"2035-120SL-U1","Riiul 11, 120cm, 2661L, Horizo",{"$f":"IF(B1264='Üldine info'!$C$5,C1264,\"\")","v":""}]
[null,"2035-120SR-U1","Riiul 12, 120cm, 2662R, Horizo",{"$f":"IF(B1265='Üldine info'!$C$5,C1265,\"\")","v":""}]
[null,"2035-124L-U1","Valamu FORWARD 27, 2438L-124",{"$f":"IF(B1266='Üldine info'!$C$5,C1266,\"\")","v":""}]
[null,"2035-124R-U1","Valamu FORWARD 28, 2439R-124",{"$f":"IF(B1267='Üldine info'!$C$5,C1267,\"\")","v":""}]
[null,"2035-128L-U1","Valamu FORWARD 31, 2445L-280",{"$f":"IF(B1268='Üldine info'!$C$5,C1268,\"\")","v":""}]
[null,"2035-128R-U1","Valamu FORWARD 32, 2446R-280",{"$f":"IF(B1269='Üldine info'!$C$5,C1269,\"\")","v":""}]
[null,"2035-137L-U1","Celebrity valamu 137cm,vas.,U1",{"$f":"IF(B1270='Üldine info'!$C$5,C1270,\"\")","v":""}]
[null,"2035-137R-U1","Celebrity valamu 137cm,par.,U1",{"$f":"IF(B1271='Üldine info'!$C$5,C1271,\"\")","v":""}]
[null,"2035-150L-U1","Valamu FORWARD 33, 2347C-150,",{"$f":"IF(B1272='Üldine info'!$C$5,C1272,\"\")","v":""}]
[null,"2035-150R-U1","Valamu FORWARD , 2347C-150, SK",{"$f":"IF(B1273='Üldine info'!$C$5,C1273,\"\")","v":""}]
[null,"2035-151L-U1","Pax Balcony valamu, 151cm L U1",{"$f":"IF(B1274='Üldine info'!$C$5,C1274,\"\")","v":""}]
[null,"2035-AH081L-U1","Aida SO Hyp. 812mm,vasak,U1",{"$f":"IF(B1275='Üldine info'!$C$5,C1275,\"\")","v":""}]
[null,"2035-AH081R-U1","Aida SO Hyp. 812mm,parem,U1",{"$f":"IF(B1276='Üldine info'!$C$5,C1276,\"\")","v":""}]
[null,"2035-AH081SL-U1","AIDA SO riiul V 812*382mm U1 ",{"$f":"IF(B1277='Üldine info'!$C$5,C1277,\"\")","v":""}]
[null,"2035-AH081SR-U1","AIDA SO riiul P 812*382mm U1 ",{"$f":"IF(B1278='Üldine info'!$C$5,C1278,\"\")","v":""}]
[null,"2036-026C-U1","Pillar cladding 266x670mm, U1",{"$f":"IF(B1279='Üldine info'!$C$5,C1279,\"\")","v":""}]
[null,"2036-069C-U1","Nancy valamu, 69 cm, U1",{"$f":"IF(B1280='Üldine info'!$C$5,C1280,\"\")","v":""}]
[null,"2036-070C-U1","Even valamu 700x510m",{"$f":"IF(B1281='Üldine info'!$C$5,C1281,\"\")","v":""}]
[null,"2036-080C-U1","Valamu 800x410mm, U1 EHPAD",{"$f":"IF(B1282='Üldine info'!$C$5,C1282,\"\")","v":""}]
[null,"2036-084L-U1","SK11518_05 valamu 840*645mm U1",{"$f":"IF(B1283='Üldine info'!$C$5,C1283,\"\")","v":""}]
[null,"2036-084R-U1","SK11519_05 valamu 840*645mm U1",{"$f":"IF(B1284='Üldine info'!$C$5,C1284,\"\")","v":""}]
[null,"2036-091L-U1","TYPE AMADEUS valamu 915/465mm",{"$f":"IF(B1285='Üldine info'!$C$5,C1285,\"\")","v":""}]
[null,"2036-091R-U1","TYPE AMADEUS valamu 915/465mm",{"$f":"IF(B1286='Üldine info'!$C$5,C1286,\"\")","v":""}]
[null,"2036-095R-U1","Heom valamu, 95 cm, U1, parem",{"$f":"IF(B1287='Üldine info'!$C$5,C1287,\"\")","v":""}]
[null,"2036-096L-U1","SK11520_05 valamu 950*515mm U1",{"$f":"IF(B1288='Üldine info'!$C$5,C1288,\"\")","v":""}]
[null,"2036-096R-U1","SK11521_05 valamu 950*515mm U1",{"$f":"IF(B1289='Üldine info'!$C$5,C1289,\"\")","v":""}]
[null,"2036-098LS-U1","Riiul 918/745mm, U1",{"$f":"IF(B1290='Üldine info'!$C$5,C1290,\"\")","v":""}]
[null,"2036-098RS-U1","Riiul 918/745mm, U1",{"$f":"IF(B1291='Üldine info'!$C$5,C1291,\"\")","v":""}]
[null,"2036-099L-U1","Reims valamu 994x540mm /V, U1",{"$f":"IF(B1292='Üldine info'!$C$5,C1292,\"\")","v":""}]
[null,"2036-099R-U1","Reims valamu 994x540mm /P, U1",{"$f":"IF(B1293='Üldine info'!$C$5,C1293,\"\")","v":""}]
[null,"2036-109LS-U1","Gehr riiul 109cm, U1, vasak",{"$f":"IF(B1294='Üldine info'!$C$5,C1294,\"\")","v":""}]
[null,"2036-109L-U1","Gehr valamu 109cm, vasak, U1",{"$f":"IF(B1295='Üldine info'!$C$5,C1295,\"\")","v":""}]
[null,"2036-109RS-U1","Gehr riiul, 109cm, U1, parem",{"$f":"IF(B1296='Üldine info'!$C$5,C1296,\"\")","v":""}]
[null,"2036-109R-U1","Valamu Gehr, 109cm, U1, parem",{"$f":"IF(B1297='Üldine info'!$C$5,C1297,\"\")","v":""}]
[null,"2036-120/2.1.-U1","Shark valamu 120cm, kahene, U1",{"$f":"IF(B1298='Üldine info'!$C$5,C1298,\"\")","v":""}]
[null,"2036-120/2-U1","Even valamu 1200x510/2, U1",{"$f":"IF(B1299='Üldine info'!$C$5,C1299,\"\")","v":""}]
[null,"2036-120L-U1","Staron valamu, 120 cm, U1, L",{"$f":"IF(B1300='Üldine info'!$C$5,C1300,\"\")","v":""}]
[null,"2036-120R-U1","Staron valamu, 120 cm, U1, R",{"$f":"IF(B1301='Üldine info'!$C$5,C1301,\"\")","v":""}]
[null,"2036-124L-U1","Rennes 124 vasak U1",{"$f":"IF(B1302='Üldine info'!$C$5,C1302,\"\")","v":""}]
[null,"2036-124R-U1","Rennes valamu 124 Parem U1",{"$f":"IF(B1303='Üldine info'!$C$5,C1303,\"\")","v":""}]
[null,"2036-140/2-U1","Even valamu 1400x510mm/2, U1",{"$f":"IF(B1304='Üldine info'!$C$5,C1304,\"\")","v":""}]
[null,"2036-142L-U1","Inside valamu 1422mm U1",{"$f":"IF(B1305='Üldine info'!$C$5,C1305,\"\")","v":""}]
[null,"2036-142R-U1","Inside valamu 1422mm U1",{"$f":"IF(B1306='Üldine info'!$C$5,C1306,\"\")","v":""}]
[null,"2036-143A-U1","Metz nurgavalamu 100x100cm",{"$f":"IF(B1307='Üldine info'!$C$5,C1307,\"\")","v":""}]
[null,"2036-180/3-U1","Even valamu 1800x510mm/3, U1",{"$f":"IF(B1308='Üldine info'!$C$5,C1308,\"\")","v":""}]
[null,"2036-210/3-U1","Even valamu 2100x510mm/3, U1",{"$f":"IF(B1309='Üldine info'!$C$5,C1309,\"\")","v":""}]
[null,"2036-495L-U1","Heom, 60-95 cm, U1, vasak",{"$f":"IF(B1310='Üldine info'!$C$5,C1310,\"\")","v":""}]
[null,"2036-T090-U1","Tasapind 900x350 Valge",{"$f":"IF(B1311='Üldine info'!$C$5,C1311,\"\")","v":""}]
[null,"2036-T120-U1","Tasapind 1200x350 Valge",{"$f":"IF(B1312='Üldine info'!$C$5,C1312,\"\")","v":""}]
[null,"2036-W120/2-U1","Shark vee väljalaskeava 120cm",{"$f":"IF(B1313='Üldine info'!$C$5,C1313,\"\")","v":""}]
[null,"2037-070C-U1","Publica valamu 70cm, keskel,U1",{"$f":"IF(B1314='Üldine info'!$C$5,C1314,\"\")","v":""}]
[null,"2037-090L-U1","Publica valamu 90cm, vasak, U1",{"$f":"IF(B1315='Üldine info'!$C$5,C1315,\"\")","v":""}]
[null,"2037-090R-U1","Publica valamu 90cm, parem, U1",{"$f":"IF(B1316='Üldine info'!$C$5,C1316,\"\")","v":""}]
[null,"2037-110C-U1","Publica valamu 110cm,keskel,U1",{"$f":"IF(B1317='Üldine info'!$C$5,C1317,\"\")","v":""}]
[null,"2037-120L-U1","Publica valamu 120, vasak, U1",{"$f":"IF(B1318='Üldine info'!$C$5,C1318,\"\")","v":""}]
[null,"2037-120R-U1","Publica valamu 120, parem, U1",{"$f":"IF(B1319='Üldine info'!$C$5,C1319,\"\")","v":""}]
[null,"2037-150/2-U1","Publica valamu 150, kahene, U1",{"$f":"IF(B1320='Üldine info'!$C$5,C1320,\"\")","v":""}]
[null,"2037-240/3-U1","Publica valamu 240, kolmene,U1",{"$f":"IF(B1321='Üldine info'!$C$5,C1321,\"\")","v":""}]
[null,"2038-050C-U1","Sibylla müts, valge",{"$f":"IF(B1322='Üldine info'!$C$5,C1322,\"\")","v":""}]
[null,"2038-070C-U1","Albi valamu 70cm keskel U1",{"$f":"IF(B1323='Üldine info'!$C$5,C1323,\"\")","v":""}]
[null,"2038-072C-U1","Egeo valamu 72cm, keskel, U1",{"$f":"IF(B1324='Üldine info'!$C$5,C1324,\"\")","v":""}]
[null,"2038-088C-U1","Axiom valamu 88cm, keskel, U1",{"$f":"IF(B1325='Üldine info'!$C$5,C1325,\"\")","v":""}]
[null,"2038-095L-U1","Silja Symphone 95cm, vasak, U1",{"$f":"IF(B1326='Üldine info'!$C$5,C1326,\"\")","v":""}]
[null,"2038-095R-U1","Silja Symphone 95cm, parem, U1",{"$f":"IF(B1327='Üldine info'!$C$5,C1327,\"\")","v":""}]
[null,"2038-100C-U1","Valamu Amiens 100x80x40 Valge",{"$f":"IF(B1328='Üldine info'!$C$5,C1328,\"\")","v":""}]
[null,"2038-104C-U1","NEVERS valamu 104cm U1",{"$f":"IF(B1329='Üldine info'!$C$5,C1329,\"\")","v":""}]
[null,"2038-106C-U1","NEVERS valamu 106cm U1",{"$f":"IF(B1330='Üldine info'!$C$5,C1330,\"\")","v":""}]
[null,"2038-120C-U1","LUNEL valamu 120cm keskel U1",{"$f":"IF(B1331='Üldine info'!$C$5,C1331,\"\")","v":""}]
[null,"2038-128L/2-U1","Albi valamu 128cm vasak kahene",{"$f":"IF(B1332='Üldine info'!$C$5,C1332,\"\")","v":""}]
[null,"2038-128L-U1","Albi 128x48x20 Vasak,U1",{"$f":"IF(B1333='Üldine info'!$C$5,C1333,\"\")","v":""}]
[null,"2038-128R/2-U1","Albi valamu 128cm parem kahene",{"$f":"IF(B1334='Üldine info'!$C$5,C1334,\"\")","v":""}]
[null,"2038-128R-U1","Albi 128x48x20 Parem,U1",{"$f":"IF(B1335='Üldine info'!$C$5,C1335,\"\")","v":""}]
[null,"2038-130C-U1","Axiom valamu 131cm, keskel, U",{"$f":"IF(B1336='Üldine info'!$C$5,C1336,\"\")","v":""}]
[null,"2038-132C-U1","Egeo valamu 132cm, keskel, U1",{"$f":"IF(B1337='Üldine info'!$C$5,C1337,\"\")","v":""}]
[null,"2038-170C-U1","NOX valamu 170cm, U1",{"$f":"IF(B1338='Üldine info'!$C$5,C1338,\"\")","v":""}]
[null,"2038-412/1-U1","Sibylla valamu, 60-120cm, U1",{"$f":"IF(B1339='Üldine info'!$C$5,C1339,\"\")","v":""}]
[null,"2038-418/1-U1","Sibylla valamu, 120-180cm, U1",{"$f":"IF(B1340='Üldine info'!$C$5,C1340,\"\")","v":""}]
[null,"2038-418/2-U1","Sibylla valamu 140-180cm, kahe",{"$f":"IF(B1341='Üldine info'!$C$5,C1341,\"\")","v":""}]
[null,"2038-426/1-U1","Sibylla valamu, 180-260cm, U1",{"$f":"IF(B1342='Üldine info'!$C$5,C1342,\"\")","v":""}]
[null,"2038-426/2-U1","Sibylla valamu, 180-260cm, kah",{"$f":"IF(B1343='Üldine info'!$C$5,C1343,\"\")","v":""}]
[null,"2038-426/3-U1","Sibylla valamu, 220-260cm, kol",{"$f":"IF(B1344='Üldine info'!$C$5,C1344,\"\")","v":""}]
[null,"2038-434/1-U1","Sibylla valamu, 260-340cm, U1",{"$f":"IF(B1345='Üldine info'!$C$5,C1345,\"\")","v":""}]
[null,"2038-434/2-U1","Sibylla valamu, 260-340cm, kah",{"$f":"IF(B1346='Üldine info'!$C$5,C1346,\"\")","v":""}]
[null,"2038-434/3-U1","Sibylla valamu, 260-340cm, kol",{"$f":"IF(B1347='Üldine info'!$C$5,C1347,\"\")","v":""}]
[null,"2038-512/1-U1","Rene 500 valamu 60-120cm/1, U1",{"$f":"IF(B1348='Üldine info'!$C$5,C1348,\"\")","v":""}]
[null,"2038-51440CX-U1","Rene 500  erimõõdud,keskel, U1",{"$f":"IF(B1349='Üldine info'!$C$5,C1349,\"\")","v":""}]
[null,"2038-524/1-U1","Rene 500 valamu 121-240cm/1,U1",{"$f":"IF(B1350='Üldine info'!$C$5,C1350,\"\")","v":""}]
[null,"2038-524/2-U1","Rene 500 valamu 121-240cm/2,U1",{"$f":"IF(B1351='Üldine info'!$C$5,C1351,\"\")","v":""}]
[null,"2038-541600C-U1","Rene 540 160cm, U1",{"$f":"IF(B1352='Üldine info'!$C$5,C1352,\"\")","v":""}]
[null,"2038-612/1-U1","Sibylla valamu, 60-120cm, U1",{"$f":"IF(B1353='Üldine info'!$C$5,C1353,\"\")","v":""}]
[null,"2038-618/1-U1","Sibylla valamu, 120-180cm, U1",{"$f":"IF(B1354='Üldine info'!$C$5,C1354,\"\")","v":""}]
[null,"2038-618/2-U1","Sibylla valamu, 140-180cm, kah",{"$f":"IF(B1355='Üldine info'!$C$5,C1355,\"\")","v":""}]
[null,"2038-624/1-U1","Rene 600 valamu 121-240cm/1,U1",{"$f":"IF(B1356='Üldine info'!$C$5,C1356,\"\")","v":""}]
[null,"2038-624/2-U1","Rene 600 Valamu 121-240cm/2 U1",{"$f":"IF(B1357='Üldine info'!$C$5,C1357,\"\")","v":""}]
[null,"2038-626/1-U1","Sibylla valamu, 180-260cm, U1",{"$f":"IF(B1358='Üldine info'!$C$5,C1358,\"\")","v":""}]
[null,"2038-626/2-U1","Sibylla valamu, 180-260cm, kah",{"$f":"IF(B1359='Üldine info'!$C$5,C1359,\"\")","v":""}]
[null,"2038-626/3-U1","Sibylla valamu, 220-260cm, kol",{"$f":"IF(B1360='Üldine info'!$C$5,C1360,\"\")","v":""}]
[null,"2038-630/1-U1","Rene 600 valamu 241-300cm/1,U1",{"$f":"IF(B1361='Üldine info'!$C$5,C1361,\"\")","v":""}]
[null,"2038-630/2-U1","Rene 600 valamu 241-300cm/2,U1",{"$f":"IF(B1362='Üldine info'!$C$5,C1362,\"\")","v":""}]
[null,"2038-630/3-U1","Rene 600 valamu 241-300cm/3,U1",{"$f":"IF(B1363='Üldine info'!$C$5,C1363,\"\")","v":""}]
[null,"2038-634/1-U1","Sibylla valamu, 260-340cm, U1",{"$f":"IF(B1364='Üldine info'!$C$5,C1364,\"\")","v":""}]
[null,"2038-634/2-U1","Sibylla valamu, 260-340cm, kah",{"$f":"IF(B1365='Üldine info'!$C$5,C1365,\"\")","v":""}]
[null,"2038-634/3-U1","Sibylla valamu, 260-340cm, kol",{"$f":"IF(B1366='Üldine info'!$C$5,C1366,\"\")","v":""}]
[null,"2038-GB128L-U1","Albi valamu GB 128cm vasak",{"$f":"IF(B1367='Üldine info'!$C$5,C1367,\"\")","v":""}]
[null,"2038-GB128R-U1","Albi valamu GB 128cm parem",{"$f":"IF(B1368='Üldine info'!$C$5,C1368,\"\")","v":""}]
[null,"2038-P612/1-U1","Sibylla P valamu, 60-120cm, U1",{"$f":"IF(B1369='Üldine info'!$C$5,C1369,\"\")","v":""}]
[null,"2038-P618/1-U1","Sibylla P valamu, 120-180cm, U",{"$f":"IF(B1370='Üldine info'!$C$5,C1370,\"\")","v":""}]
[null,"2038-P618/2-U1","Sibylla P valamu, 120-180cm, k",{"$f":"IF(B1371='Üldine info'!$C$5,C1371,\"\")","v":""}]
[null,"2038-P626/1-U1","Sibylla P valamu, 180-260cm, U",{"$f":"IF(B1372='Üldine info'!$C$5,C1372,\"\")","v":""}]
[null,"2038-P626/2-U1","Sibylla P valamu, 180-260cm, k",{"$f":"IF(B1373='Üldine info'!$C$5,C1373,\"\")","v":""}]
[null,"2038-P626/3-U1","Sibylla P valamu, 180-260cm, k",{"$f":"IF(B1374='Üldine info'!$C$5,C1374,\"\")","v":""}]
[null,"2038-P634/1-U1","Sibylla P valamu, 260-340cm, U",{"$f":"IF(B1375='Üldine info'!$C$5,C1375,\"\")","v":""}]
[null,"2038-P634/2-U1","Sibylla P valamu, 260-340cm, k",{"$f":"IF(B1376='Üldine info'!$C$5,C1376,\"\")","v":""}]
[null,"2038-P634/3-U1","Sibylla P valamu, 260-340cm, k",{"$f":"IF(B1377='Üldine info'!$C$5,C1377,\"\")","v":""}]
[null,"2038-P634/4-U1","Sibylla P valamu, 260-340cm, n",{"$f":"IF(B1378='Üldine info'!$C$5,C1378,\"\")","v":""}]
[null,"2038-P634/5-U1","Sibylla P valamu, 260-340cm, v",{"$f":"IF(B1379='Üldine info'!$C$5,C1379,\"\")","v":""}]
[null,"2039-060C-U1","RehaCare 600cm, U1 Valge",{"$f":"IF(B1380='Üldine info'!$C$5,C1380,\"\")","v":""}]
[null,"2040-100L-U1","Chantilly Orig. 100cm,left U1",{"$f":"IF(B1381='Üldine info'!$C$5,C1381,\"\")","v":""}]
[null,"2040-100R-U1","Chantilly Orig. 100cm,right,U1",{"$f":"IF(B1382='Üldine info'!$C$5,C1382,\"\")","v":""}]
[null,"2050-185L-U1","Vann Petra 1850x735x600mm; vas",{"$f":"IF(B1383='Üldine info'!$C$5,C1383,\"\")","v":""}]
[null,"2050-185R-U1","Vann Petra 1850x735x600mm; par",{"$f":"IF(B1384='Üldine info'!$C$5,C1384,\"\")","v":""}]
[null,"2050-215L-U1","Vann Petra 2150x765x600mm; vas",{"$f":"IF(B1385='Üldine info'!$C$5,C1385,\"\")","v":""}]
[null,"2050-215R-U1","Vann Petra 2150x765x600mm; par",{"$f":"IF(B1386='Üldine info'!$C$5,C1386,\"\")","v":""}]
[null,"2090-291-U1","Urn Kandiline U1 Valge",{"$f":"IF(B1387='Üldine info'!$C$5,C1387,\"\")","v":""}]
[null,"26999-U1","Eagle valamu 1198mm U1 parem",{"$f":"IF(B1388='Üldine info'!$C$5,C1388,\"\")","v":""}]
[null,"2NAIDIS-U1","2NAIDIS-U1",{"$f":"IF(B1389='Üldine info'!$C$5,C1389,\"\")","v":""}]
[null,"3290100L-U1","Kõrgendus 100cm, vasak, valge",{"$f":"IF(B1390='Üldine info'!$C$5,C1390,\"\")","v":""}]
[null,"3290100R-U1","Kõrgendus 100cm, parem, valge",{"$f":"IF(B1391='Üldine info'!$C$5,C1391,\"\")","v":""}]
[null,"439-060C-U1","RehaCare 600cm, S01 Valge",{"$f":"IF(B1392='Üldine info'!$C$5,C1392,\"\")","v":""}]
[null,"NAIDIS-U1","Näidistoode U1",{"$f":"IF(B1393='Üldine info'!$C$5,C1393,\"\")","v":""}]
[null,"PR-10X10-U1","Värvinäidis 10*10cm U1",{"$f":"IF(B1394='Üldine info'!$C$5,C1394,\"\")","v":""}]
[null,null,"Otsitava artikli kirjeldus",{"$f":"ConCat(,D3:D1394)","v":"Valamu SK 2329L-83, U1"}]

{"sheet":"Lao määramine","index":6,"n_rows":10,"n_cols":4,"rows_kept":10,"cut":false,"hidden":false,"merged":[]}
[]
[]
[]
[]
[null,null,{"$f":"'Üldine info'!C6","v":"4A024"},{"$f":"LEFT(C5,1)","v":"4"}]
[null,null,null,{"$f":"IF($D$5=\"1\",\"Tootmine\",\"\")","v":""}]
[null,null,null,{"$f":"IF($D$5=\"2\",\"Tootmine 2\",\"\")","v":""}]
[null,null,null,{"$f":"IF($D$5=\"3\",\"Vormiosakond\",\"\")","v":""}]
[null,null,null,{"$f":"IF($D$5=\"4\",\"Peterburi ladu\",\"\")","v":"Peterburi ladu"}]
[null,null,null,{"$f":"CONCATENATE(D6,D7,D8,D9)","v":"Peterburi ladu"}]